BEGIN:VCALENDAR
VERSION:2.0
PRODID:-//Biermann Medizin - ECPv6.9.0//NONSGML v1.0//EN
CALSCALE:GREGORIAN
METHOD:PUBLISH
X-ORIGINAL-URL:https://biermann-medizin.de
X-WR-CALDESC:Veranstaltungen für Biermann Medizin
REFRESH-INTERVAL;VALUE=DURATION:PT1H
X-Robots-Tag:noindex
X-PUBLISHED-TTL:PT1H
BEGIN:VTIMEZONE
TZID:Europe/Berlin
BEGIN:DAYLIGHT
TZOFFSETFROM:+0100
TZOFFSETTO:+0200
TZNAME:CEST
DTSTART:20260329T010000
END:DAYLIGHT
BEGIN:STANDARD
TZOFFSETFROM:+0200
TZOFFSETTO:+0100
TZNAME:CET
DTSTART:20261025T010000
END:STANDARD
END:VTIMEZONE
BEGIN:VEVENT
DTSTART;VALUE=DATE:20260610
DTEND;VALUE=DATE:20260611
DTSTAMP:20260419T195041
CREATED:20260302T155225Z
LAST-MODIFIED:20260302T155225Z
UID:487567-1781049600-1781135999@biermann-medizin.de
SUMMARY:Erweiterte Audiometrie mit objektiven Verfahren für Praxispersonal
DESCRIPTION:
URL:https://biermann-medizin.de/veranstaltung/erweiterte-audiometrie-mit-objektiven-verfahren-fuer-praxispersonal/
LOCATION:Diatec Diagnostics GmbH\, Hohenbuschei-Allee 2\, Dortmund\, 44309\, Germany
CATEGORIES:Hals-Nasen-Ohren-Heilkunde
END:VEVENT
BEGIN:VEVENT
DTSTART;VALUE=DATE:20260610
DTEND;VALUE=DATE:20260612
DTSTAMP:20260419T195041
CREATED:20251215T153651Z
LAST-MODIFIED:20251215T153651Z
UID:472865-1781049600-1781222399@biermann-medizin.de
SUMMARY:HörHanse Tage 2026
DESCRIPTION:
URL:https://biermann-medizin.de/veranstaltung/hoerhanse-tage-2026/
LOCATION:Media Docks Lübeck\, Willy-Brandt-Allee 31\, Lübeck\, 23554\, Deutschland
CATEGORIES:Hals-Nasen-Ohren-Heilkunde
END:VEVENT
BEGIN:VEVENT
DTSTART;VALUE=DATE:20260610
DTEND;VALUE=DATE:20260612
DTSTAMP:20260419T195041
CREATED:20260302T162048Z
LAST-MODIFIED:20260302T162048Z
UID:487595-1781049600-1781222399@biermann-medizin.de
SUMMARY:HörHanse Tage 2026
DESCRIPTION:
URL:https://biermann-medizin.de/veranstaltung/hoerhanse-tage-2026-2/
LOCATION:Media Docks Lübeck\, Willy-Brandt-Allee 31\, Lübeck\, 23554\, Deutschland
CATEGORIES:Hals-Nasen-Ohren-Heilkunde
ORGANIZER;CN="Hanse Innovation Campus GmbH":MAILTO:info@hoerhanse.de
END:VEVENT
BEGIN:VEVENT
DTSTART;VALUE=DATE:20260610
DTEND;VALUE=DATE:20260613
DTSTAMP:20260419T195041
CREATED:20260205T154635Z
LAST-MODIFIED:20260205T154635Z
UID:481554-1781049600-1781308799@biermann-medizin.de
SUMMARY:EADV Course: Tropical Dermatology
DESCRIPTION:
URL:https://biermann-medizin.de/veranstaltung/eadv-course-tropical-dermatology/
LOCATION:Amsterdam\, Amsterdam\, Niederlande
CATEGORIES:Dermatologie & Allergologie
ORGANIZER;CN="European Academy of Dermatology and Venereology (EADV)":MAILTO:eadvoffice@eadv.org
END:VEVENT
BEGIN:VEVENT
DTSTART;VALUE=DATE:20260610
DTEND;VALUE=DATE:20260614
DTSTAMP:20260419T195041
CREATED:20251113T140425Z
LAST-MODIFIED:20251113T140425Z
UID:465435-1781049600-1781395199@biermann-medizin.de
SUMMARY:66. Jahrestagung der Südwestdeutschen Gesellschaft für Urologie e.V.
DESCRIPTION:
URL:https://biermann-medizin.de/veranstaltung/66-jahrestagung-der-suedwestdeutschen-gesellschaft-fuer-urologie-e-v/
LOCATION:Rhein-Mosel-Halle Koblenz\, Julius-Wegeler-Straße 4\, Koblenz\, 56068\, Deutschland
CATEGORIES:Urologie
END:VEVENT
BEGIN:VEVENT
DTSTART;VALUE=DATE:20260610
DTEND;VALUE=DATE:20260614
DTSTAMP:20260419T195041
CREATED:20260122T175912Z
LAST-MODIFIED:20260122T175912Z
UID:478041-1781049600-1781395199@biermann-medizin.de
SUMMARY:66. Jahrestagung der Südwestdeutschen Gesellschaft für Urologie
DESCRIPTION:
URL:https://biermann-medizin.de/veranstaltung/66-jahrestagung-der-suedwestdeutschen-gesellschaft-fuer-urologie/
LOCATION:Rhein-Mosel-Halle Koblenz\, Julius-Wegeler-Straße 4\, Koblenz\, 56068\, Deutschland
CATEGORIES:Urologie
END:VEVENT
BEGIN:VEVENT
DTSTART;VALUE=DATE:20260610
DTEND;VALUE=DATE:20260614
DTSTAMP:20260419T195041
CREATED:20260204T082819Z
LAST-MODIFIED:20260204T082819Z
UID:480985-1781049600-1781395199@biermann-medizin.de
SUMMARY:Allgemeinmedizin Refresher Köln (Programm B\, hybrid)
DESCRIPTION:
URL:https://biermann-medizin.de/veranstaltung/allgemeinmedizin-refresher-koeln-programm-b-hybrid/
LOCATION:KOMED im Mediapark\, Im MediaPark 6\, Köln\, 50670\, Germany
CATEGORIES:Allgemeinmedizin
ORGANIZER;CN="Forum f%C3%BCr medizinische Fortbildung - FomF GmbH":MAILTO:info@fomf.de
END:VEVENT
BEGIN:VEVENT
DTSTART;VALUE=DATE:20260610
DTEND;VALUE=DATE:20260614
DTSTAMP:20260419T195041
CREATED:20260415T171837Z
LAST-MODIFIED:20260415T171837Z
UID:497308-1781049600-1781395199@biermann-medizin.de
SUMMARY:ISMICS Annual Scientific Meeting
DESCRIPTION:
URL:https://biermann-medizin.de/veranstaltung/ismics-annual-scientific-meeting/
LOCATION:The Fontainebleau Miami Beach\, 4441 Collins Avenue\, Miami Beach\, FL 33140\, United States
CATEGORIES:Kardiologie
END:VEVENT
BEGIN:VEVENT
DTSTART;TZID=Europe/Berlin:20260610T153000
DTEND;TZID=Europe/Berlin:20260610T170000
DTSTAMP:20260419T195041
CREATED:20260302T161439Z
LAST-MODIFIED:20260302T161439Z
UID:487580-1781105400-1781110800@biermann-medizin.de
SUMMARY:DGMP-Akademie: Vertäubung bei SSD im Rahmen der Diagnostik vor/nach CI
DESCRIPTION:
URL:https://biermann-medizin.de/veranstaltung/dgmp-akademie-vertaeubung-bei-ssd-im-rahmen-der-diagnostik-vornach-ci/
LOCATION:Online
CATEGORIES:Hals-Nasen-Ohren-Heilkunde
END:VEVENT
BEGIN:VEVENT
DTSTART;TZID=Europe/Berlin:20260610T170000
DTEND;TZID=Europe/Berlin:20260610T200000
DTSTAMP:20260419T195041
CREATED:20260411T135059Z
LAST-MODIFIED:20260411T135059Z
UID:496056-1781110800-1781121600@biermann-medizin.de
SUMMARY:ASCO Nachlese
DESCRIPTION:Programm \n\nMalignes Melanom\nLungenkarzinom\nGastrointestinale Tumore\nMammakarzinom und gynäkologische Tumore\nUroonkologie\nSarkome
URL:https://biermann-medizin.de/veranstaltung/asco-nachlese/
LOCATION:CRTD / DFG-Forschungszentrum für Regenerative Therapien Dresden\, Fetscherstraße 105\, Dresden\, 01307\, Deutschland
CATEGORIES:Pneumologie,Urologie,Dermatologie & Allergologie,Gastroenterologie,Gynäkologie,Onkologie
ORGANIZER;CN="GWT-TUD GmbH":MAILTO:contact@gwtonline.de
END:VEVENT
BEGIN:VEVENT
DTSTART;TZID=Europe/Berlin:20260610T180000
DTEND;TZID=Europe/Berlin:20260610T193000
DTSTAMP:20260419T195041
CREATED:20260302T155744Z
LAST-MODIFIED:20260302T155744Z
UID:487573-1781114400-1781119800@biermann-medizin.de
SUMMARY:Alles über Insomnie in 90 Minuten: Warum Schlaflosigkeit mehr ist als ein Symptom
DESCRIPTION:
URL:https://biermann-medizin.de/veranstaltung/alles-ueber-insomnie-in-90-minuten-warum-schlaflosigkeit-mehr-ist-als-ein-symptom/
LOCATION:Online
CATEGORIES:Hals-Nasen-Ohren-Heilkunde
END:VEVENT
BEGIN:VEVENT
DTSTART;TZID=Europe/Berlin:20260610T180000
DTEND;TZID=Europe/Berlin:20260610T203000
DTSTAMP:20260419T195041
CREATED:20251114T133840Z
LAST-MODIFIED:20251114T133840Z
UID:465946-1781114400-1781123400@biermann-medizin.de
SUMMARY:AKO Symposium „Was ändert sich in der Uro-Onkologie" (4 Teiler)
DESCRIPTION:4. Block
URL:https://biermann-medizin.de/veranstaltung/akoauo-intensivkurs-uro-onkologie-1-teil-2026-2-2-2-2-2-2-2-2/
LOCATION:Online
CATEGORIES:Urologie,Onkologie
ORGANIZER;CN="Solution Akademie GmbH":MAILTO:info@solution-akademie.de
END:VEVENT
BEGIN:VEVENT
DTSTART;VALUE=DATE:20260611
DTEND;VALUE=DATE:20260613
DTSTAMP:20260419T195041
CREATED:20260219T180608Z
LAST-MODIFIED:20260219T180608Z
UID:485206-1781136000-1781308799@biermann-medizin.de
SUMMARY:Bilio-pankreatische Intervention
DESCRIPTION:
URL:https://biermann-medizin.de/veranstaltung/bilio-pankreatische-intervention/
LOCATION:Klinikum Ludwigshafen am Rhein gGmbH\, Bremserstraße 79\, Ludwigshafen\, 67063
CATEGORIES:Gastroenterologie
ORGANIZER;CN="ENDOAkademie e.V.%2C Katharina H%C3%B6ger":MAILTO:katharina.hoeger@outlook.de
END:VEVENT
BEGIN:VEVENT
DTSTART;VALUE=DATE:20260611
DTEND;VALUE=DATE:20260614
DTSTAMP:20260419T195041
CREATED:20250911T140531Z
LAST-MODIFIED:20251008T115119Z
UID:450343-1781136000-1781395199@biermann-medizin.de
SUMMARY:68. Kongress der Deutschen STI-Gesellschaft
DESCRIPTION:zusammen mit der 25. Jahrestagung der Arbeitsgemeinschaft für Dermatologische Infektiologie und Tropendermatologie und der 13. Jahrestagung der International Society of Dermatology in the Tropics \nTagungsthema: Sexuelle Gesundheit\, infektiöse und tropische Erkrankungen in Zeiten des Umbruchs
URL:https://biermann-medizin.de/veranstaltung/68-kongress-der-deutschen-sti-gesellschaft/
LOCATION:Charité Campus Virchow-Klinikum
CATEGORIES:Urologie,Dermatologie & Allergologie,Infektiologie,Gynäkologie
END:VEVENT
BEGIN:VEVENT
DTSTART;VALUE=DATE:20260611
DTEND;VALUE=DATE:20260614
DTSTAMP:20260419T195041
CREATED:20260120T155306Z
LAST-MODIFIED:20260120T155306Z
UID:477399-1781136000-1781395199@biermann-medizin.de
SUMMARY:45. Jahreskongress der Deutschen Gesellschaft für Senologie
DESCRIPTION:
URL:https://biermann-medizin.de/veranstaltung/45-jahreskongress-der-deutschen-gesellschaft-fuer-senologie/
LOCATION:ICM – Internationales Congress Center München\, Messe München\, Messegelände\, München\, 81823\, Deutschland
CATEGORIES:Gynäkologie,Onkologie
ORGANIZER;CN="Deutsche Gesellschaft f%C3%BCr Senologie e.V. (DGS)":MAILTO:senologie@kelcon.de
END:VEVENT
BEGIN:VEVENT
DTSTART;VALUE=DATE:20260611
DTEND;VALUE=DATE:20260614
DTSTAMP:20260419T195041
CREATED:20260224T151624Z
LAST-MODIFIED:20260224T151624Z
UID:486131-1781136000-1781395199@biermann-medizin.de
SUMMARY:24. Münchner Neuroradiologie-Symposium
DESCRIPTION:
URL:https://biermann-medizin.de/veranstaltung/24-muenchner-neuroradiologie-symposium/
LOCATION:Kardinal Wendel Haus – München\, Mandlstraße 23\, München\, 80802\, Deutschland
CATEGORIES:Radiologie,Neurologie & Psychiatrie
ORGANIZER;CN="COCS GmbH %E2%80%93 Congress Organisation C. Sch%C3%A4fer":MAILTO:kongresse@cocs.de
END:VEVENT
BEGIN:VEVENT
DTSTART;VALUE=DATE:20260611
DTEND;VALUE=DATE:20260614
DTSTAMP:20260419T195041
CREATED:20260415T174820Z
LAST-MODIFIED:20260415T174820Z
UID:497319-1781136000-1781395199@biermann-medizin.de
SUMMARY:International CTEPH Conference 2026
DESCRIPTION:
URL:https://biermann-medizin.de/veranstaltung/international-cteph-conference-2026/
LOCATION:Hotel Sheraton Grand Warsaw\, Bolesława Prusa 2\, Warschau\, 00-453\, Poland
CATEGORIES:Pneumologie,Kardiologie
ORGANIZER;CN="Promotion Plus El%C5%BCbieta Multan-Putur":MAILTO:info@cteph2026.org
END:VEVENT
BEGIN:VEVENT
DTSTART;VALUE=DATE:20260611
DTEND;VALUE=DATE:20260615
DTSTAMP:20260419T195041
CREATED:20260315T141712Z
LAST-MODIFIED:20260315T141712Z
UID:490512-1781136000-1781481599@biermann-medizin.de
SUMMARY:AECOS 2026 Europe Symposium
DESCRIPTION:
URL:https://biermann-medizin.de/veranstaltung/aecos-2026-europe-symposium/
LOCATION:Hotel NH Collection Madrid Eurobuilding\, Padre Damián\, 23\, Madrid\, 28036\, Spain
CATEGORIES:Ophthalmologie
END:VEVENT
BEGIN:VEVENT
DTSTART;VALUE=DATE:20260611
DTEND;VALUE=DATE:20260615
DTSTAMP:20260419T195041
CREATED:20260411T141649Z
LAST-MODIFIED:20260411T141649Z
UID:496058-1781136000-1781481599@biermann-medizin.de
SUMMARY:EHA 2026 Congress
DESCRIPTION:Hybrid-Event
URL:https://biermann-medizin.de/veranstaltung/eha-2026-congress/
LOCATION:Stockholm\, Stockholm\, Schweden
CATEGORIES:Onkologie
ORGANIZER;CN="EHA Executive Office":MAILTO:info@ehaweb.org
END:VEVENT
BEGIN:VEVENT
DTSTART;VALUE=DATE:20260612
DTEND;VALUE=DATE:20260614
DTSTAMP:20260419T195041
CREATED:20251117T140609Z
LAST-MODIFIED:20251117T140609Z
UID:466156-1781222400-1781395199@biermann-medizin.de
SUMMARY:AKO Symposium Leipzig 2026
DESCRIPTION:
URL:https://biermann-medizin.de/veranstaltung/ako-symposium-leipzig-2026/
LOCATION:Radisson Blu Hotel Leipzig\, Augustusplatz 5/6\, Leipzig\, 04109
CATEGORIES:Urologie
ORGANIZER;CN="Solution Akademie GmbH":MAILTO:info@solution-akademie.de
END:VEVENT
BEGIN:VEVENT
DTSTART;VALUE=DATE:20260612
DTEND;VALUE=DATE:20260614
DTSTAMP:20260419T195041
CREATED:20260122T155633Z
LAST-MODIFIED:20260122T155633Z
UID:478007-1781222400-1781395199@biermann-medizin.de
SUMMARY:11. Interdisziplinäres Symposium der AG Diabetes\, Sport und Bewegung der DDG e. V.
DESCRIPTION:
URL:https://biermann-medizin.de/veranstaltung/11-interdisziplinaeres-symposium-der-ag-diabetes-sport-und-bewegung-der-ddg-e-v/
LOCATION:Zwickau
CATEGORIES:Diabetologie & Endokrinologie
ORGANIZER;CN="Deutsche Diabetes Gesellschaft (DDG) e.V.":MAILTO:info@ddg.info
END:VEVENT
BEGIN:VEVENT
DTSTART;VALUE=DATE:20260612
DTEND;VALUE=DATE:20260614
DTSTAMP:20260419T195041
CREATED:20260219T180936Z
LAST-MODIFIED:20260219T180936Z
UID:485210-1781222400-1781395199@biermann-medizin.de
SUMMARY:Gastroskopie
DESCRIPTION:
URL:https://biermann-medizin.de/veranstaltung/gastroskopie/
LOCATION:KRH Klinikum Siloah\, Klinik für Gastroenterologie\, interventionelle Endoskopie und Diabetologie\, Stadionbrücke 4\, Hannover\, 30459\, Deutschland
CATEGORIES:Gastroenterologie
ORGANIZER;CN="ENDOAkademie e.V.%2C Katharina H%C3%B6ger":MAILTO:katharina.hoeger@outlook.de
END:VEVENT
BEGIN:VEVENT
DTSTART;VALUE=DATE:20260612
DTEND;VALUE=DATE:20260614
DTSTAMP:20260419T195041
CREATED:20260302T171315Z
LAST-MODIFIED:20260302T171315Z
UID:487607-1781222400-1781395199@biermann-medizin.de
SUMMARY:Deutsch-französischer HNO-Kongress
DESCRIPTION:
URL:https://biermann-medizin.de/veranstaltung/deutsch-franzoesischer-hno-kongress-2/
LOCATION:Klinik und Poliklinik für Hals-\, Nasen- und Ohrenheilkunde\, Uniklinik Köln\, Kerpener Straße 62\, Gebäude 23\, Köln\, 50937
CATEGORIES:Hals-Nasen-Ohren-Heilkunde
END:VEVENT
BEGIN:VEVENT
DTSTART;VALUE=DATE:20260612
DTEND;VALUE=DATE:20260614
DTSTAMP:20260419T195041
CREATED:20260312T175348Z
LAST-MODIFIED:20260312T175348Z
UID:490242-1781222400-1781395199@biermann-medizin.de
SUMMARY:Nephro Update 2026 (hybrid)
DESCRIPTION:Programm: \nArterielle Hypertonie; Chronische Nierenerkrankung; Nephropathologie; Diabetische Nephropathie; Kardiovaskuläre Komplikationen; Vaskulitiden und TMA; Lupus; ADPKD/genetische Nierenerkrankungen; Glomerulonephritiden; Hot Topic: Pädiatrische Nephrologie/Transition; Akutes Nierenversagen; Hämodialyse; Transplantation; Infektionen unter Immunsuppression \n 
URL:https://biermann-medizin.de/veranstaltung/nephro-update-2026-hybrid/
LOCATION:Hilton Berlin\, Anton-Wilhelm-Amo-Straße 30\, Berlin\, 10117
CATEGORIES:Nephrologie
ORGANIZER;CN="wikonect GmbH":MAILTO:info@wikonect.de
END:VEVENT
BEGIN:VEVENT
DTSTART;VALUE=DATE:20260612
DTEND;VALUE=DATE:20260614
DTSTAMP:20260419T195041
CREATED:20260415T175444Z
LAST-MODIFIED:20260415T175444Z
UID:497326-1781222400-1781395199@biermann-medizin.de
SUMMARY:ACNAP 2026
DESCRIPTION:
URL:https://biermann-medizin.de/veranstaltung/acnap-2026/
LOCATION:European Society of Cardiology – The European Heart House – Les Templiers\, 2035 Route des Colles\, CS 80179 BIOT\, SOPHIA ANTIPOLIS Cedex\, 06903\, Frankreich
CATEGORIES:Kardiologie
END:VEVENT
BEGIN:VEVENT
DTSTART;VALUE=DATE:20260612
DTEND;VALUE=DATE:20260615
DTSTAMP:20260419T195041
CREATED:20260413T164039Z
LAST-MODIFIED:20260413T164039Z
UID:496438-1781222400-1781481599@biermann-medizin.de
SUMMARY:ESMO Targeted Anticancer Therapies Asia Congress
DESCRIPTION:
URL:https://biermann-medizin.de/veranstaltung/esmo-targeted-anticancer-therapies-asia-congress/
LOCATION:Kerry Hotel Hong Kong\, 38 Hung Luen Road\, Hung Hom Bay\, Kowloon\, Hong Kong SAR\, China
CATEGORIES:Onkologie
ORGANIZER;CN="European Society for Medical Oncology (ESMO)":MAILTO:esmo@esmo.org
END:VEVENT
BEGIN:VEVENT
DTSTART;TZID=Europe/Berlin:20260612T090000
DTEND;TZID=Europe/Berlin:20260612T153000
DTSTAMP:20260419T195041
CREATED:20260303T154307Z
LAST-MODIFIED:20260303T154307Z
UID:487883-1781254800-1781278200@biermann-medizin.de
SUMMARY:Biomaterialien und Techniken zur Mastoidobliteration
DESCRIPTION:
URL:https://biermann-medizin.de/veranstaltung/biomaterialien-und-techniken-zur-mastoidobliteration-2/
LOCATION:Universitätsklinikum Carl Gustav Carus\, Klinik und Poliklinik für Hals-\, Nasen- und Ohrenheilkunde\, Fetscherstraße 74\, Dresden\, 01307\, Deutschland
CATEGORIES:Hals-Nasen-Ohren-Heilkunde
ORGANIZER;CN="GWT-TUD GmbH":MAILTO:contact@gwtonline.de
END:VEVENT
BEGIN:VEVENT
DTSTART;TZID=Europe/Berlin:20260612T120000
DTEND;TZID=Europe/Berlin:20260613T163000
DTSTAMP:20260419T195041
CREATED:20260413T112401Z
LAST-MODIFIED:20260413T112401Z
UID:496246-1781265600-1781368200@biermann-medizin.de
SUMMARY:Kinder- und Jugendärztetag 2026
DESCRIPTION:Adipositas\, Infektologie-Quiz\, Regulationsstörungen\, Post-COVID\, Leitlinie Fiebermanagement\, Asthma\, Kindergynäkologie\, Dermatologie\, Controlling\, ADHS u.v.m.
URL:https://biermann-medizin.de/veranstaltung/kinder-und-jugendaerztetag-2026/
LOCATION:Dorint Kongresshotel Mannheim\, Friedrichsring 6\, Mannheim\, 68161\, Deutschland
CATEGORIES:Kinder- und Jugendmedizin
ORGANIZER;CN="Berufsverband der Kinder- und Jugend%C3%A4rzt*innen e.V.":MAILTO:veranstaltungen@bvkj.de
END:VEVENT
BEGIN:VEVENT
DTSTART;VALUE=DATE:20260613
DTEND;VALUE=DATE:20260614
DTSTAMP:20260419T195041
CREATED:20260216T182549Z
LAST-MODIFIED:20260216T182549Z
UID:483906-1781308800-1781395199@biermann-medizin.de
SUMMARY:DGS-Schmerzmedizin UP-TO-DATE 2026
DESCRIPTION:
URL:https://biermann-medizin.de/veranstaltung/dgs-schmerzmedizin-up-to-date-2026-4/
LOCATION:Kassel
CATEGORIES:Schmerzmedizin
ORGANIZER;CN="Deutsche Gesellschaft f%C3%BCr Schmerzmedizin e.V. (DGS)":MAILTO:info@dgschmerzmedizin.de
END:VEVENT
BEGIN:VEVENT
DTSTART;VALUE=DATE:20260613
DTEND;VALUE=DATE:20260614
DTSTAMP:20260419T195041
CREATED:20260314T160254Z
LAST-MODIFIED:20260314T160254Z
UID:490496-1781308800-1781395199@biermann-medizin.de
SUMMARY:Sommertagung der Berlin-Brandenburgischen Augenärztlichen Gesellschaft
DESCRIPTION:
URL:https://biermann-medizin.de/veranstaltung/sommertagung-der-berlin-brandenburgischen-augenaerztlichen-gesellschaft-2/
LOCATION:Frankfurt/Oder
CATEGORIES:Ophthalmologie
ORGANIZER;CN="Congress-Organisation Gerling GmbH":MAILTO:info@congresse.de
END:VEVENT
END:VCALENDAR