BEGIN:VCALENDAR
VERSION:2.0
PRODID:-//Biermann Medizin - ECPv6.9.0//NONSGML v1.0//EN
CALSCALE:GREGORIAN
METHOD:PUBLISH
X-ORIGINAL-URL:https://biermann-medizin.de
X-WR-CALDESC:Veranstaltungen für Biermann Medizin
REFRESH-INTERVAL;VALUE=DURATION:PT1H
X-Robots-Tag:noindex
X-PUBLISHED-TTL:PT1H
BEGIN:VTIMEZONE
TZID:Europe/Berlin
BEGIN:DAYLIGHT
TZOFFSETFROM:+0100
TZOFFSETTO:+0200
TZNAME:CEST
DTSTART:20260329T010000
END:DAYLIGHT
BEGIN:STANDARD
TZOFFSETFROM:+0200
TZOFFSETTO:+0100
TZNAME:CET
DTSTART:20261025T010000
END:STANDARD
END:VTIMEZONE
BEGIN:VEVENT
DTSTART;VALUE=DATE:20260612
DTEND;VALUE=DATE:20260614
DTSTAMP:20260420T002842
CREATED:20260312T175348Z
LAST-MODIFIED:20260312T175348Z
UID:490242-1781222400-1781395199@biermann-medizin.de
SUMMARY:Nephro Update 2026 (hybrid)
DESCRIPTION:Programm: \nArterielle Hypertonie; Chronische Nierenerkrankung; Nephropathologie; Diabetische Nephropathie; Kardiovaskuläre Komplikationen; Vaskulitiden und TMA; Lupus; ADPKD/genetische Nierenerkrankungen; Glomerulonephritiden; Hot Topic: Pädiatrische Nephrologie/Transition; Akutes Nierenversagen; Hämodialyse; Transplantation; Infektionen unter Immunsuppression \n 
URL:https://biermann-medizin.de/veranstaltung/nephro-update-2026-hybrid/
LOCATION:Hilton Berlin\, Anton-Wilhelm-Amo-Straße 30\, Berlin\, 10117
CATEGORIES:Nephrologie
ORGANIZER;CN="wikonect GmbH":MAILTO:info@wikonect.de
END:VEVENT
BEGIN:VEVENT
DTSTART;VALUE=DATE:20260612
DTEND;VALUE=DATE:20260614
DTSTAMP:20260420T002842
CREATED:20260415T175444Z
LAST-MODIFIED:20260415T175444Z
UID:497326-1781222400-1781395199@biermann-medizin.de
SUMMARY:ACNAP 2026
DESCRIPTION:
URL:https://biermann-medizin.de/veranstaltung/acnap-2026/
LOCATION:European Society of Cardiology – The European Heart House – Les Templiers\, 2035 Route des Colles\, CS 80179 BIOT\, SOPHIA ANTIPOLIS Cedex\, 06903\, Frankreich
CATEGORIES:Kardiologie
END:VEVENT
BEGIN:VEVENT
DTSTART;VALUE=DATE:20260612
DTEND;VALUE=DATE:20260615
DTSTAMP:20260420T002842
CREATED:20260413T164039Z
LAST-MODIFIED:20260413T164039Z
UID:496438-1781222400-1781481599@biermann-medizin.de
SUMMARY:ESMO Targeted Anticancer Therapies Asia Congress
DESCRIPTION:
URL:https://biermann-medizin.de/veranstaltung/esmo-targeted-anticancer-therapies-asia-congress/
LOCATION:Kerry Hotel Hong Kong\, 38 Hung Luen Road\, Hung Hom Bay\, Kowloon\, Hong Kong SAR\, China
CATEGORIES:Onkologie
ORGANIZER;CN="European Society for Medical Oncology (ESMO)":MAILTO:esmo@esmo.org
END:VEVENT
BEGIN:VEVENT
DTSTART;TZID=Europe/Berlin:20260612T090000
DTEND;TZID=Europe/Berlin:20260612T153000
DTSTAMP:20260420T002842
CREATED:20260303T154307Z
LAST-MODIFIED:20260303T154307Z
UID:487883-1781254800-1781278200@biermann-medizin.de
SUMMARY:Biomaterialien und Techniken zur Mastoidobliteration
DESCRIPTION:
URL:https://biermann-medizin.de/veranstaltung/biomaterialien-und-techniken-zur-mastoidobliteration-2/
LOCATION:Universitätsklinikum Carl Gustav Carus\, Klinik und Poliklinik für Hals-\, Nasen- und Ohrenheilkunde\, Fetscherstraße 74\, Dresden\, 01307\, Deutschland
CATEGORIES:Hals-Nasen-Ohren-Heilkunde
ORGANIZER;CN="GWT-TUD GmbH":MAILTO:contact@gwtonline.de
END:VEVENT
BEGIN:VEVENT
DTSTART;TZID=Europe/Berlin:20260612T120000
DTEND;TZID=Europe/Berlin:20260613T163000
DTSTAMP:20260420T002842
CREATED:20260413T112401Z
LAST-MODIFIED:20260413T112401Z
UID:496246-1781265600-1781368200@biermann-medizin.de
SUMMARY:Kinder- und Jugendärztetag 2026
DESCRIPTION:Adipositas\, Infektologie-Quiz\, Regulationsstörungen\, Post-COVID\, Leitlinie Fiebermanagement\, Asthma\, Kindergynäkologie\, Dermatologie\, Controlling\, ADHS u.v.m.
URL:https://biermann-medizin.de/veranstaltung/kinder-und-jugendaerztetag-2026/
LOCATION:Dorint Kongresshotel Mannheim\, Friedrichsring 6\, Mannheim\, 68161\, Deutschland
CATEGORIES:Kinder- und Jugendmedizin
ORGANIZER;CN="Berufsverband der Kinder- und Jugend%C3%A4rzt*innen e.V.":MAILTO:veranstaltungen@bvkj.de
END:VEVENT
BEGIN:VEVENT
DTSTART;VALUE=DATE:20260613
DTEND;VALUE=DATE:20260614
DTSTAMP:20260420T002842
CREATED:20260216T182549Z
LAST-MODIFIED:20260216T182549Z
UID:483906-1781308800-1781395199@biermann-medizin.de
SUMMARY:DGS-Schmerzmedizin UP-TO-DATE 2026
DESCRIPTION:
URL:https://biermann-medizin.de/veranstaltung/dgs-schmerzmedizin-up-to-date-2026-4/
LOCATION:Kassel
CATEGORIES:Schmerzmedizin
ORGANIZER;CN="Deutsche Gesellschaft f%C3%BCr Schmerzmedizin e.V. (DGS)":MAILTO:info@dgschmerzmedizin.de
END:VEVENT
BEGIN:VEVENT
DTSTART;VALUE=DATE:20260613
DTEND;VALUE=DATE:20260614
DTSTAMP:20260420T002842
CREATED:20260314T160254Z
LAST-MODIFIED:20260314T160254Z
UID:490496-1781308800-1781395199@biermann-medizin.de
SUMMARY:Sommertagung der Berlin-Brandenburgischen Augenärztlichen Gesellschaft
DESCRIPTION:
URL:https://biermann-medizin.de/veranstaltung/sommertagung-der-berlin-brandenburgischen-augenaerztlichen-gesellschaft-2/
LOCATION:Frankfurt/Oder
CATEGORIES:Ophthalmologie
ORGANIZER;CN="Congress-Organisation Gerling GmbH":MAILTO:info@congresse.de
END:VEVENT
BEGIN:VEVENT
DTSTART;VALUE=DATE:20260613
DTEND;VALUE=DATE:20260614
DTSTAMP:20260420T002842
CREATED:20260411T142712Z
LAST-MODIFIED:20260411T142712Z
UID:496063-1781308800-1781395199@biermann-medizin.de
SUMMARY:GI-Oncology – 22. Interdisziplinäres Update
DESCRIPTION:Programm: \n\nHepatobiliäre Tumore\nGastroösophageale Tumore\nPankreaskarzinom / NET\nWas bringt das Modellvorhaben Genomsequenzierung für Patienten?\nKolonkarzinom\nRektumkarzinom
URL:https://biermann-medizin.de/veranstaltung/gi-oncology-22-interdisziplinaeres-update/
LOCATION:RheinMain Congress Center Wiesbaden\, Friedrich-Ebert-Allee 1\, Wiesbaden\, Hessen\, 65185\, Deutschland
CATEGORIES:Gastroenterologie,Onkologie
ORGANIZER;CN="Kongress- und Kulturmanagement GmbH (KUKM)":MAILTO:info@kukm.de
END:VEVENT
BEGIN:VEVENT
DTSTART;VALUE=DATE:20260613
DTEND;VALUE=DATE:20260617
DTSTAMP:20260420T002842
CREATED:20260331T162840Z
LAST-MODIFIED:20260331T162840Z
UID:494029-1781308800-1781654399@biermann-medizin.de
SUMMARY:ENDO 2026
DESCRIPTION:
URL:https://biermann-medizin.de/veranstaltung/endo-2026/
LOCATION:McCormick Place\, 2301 S King Dr\, Chicago\, IL\, 60616\, Vereinigte Staaten
CATEGORIES:Diabetologie & Endokrinologie
ORGANIZER;CN="Endocrine Society":MAILTO:info@endocrine.org
END:VEVENT
BEGIN:VEVENT
DTSTART;TZID=Europe/Berlin:20260613T130000
DTEND;TZID=Europe/Berlin:20260613T150000
DTSTAMP:20260420T002842
CREATED:20260319T182038Z
LAST-MODIFIED:20260319T182038Z
UID:491821-1781355600-1781362800@biermann-medizin.de
SUMMARY:IUSG-Webinar 54: Dots from the Middle East
DESCRIPTION:
URL:https://biermann-medizin.de/veranstaltung/iusg-webinar-54-dots-from-the-middle-east/
LOCATION:Online
CATEGORIES:Ophthalmologie
ORGANIZER;CN="International Uveitis Study Group (IUSG)":MAILTO:office@iusg.net
END:VEVENT
BEGIN:VEVENT
DTSTART;VALUE=DATE:20260615
DTEND;VALUE=DATE:20260617
DTSTAMP:20260420T002842
CREATED:20260411T143139Z
LAST-MODIFIED:20260411T143139Z
UID:496065-1781481600-1781654399@biermann-medizin.de
SUMMARY:Vision Zero Berlin Summit
DESCRIPTION:
URL:https://biermann-medizin.de/veranstaltung/vision-zero-berlin-summit/
LOCATION:Online
CATEGORIES:Onkologie
ORGANIZER;CN="Vision Zero e.V.":MAILTO:info@vision-zero-oncology.de
END:VEVENT
BEGIN:VEVENT
DTSTART;VALUE=DATE:20260616
DTEND;VALUE=DATE:20260618
DTSTAMP:20260420T002842
CREATED:20260126T160838Z
LAST-MODIFIED:20260126T160838Z
UID:478577-1781568000-1781740799@biermann-medizin.de
SUMMARY:New frontiers of respiratory health: the present and future of early detection
DESCRIPTION:Session 1: Lung Cancer Screening: a pivotal opportunity for pulmonology EU Cancer Plan\nSession 2: Health checks – a comprehensive approach to awareness and detection\nSession 3: From possibility to reality: delivering on AI’s promise\nSession 4: Biotechnology: the future for respiratory diseases?
URL:https://biermann-medizin.de/veranstaltung/new-frontiers-of-respiratory-health-the-present-and-future-of-early-detection/
LOCATION:Warschau\, Warschau\, Poland
CATEGORIES:Pneumologie
ORGANIZER;CN="European Respiratory Society (ERS)":MAILTO:education@ersnet.org
END:VEVENT
BEGIN:VEVENT
DTSTART;TZID=Europe/Berlin:20260616T080000
DTEND;TZID=Europe/Berlin:20260620T170000
DTSTAMP:20260420T002842
CREATED:20260203T112040Z
LAST-MODIFIED:20260203T112040Z
UID:480799-1781596800-1781974800@biermann-medizin.de
SUMMARY:Allgemein- und Innere Medizin Refresher (Programm A)
DESCRIPTION:
URL:https://biermann-medizin.de/veranstaltung/allgemein-und-innere-medizin-refresher-programm-a/
LOCATION:Design Offices Leipzig Post\, Augustusplatz 1-4\, Leipzig\, 04109\, Germany
CATEGORIES:Allgemeinmedizin,Kardiologie
ORGANIZER;CN="Forum f%C3%BCr medizinische Fortbildung - FomF GmbH":MAILTO:info@fomf.de
END:VEVENT
BEGIN:VEVENT
DTSTART;VALUE=DATE:20260617
DTEND;VALUE=DATE:20260620
DTSTAMP:20260420T002842
CREATED:20251126T132920Z
LAST-MODIFIED:20251126T133351Z
UID:468659-1781654400-1781913599@biermann-medizin.de
SUMMARY:52. Jahrestagung der Gesellschaft für Neonatologie und Pädiatrische Intensivmedizin
DESCRIPTION:
URL:https://biermann-medizin.de/veranstaltung/52-jahrestagung-der-gesellschaft-fuer-neonatologie-und-paediatrische-intensivmedizin/
LOCATION:Congress Center Mannheimer Rosengarten\, Rosengartenplatz 2\, Mannheim\, 68161\, Deutschland
CATEGORIES:Allgemeinmedizin,Anästhesiologie & Intensivmedizin,Kinder- und Jugendmedizin,Gynäkologie
ORGANIZER;CN="m%3Acon %E2%80%93 mannheim%3Acongress GmbH":MAILTO:info@mcon-mannheim.de
END:VEVENT
BEGIN:VEVENT
DTSTART;VALUE=DATE:20260617
DTEND;VALUE=DATE:20260620
DTSTAMP:20260420T002842
CREATED:20260205T155145Z
LAST-MODIFIED:20260205T155145Z
UID:481556-1781654400-1781913599@biermann-medizin.de
SUMMARY:EADV Course: Bases of Bioinformatics for Physician-Scientists: From Clinical Questions to Multi-Omics Integration
DESCRIPTION:
URL:https://biermann-medizin.de/veranstaltung/eadv-course-bases-of-bioinformatics-for-physician-scientists-from-clinical-questions-to-multi-omics-integration/
LOCATION:Mailand
CATEGORIES:Dermatologie & Allergologie
ORGANIZER;CN="European Academy of Dermatology and Venereology (EADV)":MAILTO:eadvoffice@eadv.org
END:VEVENT
BEGIN:VEVENT
DTSTART;VALUE=DATE:20260617
DTEND;VALUE=DATE:20260620
DTSTAMP:20260420T002842
CREATED:20260222T132546Z
LAST-MODIFIED:20260222T132546Z
UID:485646-1781654400-1781913599@biermann-medizin.de
SUMMARY:52. Jahrestagung der Gesellschaft für Neonatologie und Pädiatrische Intensivmedizin
DESCRIPTION:
URL:https://biermann-medizin.de/veranstaltung/52-jahrestagung-der-gesellschaft-fuer-neonatologie-und-paediatrische-intensivmedizin-2/
LOCATION:Congress Center Rosengarten Mannheim\, Rosengartenplatz 2\, Mannheim\, 68161\, Germany
CATEGORIES:Kinder- und Jugendmedizin
ORGANIZER;CN="m%3Acon %E2%80%93 mannheim%3Acongress GmbH":MAILTO:info@mcon-mannheim.de
END:VEVENT
BEGIN:VEVENT
DTSTART;VALUE=DATE:20260617
DTEND;VALUE=DATE:20260620
DTSTAMP:20260420T002842
CREATED:20260413T164252Z
LAST-MODIFIED:20260413T164252Z
UID:496442-1781654400-1781913599@biermann-medizin.de
SUMMARY:ESMO Gynaecological Cancers Congress 2026
DESCRIPTION:
URL:https://biermann-medizin.de/veranstaltung/esmo-gynaecological-cancers-congress-2026/
LOCATION:Bella Center Copenhagen\, Center Blvd. 5\, København\, 2300\, Dänemark
CATEGORIES:Gynäkologie,Onkologie
ORGANIZER;CN="European Society for Medical Oncology (ESMO)":MAILTO:esmo@esmo.org
END:VEVENT
BEGIN:VEVENT
DTSTART;VALUE=DATE:20260617
DTEND;VALUE=DATE:20260621
DTSTAMP:20260420T002842
CREATED:20251118T082910Z
LAST-MODIFIED:20260113T124029Z
UID:466326-1781654400-1781999999@biermann-medizin.de
SUMMARY:22nd European Congress on Digital Pathology
DESCRIPTION:Themen u.a.: Pathologie im Zeitalter integrativer Diagnostik / Künstliche Intelligenz in der Routine-Diagnostik / von Innovation zu Regulierung / 3D-Visualisierung / virtuelles Staining
URL:https://biermann-medizin.de/veranstaltung/22nd-european-congress-on-digital-pathology/
LOCATION:Congress Graz\, Albrechtgasse 1\, Graz\, 8010\, Österreich
CATEGORIES:Labormedizin
ORGANIZER;CN="European Society of Digital and Integrative Pathology":MAILTO:office@esdipath.org
END:VEVENT
BEGIN:VEVENT
DTSTART;VALUE=DATE:20260617
DTEND;VALUE=DATE:20260621
DTSTAMP:20260420T002842
CREATED:20260222T134050Z
LAST-MODIFIED:20260222T134050Z
UID:485648-1781654400-1781999999@biermann-medizin.de
SUMMARY:17. Kongress für Infektionskrankheiten und Tropenmedizin
DESCRIPTION:
URL:https://biermann-medizin.de/veranstaltung/17-kongress-fuer-infektionskrankheiten-und-tropenmedizin/
LOCATION:Gürzenich Köln\, Martinstr. 29-37\, 50667 Köln\, Germany
CATEGORIES:Kinder- und Jugendmedizin,Infektiologie
ORGANIZER;CN="COCS GmbH %E2%80%93 Congress Organisation C. Sch%C3%A4fer%2C Vanessa Gridelli-Klaus%2C Stefanie Bethmann%2C Claudia Sch%C3%A4fer":MAILTO:kit@cocs.de
END:VEVENT
BEGIN:VEVENT
DTSTART;TZID=Europe/Berlin:20260617T180000
DTEND;TZID=Europe/Berlin:20260617T213000
DTSTAMP:20260420T002842
CREATED:20251117T141718Z
LAST-MODIFIED:20251117T141718Z
UID:466167-1781719200-1781731800@biermann-medizin.de
SUMMARY:Uro- Onkologisches Sommer-Symposium
DESCRIPTION:
URL:https://biermann-medizin.de/veranstaltung/uro-onkologisches-sommer-symposium-2/
LOCATION:Media Docks Lübeck\, Willy-Brandt-Allee 31\, Lübeck\, 23554\, Deutschland
CATEGORIES:Urologie,Onkologie
ORGANIZER;CN="Solution Akademie GmbH":MAILTO:info@solution-akademie.de
END:VEVENT
BEGIN:VEVENT
DTSTART;VALUE=DATE:20260618
DTEND;VALUE=DATE:20260620
DTSTAMP:20260420T002842
CREATED:20260225T175401Z
LAST-MODIFIED:20260225T175401Z
UID:486646-1781740800-1781913599@biermann-medizin.de
SUMMARY:Viszeralmedizin NRW 2026
DESCRIPTION:Themenschwerpunkte: \n\nUpdate Hepatologie: Virushepatitis\, MASLD und cholestatische Lebererkrankungen\nInnovationen in der minimalinvasiven Chirurgie und interventionellen Endoskopie\nMultimodale Therapieansätze in der viszeralmedizinischen Onkologie\nNeue Aspekte und medikamentöse Therapiekonzepte bei chronisch entzündlichen Darmerkrankungen\nInterdisziplinäre Therapie-Konzepte bei metabolischen Erkrankungen\nMikrobiom und Ernährung\nBewährtes und Neues bei gastrointestinalen Infektionen\nNeue Therapieprinzipien und Medikamente in der Gastroenterologie\nAktuelle Trends in der Versorgung von Hernien\nRoboter-assistierte OP-Verfahren
URL:https://biermann-medizin.de/veranstaltung/viszeralmedizin-nrw-2026/
LOCATION:Kongresszentrum Dortmund\, Strobelallee 45\, Dortmund\, 44139\, Deutschland
CATEGORIES:Diabetologie & Endokrinologie,Gastroenterologie,Nephrologie
ORGANIZER;CN="COCS GmbH %E2%80%93 Congress Organisation C. Sch%C3%A4fer":MAILTO:kongresse@cocs.de
END:VEVENT
BEGIN:VEVENT
DTSTART;VALUE=DATE:20260618
DTEND;VALUE=DATE:20260621
DTSTAMP:20260420T002842
CREATED:20260207T144707Z
LAST-MODIFIED:20260207T144707Z
UID:481907-1781740800-1781999999@biermann-medizin.de
SUMMARY:38. Internationaler Kongress der Deutschen Ophthalmochirurgie
DESCRIPTION:
URL:https://biermann-medizin.de/veranstaltung/38-internationaler-kongress-der-deutschen-ophthalmochirurgie/
LOCATION:NürnbergConvention; Messezentrum Nürnberg; NürnbergConvention Center (NCC Mitte)\, Messezentrum\, Nürnberg\, 90471\, Deutschland
CATEGORIES:Ophthalmologie
ORGANIZER;CN="MCN Medizinische Congressorganisation N%C3%BCrnberg GmbH":MAILTO:mcn@mcn-nuernberg.de
END:VEVENT
BEGIN:VEVENT
DTSTART;VALUE=DATE:20260618
DTEND;VALUE=DATE:20260621
DTSTAMP:20260420T002842
CREATED:20260302T171643Z
LAST-MODIFIED:20260302T171643Z
UID:487628-1781740800-1781999999@biermann-medizin.de
SUMMARY:ENDO Athens 10th World Congress for Endoscopic Surgery of Sinuses\, Skull Base\, Brain\, Spine & Orbit
DESCRIPTION:
URL:https://biermann-medizin.de/veranstaltung/endo-athens-10th-world-congress-for-endoscopic-surgery-of-sinuses-skull-base-brain-spine-orbit/
LOCATION:Megaron Athens International Congress Center\, Leoforos Vasilissis Sofias and\, Petrou Kokkali 1\, Athina\, 115 21
CATEGORIES:Hals-Nasen-Ohren-Heilkunde
END:VEVENT
BEGIN:VEVENT
DTSTART;TZID=Europe/Berlin:20260618T080000
DTEND;TZID=Europe/Berlin:20260620T170000
DTSTAMP:20260420T002842
CREATED:20260204T130509Z
LAST-MODIFIED:20260204T130509Z
UID:481200-1781769600-1781974800@biermann-medizin.de
SUMMARY:Psychiatrie und Psychotherapie Refresher Frankfurt (hybrid)
DESCRIPTION:
URL:https://biermann-medizin.de/veranstaltung/psychiatrie-und-psychotherapie-refresher-frankfurt-hybrid/
LOCATION:Deutsche Nationalbibliothek Frankfurt am Main\, Adickesallee 1\, Frankfurt am Main\, 60322\, Deutschland
CATEGORIES:Neurologie & Psychiatrie
ORGANIZER;CN="Forum f%C3%BCr medizinische Fortbildung - FomF GmbH":MAILTO:info@fomf.de
END:VEVENT
BEGIN:VEVENT
DTSTART;TZID=Europe/Berlin:20260618T083000
DTEND;TZID=Europe/Berlin:20260620T134500
DTSTAMP:20260420T002842
CREATED:20260302T172204Z
LAST-MODIFIED:20260302T172204Z
UID:487630-1781771400-1781963100@biermann-medizin.de
SUMMARY:18. Erlanger Allergologiekurs
DESCRIPTION:
URL:https://biermann-medizin.de/veranstaltung/18-erlanger-allergologiekurs/
LOCATION:Hals-Nasen-Ohrenklinik Kopf-Hals-Chirurgie Erlangen\, Waldstraße 1\, Erlangen\, 91054\, Germany
CATEGORIES:Hals-Nasen-Ohren-Heilkunde
ORGANIZER;CN="Uniklinikum Erlangen%2C HNO-Klinik":MAILTO:hno-kurssekretariat@uk-erlangen.de
END:VEVENT
BEGIN:VEVENT
DTSTART;VALUE=DATE:20260619
DTEND;VALUE=DATE:20260621
DTSTAMP:20260420T002842
CREATED:20260128T174644Z
LAST-MODIFIED:20260128T174644Z
UID:479569-1781827200-1781999999@biermann-medizin.de
SUMMARY:GTH HICC – Haemostasis in Critical Care 2026
DESCRIPTION:
URL:https://biermann-medizin.de/veranstaltung/gth-hicc-haemostasis-in-critical-care-2026/
LOCATION:Courtyard by Marriott Berlin Mitte City Center\, Axel-Springer-Straße 55\, Berlin\, 10117\, Deutschland
CATEGORIES:Anästhesiologie & Intensivmedizin
ORGANIZER;CN="KRAFTKONZEPT GmbH":MAILTO:info@kraftkonzept.com
END:VEVENT
BEGIN:VEVENT
DTSTART;VALUE=DATE:20260619
DTEND;VALUE=DATE:20260621
DTSTAMP:20260420T002842
CREATED:20260129T110819Z
LAST-MODIFIED:20260129T110819Z
UID:479780-1781827200-1781999999@biermann-medizin.de
SUMMARY:Gemeinsame Jahrestagung SAE/DGAE 2026
DESCRIPTION:
URL:https://biermann-medizin.de/veranstaltung/gemeinsame-jahrestagung-saedgae-2026/
LOCATION:Stadthaus Lutherstadt Wittenberg\, Mauerstraße 18\, Lutherstadt Wittenberg\, 06886\, Germany
CATEGORIES:Diabetologie & Endokrinologie
ORGANIZER;CN="EndoScience Endokrinologie Service GmbH":MAILTO:info@endoscience.de
END:VEVENT
BEGIN:VEVENT
DTSTART;VALUE=DATE:20260619
DTEND;VALUE=DATE:20260621
DTSTAMP:20260420T002842
CREATED:20260203T120709Z
LAST-MODIFIED:20260203T120709Z
UID:480837-1781827200-1781999999@biermann-medizin.de
SUMMARY:Anästhesiologie und Intensivmedizin Refresher
DESCRIPTION:
URL:https://biermann-medizin.de/veranstaltung/anaesthesiologie-und-intensivmedizin-refresher/
LOCATION:Online
CATEGORIES:Anästhesiologie & Intensivmedizin
ORGANIZER;CN="Forum f%C3%BCr medizinische Fortbildung - FomF GmbH":MAILTO:info@fomf.de
END:VEVENT
BEGIN:VEVENT
DTSTART;VALUE=DATE:20260619
DTEND;VALUE=DATE:20260621
DTSTAMP:20260420T002842
CREATED:20260224T152238Z
LAST-MODIFIED:20260224T152238Z
UID:486134-1781827200-1781999999@biermann-medizin.de
SUMMARY:54. dbl-Kongress
DESCRIPTION:
URL:https://biermann-medizin.de/veranstaltung/54-dbl-kongress/
LOCATION:congress centrum weimarhalle\, Unesco-Platz 1\, Weimar\, 99423\, Deutschland
CATEGORIES:Allgemeinmedizin,Kinder- und Jugendmedizin,Neurologie & Psychiatrie
ORGANIZER;CN="COCS GmbH %E2%80%93 Congress Organisation C. Sch%C3%A4fer":MAILTO:kongresse@cocs.de
END:VEVENT
BEGIN:VEVENT
DTSTART;VALUE=DATE:20260619
DTEND;VALUE=DATE:20260621
DTSTAMP:20260420T002842
CREATED:20260303T155152Z
LAST-MODIFIED:20260303T155152Z
UID:487889-1781827200-1781999999@biermann-medizin.de
SUMMARY:Abschlusskurs Kopf-Hals-Sonographie
DESCRIPTION:
URL:https://biermann-medizin.de/veranstaltung/abschlusskurs-kopf-hals-sonographie/
LOCATION:HNO-Klinik Marburg\, Baldingerstraße\, Marburg\, 35043
CATEGORIES:Hals-Nasen-Ohren-Heilkunde
END:VEVENT
END:VCALENDAR