BEGIN:VCALENDAR
VERSION:2.0
PRODID:-//Biermann Medizin - ECPv6.9.0//NONSGML v1.0//EN
CALSCALE:GREGORIAN
METHOD:PUBLISH
X-WR-CALNAME:Biermann Medizin
X-ORIGINAL-URL:https://biermann-medizin.de
X-WR-CALDESC:Veranstaltungen für Biermann Medizin
REFRESH-INTERVAL;VALUE=DURATION:PT1H
X-Robots-Tag:noindex
X-PUBLISHED-TTL:PT1H
BEGIN:VTIMEZONE
TZID:Europe/Berlin
BEGIN:DAYLIGHT
TZOFFSETFROM:+0100
TZOFFSETTO:+0200
TZNAME:CEST
DTSTART:20260329T010000
END:DAYLIGHT
BEGIN:STANDARD
TZOFFSETFROM:+0200
TZOFFSETTO:+0100
TZNAME:CET
DTSTART:20261025T010000
END:STANDARD
END:VTIMEZONE
BEGIN:VEVENT
DTSTART;VALUE=DATE:20260619
DTEND;VALUE=DATE:20260621
DTSTAMP:20260420T035904
CREATED:20260303T155422Z
LAST-MODIFIED:20260303T155422Z
UID:487901-1781827200-1781999999@biermann-medizin.de
SUMMARY:57. Bad Reichenhaller Kolloquium
DESCRIPTION:
URL:https://biermann-medizin.de/veranstaltung/57-bad-reichenhaller-kolloquium/
LOCATION:Magazin3\, Alte Saline 15\, Bad Reichenhall\, 83435\, Deutschland
CATEGORIES:Pneumologie,Hals-Nasen-Ohren-Heilkunde
ORGANIZER;CN="Conventus Congressmanagement & Marketing GmbH":MAILTO:post@conventus.de
END:VEVENT
BEGIN:VEVENT
DTSTART;VALUE=DATE:20260619
DTEND;VALUE=DATE:20260621
DTSTAMP:20260420T035904
CREATED:20260415T173300Z
LAST-MODIFIED:20260415T173300Z
UID:497315-1781827200-1781999999@biermann-medizin.de
SUMMARY:52. Jahrestagung der Deutschen Gesellschaft für Prävention und Rehabilitation von Herz-Kreislauferkrankungen e. V.
DESCRIPTION:Schwerpunkte: \n\nLipide-Diabetes-Hypertonie: da kann man was tun\nFrühe Prävention und kardiovaskuläre Diagnostik\nHerzgesundheit und Herzinsuffizienz: von der Prävention zur Behandlung\nMyokard trifft Skelettmuskulatur (Sportmedizin und Sportkardiologie)\nPrävention im Fokus: Rauchen\, Psyche und Adipositas\nFokus Herzklappen (Gemeinsame Sitzung mit der Fachgesellschaft für Thorax- und Herzchirurgie)\nCROS (Cardiac Rehabilitation Outcome Study)\nHerzgruppen und Herzinsuffizienzgruppen: Leitlinie und Praxis\nVerhältnis- und Verhaltensprävention\nImpfen und Herz\nSpezielle Programme der kardiologischen Rehabilitation
URL:https://biermann-medizin.de/veranstaltung/52-jahrestagung-der-deutschen-gesellschaft-fuer-praevention-und-rehabilitation-von-herz-kreislauferkrankungen-e-v/
LOCATION:Kongresshotel Potsdam am Templiner See\, Am Luftschiffhafen 1\, Potsdam\, Brandenburg\, 14471\, Deutschland
CATEGORIES:Diabetologie & Endokrinologie,Kardiologie
ORGANIZER;CN="Deutsche Gesellschaft f%C3%BCr Pr%C3%A4vention und Rehabilitation von Herz-Kreislauferkrankungen e.V.":MAILTO:info@dgpr.de
END:VEVENT
BEGIN:VEVENT
DTSTART;TZID=Europe/Berlin:20260619T080000
DTEND;TZID=Europe/Berlin:20260620T170000
DTSTAMP:20260420T035904
CREATED:20260203T131406Z
LAST-MODIFIED:20260203T131406Z
UID:480864-1781856000-1781974800@biermann-medizin.de
SUMMARY:Hämato/Onko Refresher
DESCRIPTION:
URL:https://biermann-medizin.de/veranstaltung/haematoonko-refresher-2/
LOCATION:Katholische Akademie Hamburg\, Herrengraben 4\, Hamburg\, 20459\, Deutschland
CATEGORIES:Gastroenterologie,Onkologie
ORGANIZER;CN="Forum f%C3%BCr medizinische Fortbildung - FomF GmbH":MAILTO:info@fomf.de
END:VEVENT
BEGIN:VEVENT
DTSTART;VALUE=DATE:20260620
DTEND;VALUE=DATE:20260622
DTSTAMP:20260420T035904
CREATED:20260220T131039Z
LAST-MODIFIED:20260220T131039Z
UID:485445-1781913600-1782086399@biermann-medizin.de
SUMMARY:Pediatric Advanced Life Support – Provider Kurs
DESCRIPTION:
URL:https://biermann-medizin.de/veranstaltung/pediatric-advanced-life-support-provider-kurs-2/
LOCATION:Trainingscenter ReAlive\, Landsteiner Straße 4\, Würzburg\, 97074
CATEGORIES:Kinder- und Jugendmedizin
ORGANIZER;CN="ReAlive%C2%AE GbR":MAILTO:info@re-alive.de
END:VEVENT
BEGIN:VEVENT
DTSTART;VALUE=DATE:20260622
DTEND;VALUE=DATE:20260624
DTSTAMP:20260420T035904
CREATED:20260331T132652Z
LAST-MODIFIED:20260331T132652Z
UID:494020-1782086400-1782259199@biermann-medizin.de
SUMMARY:Global Summit on Diabetes and Endocrinology
DESCRIPTION:Hybrid-Event
URL:https://biermann-medizin.de/veranstaltung/global-summit-on-diabetes-and-endocrinology/
LOCATION:Renaissance London Heathrow Hotel\, Bath Road\, Hounslow\, TW6 2AQ\, United Kingdom
CATEGORIES:Diabetologie & Endokrinologie
ORGANIZER;CN="Intelli Global Conferences":MAILTO:contactus@intelliglobalconferences.com
END:VEVENT
BEGIN:VEVENT
DTSTART;VALUE=DATE:20260622
DTEND;VALUE=DATE:20260627
DTSTAMP:20260420T035904
CREATED:20260305T153328Z
LAST-MODIFIED:20260305T153328Z
UID:488576-1782086400-1782518399@biermann-medizin.de
SUMMARY:EUROSPINE EduWeek
DESCRIPTION:
URL:https://biermann-medizin.de/veranstaltung/eurospine-eduweek/
LOCATION:IRCAD France\, 1 Pl. de l'Hôpital\, Strasbourg\, 67000\, France
CATEGORIES:Neurologie & Psychiatrie
ORGANIZER;CN="EUROSPINE%2C the Spine Society of Europe":MAILTO:info@eurospine.org
END:VEVENT
BEGIN:VEVENT
DTSTART;TZID=Europe/Berlin:20260622T190000
DTEND;TZID=Europe/Berlin:20260622T203000
DTSTAMP:20260420T035904
CREATED:20260303T155659Z
LAST-MODIFIED:20260303T155659Z
UID:487903-1782154800-1782160200@biermann-medizin.de
SUMMARY:Frauen schlafen anders: Diagnostik und Therapie von Schlafstörungen in jeder Lebensphase
DESCRIPTION:
URL:https://biermann-medizin.de/veranstaltung/frauen-schlafen-anders-diagnostik-und-therapie-von-schlafstoerungen-in-jeder-lebensphase/
LOCATION:Online
CATEGORIES:Hals-Nasen-Ohren-Heilkunde
END:VEVENT
BEGIN:VEVENT
DTSTART;VALUE=DATE:20260623
DTEND;VALUE=DATE:20260624
DTSTAMP:20260420T035904
CREATED:20260224T151049Z
LAST-MODIFIED:20260224T151049Z
UID:486128-1782172800-1782259199@biermann-medizin.de
SUMMARY:Kinderurologie am LMU Klinikum: Workshop „Der Zauberhandschuh – eine hypnotherapeutische Kurzintervention“
DESCRIPTION:
URL:https://biermann-medizin.de/veranstaltung/kinderurologie-am-lmu-klinikum-workshop-der-zauberhandschuh-eine-hypnotherapeutische-kurzintervention/
LOCATION:Dr. von Haunersches Kinderspital\, Lindwurmstraße 4\, München\, 80337
CATEGORIES:Urologie,Kinder- und Jugendmedizin
ORGANIZER;CN="COCS GmbH %E2%80%93 Congress Organisation C. Sch%C3%A4fer":MAILTO:kongresse@cocs.de
END:VEVENT
BEGIN:VEVENT
DTSTART;VALUE=DATE:20260623
DTEND;VALUE=DATE:20260624
DTSTAMP:20260420T035904
CREATED:20260413T120203Z
LAST-MODIFIED:20260413T120203Z
UID:496273-1782172800-1782259199@biermann-medizin.de
SUMMARY:Live-Webinar: The role of angiogenetic factors in placental disorders
DESCRIPTION:
URL:https://biermann-medizin.de/veranstaltung/live-webinar-the-role-of-angiogenetic-factors-in-placental-disorders/
LOCATION:Online
CATEGORIES:Labormedizin
ORGANIZER;CN="European Federation of Clinical Chemistry and Laboratory Medicine (EFLM)":MAILTO:eflm@eflm.eu
END:VEVENT
BEGIN:VEVENT
DTSTART;VALUE=DATE:20260623
DTEND;VALUE=DATE:20260627
DTSTAMP:20260420T035904
CREATED:20260206T141336Z
LAST-MODIFIED:20260206T141336Z
UID:481842-1782172800-1782518399@biermann-medizin.de
SUMMARY:34th international congress of the European Association for Endoscopic Surgery
DESCRIPTION:
URL:https://biermann-medizin.de/veranstaltung/34th-international-congress-of-the-european-association-for-endoscopic-surgery/
LOCATION:Megaron Athens International Conference Centre (M.A.I.C.C.)\, Leoforos Vasilissis Sofias and Kokkali 1\, Athen\, 115 21\, Griechenland
CATEGORIES:Gastroenterologie
ORGANIZER;CN="European Association for Endoscopic Surgery":MAILTO:info@eaes.eu
END:VEVENT
BEGIN:VEVENT
DTSTART;VALUE=DATE:20260624
DTEND;VALUE=DATE:20260625
DTSTAMP:20260420T035904
CREATED:20260224T150732Z
LAST-MODIFIED:20260224T150732Z
UID:486119-1782259200-1782345599@biermann-medizin.de
SUMMARY:6. Kinderurologisches Sommerforum
DESCRIPTION:
URL:https://biermann-medizin.de/veranstaltung/6-kinderurologisches-sommerforum/
LOCATION:Veranstaltungszentrum Evangelischer Handwerker-Verein – Mathildensaal\, Mathildenstraße 4\, München\, 80336\, Germany
CATEGORIES:Urologie,Kinder- und Jugendmedizin
ORGANIZER;CN="COCS GmbH %E2%80%93 Congress Organisation C. Sch%C3%A4fer":MAILTO:kongresse@cocs.de
END:VEVENT
BEGIN:VEVENT
DTSTART;VALUE=DATE:20260624
DTEND;VALUE=DATE:20260628
DTSTAMP:20260420T035904
CREATED:20260204T110724Z
LAST-MODIFIED:20260204T110724Z
UID:481096-1782259200-1782604799@biermann-medizin.de
SUMMARY:Allgemeinmedizin Refresher Berlin (Programm B\, hybrid)
DESCRIPTION:
URL:https://biermann-medizin.de/veranstaltung/allgemeinmedizin-refresher-berlin-programm-b-hybrid/
LOCATION:Kaiserin-Friedrich-Haus (KFH) (Kaiserin-Friedrich-Stiftung für das ärztliche Fortbildungswesen)\, Robert-Koch-Platz 7\, Berlin\, 10115\, Deutschland
CATEGORIES:Allgemeinmedizin
ORGANIZER;CN="Forum f%C3%BCr medizinische Fortbildung - FomF GmbH":MAILTO:info@fomf.de
END:VEVENT
BEGIN:VEVENT
DTSTART;VALUE=DATE:20260624
DTEND;VALUE=DATE:20260628
DTSTAMP:20260420T035904
CREATED:20260330T054757Z
LAST-MODIFIED:20260330T054757Z
UID:493453-1782259200-1782604799@biermann-medizin.de
SUMMARY:9th World Bronchiectasis Conference
DESCRIPTION:Kongresstitel: “Paving the way for the next generation” \nThemen: Grundlagenforschung (Ätiologie & Pathophysiologie) / Klinische Studien / Komorbiditäten (AATD\, Asthma\, COPD etc.) / Mukoviszidose und Bronchiektasen / Immunologie & Entzündung (einschließlich ABPA\, angeborener Immundefekte\, primärer Immundefekte\, Neutrophilenfunktion/-dysfunktion) / Infektionen (Pseudomonas\, Haemophilus etc.) / Management & Organisation / Nichttuberkulöse Mykobakterien / Erfahrungen von Pflegekräften und anderen Gesundheitsfachkräften / Pädiatrische Bronchiektasen / Patientenerfahrungen / Primäre Ziliendyskinesie / Atemphysiotherapie und Clearing der Atemwege
URL:https://biermann-medizin.de/veranstaltung/9th-world-bronchiectasis-conference/
LOCATION:Hannover Congress Centrum (HCC)\, Theodor-Heuss-Platz 1-3\, Hannover\, 30175\, Deutschland
CATEGORIES:Pneumologie
ORGANIZER;CN="European Bronchiectasis Registry (EMBARC)":MAILTO:wbc@publicreations.com
END:VEVENT
BEGIN:VEVENT
DTSTART;TZID=Europe/Berlin:20260624T160000
DTEND;TZID=Europe/Berlin:20260624T190000
DTSTAMP:20260420T035904
CREATED:20260411T143514Z
LAST-MODIFIED:20260411T143514Z
UID:496067-1782316800-1782327600@biermann-medizin.de
SUMMARY:EHA kompakt – Das Wichtigste in 3 Stunden
DESCRIPTION:
URL:https://biermann-medizin.de/veranstaltung/eha-kompakt-das-wichtigste-in-3-stunden-2/
LOCATION:Online
CATEGORIES:Onkologie
ORGANIZER;CN="event lab. GmbH":MAILTO:info@eventlab.org
END:VEVENT
BEGIN:VEVENT
DTSTART;VALUE=DATE:20260625
DTEND;VALUE=DATE:20260627
DTSTAMP:20260420T035904
CREATED:20260224T152649Z
LAST-MODIFIED:20260224T152649Z
UID:486136-1782345600-1782518399@biermann-medizin.de
SUMMARY:FESS MunichMasterClass
DESCRIPTION:
URL:https://biermann-medizin.de/veranstaltung/fess-munichmasterclass/
LOCATION:Anatomische Anstalt der LMU München\, Pettenkoferstraße 11\, München\, 80336\, Deutschland
CATEGORIES:Hals-Nasen-Ohren-Heilkunde
ORGANIZER;CN="COCS GmbH %E2%80%93 Congress Organisation C. Sch%C3%A4fer":MAILTO:kongresse@cocs.de
END:VEVENT
BEGIN:VEVENT
DTSTART;VALUE=DATE:20260625
DTEND;VALUE=DATE:20260627
DTSTAMP:20260420T035904
CREATED:20260413T162051Z
LAST-MODIFIED:20260413T162051Z
UID:496307-1782345600-1782518399@biermann-medizin.de
SUMMARY:16h European Post-Chicago Melanoma/Skin Cancer Meeting
DESCRIPTION:
URL:https://biermann-medizin.de/veranstaltung/16h-european-post-chicago-melanomaskin-cancer-meeting/
LOCATION:Radisson Blu Hamburg\, Congressplatz 2\, Hamburg\, 20355
CATEGORIES:Dermatologie & Allergologie,Onkologie
ORGANIZER;CN="MedConcept GmbH":MAILTO:info@medconcept.org
END:VEVENT
BEGIN:VEVENT
DTSTART;VALUE=DATE:20260625
DTEND;VALUE=DATE:20260628
DTSTAMP:20260420T035904
CREATED:20260126T154313Z
LAST-MODIFIED:20260126T154313Z
UID:478563-1782345600-1782604799@biermann-medizin.de
SUMMARY:32. Kongress der Deutschen Gesellschaft für Radioonkologie
DESCRIPTION:
URL:https://biermann-medizin.de/veranstaltung/32-kongress-der-deutschen-gesellschaft-fuer-radioonkologie/
LOCATION:CCL – Congress Center Leipzig\, Seehausener Allee 1\, Leipzig\, Sachsen\, 04356
CATEGORIES:Pneumologie,Onkologie
ORGANIZER;CN="Deutsche Gesellschaft f%C3%BCr Radioonkologie":MAILTO:office@degro.org
END:VEVENT
BEGIN:VEVENT
DTSTART;VALUE=DATE:20260625
DTEND;VALUE=DATE:20260628
DTSTAMP:20260420T035904
CREATED:20260126T155233Z
LAST-MODIFIED:20260127T162255Z
UID:478570-1782345600-1782604799@biermann-medizin.de
SUMMARY:ASCO Breakthrough 2026
DESCRIPTION:Hybrid-Event
URL:https://biermann-medizin.de/veranstaltung/asco-breakthrough-2026/
LOCATION:Raffles City Convention Centre\, Singapore
CATEGORIES:Pneumologie,Urologie,wichtige Veranstaltungen,Allgemeinmedizin,Anästhesiologie & Intensivmedizin,Dermatologie & Allergologie,Gastroenterologie,Gynäkologie,Onkologie,Ophthalmologie
END:VEVENT
BEGIN:VEVENT
DTSTART;VALUE=DATE:20260625
DTEND;VALUE=DATE:20260628
DTSTAMP:20260420T035904
CREATED:20260205T155847Z
LAST-MODIFIED:20260205T155847Z
UID:481558-1782345600-1782604799@biermann-medizin.de
SUMMARY:EADV Course: Dermoscopy: from diagnosis to treatment
DESCRIPTION:
URL:https://biermann-medizin.de/veranstaltung/eadv-course-dermoscopy-from-diagnosis-to-treatment/
LOCATION:Rom\, Italy
CATEGORIES:Dermatologie & Allergologie
ORGANIZER;CN="European Academy of Dermatology and Venereology (EADV)":MAILTO:eadvoffice@eadv.org
END:VEVENT
BEGIN:VEVENT
DTSTART;VALUE=DATE:20260625
DTEND;VALUE=DATE:20260628
DTSTAMP:20260420T035904
CREATED:20260303T161651Z
LAST-MODIFIED:20260303T161651Z
UID:487905-1782345600-1782604799@biermann-medizin.de
SUMMARY:25th International Workshop on Laser Voice Surgery & Voice Care
DESCRIPTION:
URL:https://biermann-medizin.de/veranstaltung/25th-international-workshop-on-laser-voice-surgery-voice-care/
LOCATION:Private Hospital Ambroise Paré-Hartmann\, 48 ter bd Victor Hugo\, Neuilly sur seine\, 92200\, France
CATEGORIES:Hals-Nasen-Ohren-Heilkunde
ORGANIZER;CN="Paragon World Medical Event":MAILTO:contact@ivda-congress.com
END:VEVENT
BEGIN:VEVENT
DTSTART;VALUE=DATE:20260625
DTEND;VALUE=DATE:20260628
DTSTAMP:20260420T035904
CREATED:20260331T131229Z
LAST-MODIFIED:20260331T131229Z
UID:494013-1782345600-1782604799@biermann-medizin.de
SUMMARY:Annual Congress of the Central European Diabetes Association 2026
DESCRIPTION:
URL:https://biermann-medizin.de/veranstaltung/annual-congress-of-the-central-european-diabetes-association-2026/
LOCATION:Medizinisch-Neurologisch-Radiologische Klinik / UKD\, Moorenstraße 5\, Düsseldorf\, 40225
CATEGORIES:Diabetologie & Endokrinologie
END:VEVENT
BEGIN:VEVENT
DTSTART;VALUE=DATE:20260625
DTEND;VALUE=DATE:20260629
DTSTAMP:20260420T035904
CREATED:20260222T134942Z
LAST-MODIFIED:20260222T134942Z
UID:485655-1782345600-1782691199@biermann-medizin.de
SUMMARY:4th Congress of the International Society of Pediatric Respiratory Infectious Diseases
DESCRIPTION:
URL:https://biermann-medizin.de/veranstaltung/4th-congress-of-the-international-society-of-pediatric-respiratory-infectious-diseases/
LOCATION:Palazzo dei Congressi Bologna\, Piazza della Costituzione\, 4\, Bologna\, 40128\, Italien
CATEGORIES:Pneumologie,Kinder- und Jugendmedizin,Infektiologie
ORGANIZER;CN="International Society of Pediatric Respiratory Infectious Diseases":MAILTO:secretariat@inspired-ped.com
END:VEVENT
BEGIN:VEVENT
DTSTART;VALUE=DATE:20260625
DTEND;VALUE=DATE:20260629
DTSTAMP:20260420T035904
CREATED:20260415T174049Z
LAST-MODIFIED:20260415T174049Z
UID:497317-1782345600-1782691199@biermann-medizin.de
SUMMARY:Deutscher Echokardiographie-Kongress der DGK
DESCRIPTION:
URL:https://biermann-medizin.de/veranstaltung/deutscher-echokardiographie-kongress-der-dgk/
LOCATION:Leipziger KUBUS des Helmholtz-Zentrums für Umweltforschung – UFZ\, Permoserstraße 15\, Leipzig\, 04318\, Deutschland
CATEGORIES:Kardiologie
ORGANIZER;CN="F&amp%3BU confirm%2C Echokardiographiekongress":MAILTO:kongress@echokardiographie-leipzig.de
END:VEVENT
BEGIN:VEVENT
DTSTART;TZID=Europe/Berlin:20260625T121500
DTEND;TZID=Europe/Berlin:20260626T131000
DTSTAMP:20260420T035904
CREATED:20260127T172257Z
LAST-MODIFIED:20260127T172704Z
UID:478936-1782389700-1782479400@biermann-medizin.de
SUMMARY:Best of ASCO and Hematology 2026
DESCRIPTION:
URL:https://biermann-medizin.de/veranstaltung/best-of-asco-hematology-2026/
LOCATION:Austria Trend Hotel Savoyen Vienna\, Rennweg 16\, Wien\, 1030\, Österreich
CATEGORIES:Pneumologie,Urologie,Anästhesiologie & Intensivmedizin,Kinder- und Jugendmedizin,Dermatologie & Allergologie,Radiologie,Gastroenterologie,Gynäkologie,Onkologie,Ophthalmologie
ORGANIZER;CN="Onconovum Academy":MAILTO:academy@onconovum.at
END:VEVENT
BEGIN:VEVENT
DTSTART;VALUE=DATE:20260626
DTEND;VALUE=DATE:20260627
DTSTAMP:20260420T035904
CREATED:20260219T181736Z
LAST-MODIFIED:20260219T181736Z
UID:485212-1782432000-1782518399@biermann-medizin.de
SUMMARY:Endo-Ernährung – EndoAkademie trifft Südwestdeutsche Gesellschaft für Gastroenterologie
DESCRIPTION:
URL:https://biermann-medizin.de/veranstaltung/endo-ernaehrung-endoakademie-trifft-suedwestdeutsche-gesellschaft-fuer-gastroenterologie/
LOCATION:Universitätsklinik Heidelberg\, Gebäude im Neuenheimer Feld 105\, Im Neuenheimer Feld 105\, Heidelberg\, 69120
CATEGORIES:Gastroenterologie
ORGANIZER;CN="ENDOAkademie e.V.%2C Katharina H%C3%B6ger":MAILTO:katharina.hoeger@outlook.de
END:VEVENT
BEGIN:VEVENT
DTSTART;VALUE=DATE:20260626
DTEND;VALUE=DATE:20260628
DTSTAMP:20260420T035904
CREATED:20251124T131407Z
LAST-MODIFIED:20251124T131407Z
UID:467767-1782432000-1782604799@biermann-medizin.de
SUMMARY:Kompaktkurs Pädiatrische Pneumologie
DESCRIPTION:
URL:https://biermann-medizin.de/veranstaltung/kompaktkurs-paediatrische-pneumologie-3/
LOCATION:Tiroler Bildungsinstitut Grillhof\, Grillhofweg 100\, Innsbruck\, 6080\, Austria
CATEGORIES:Kinder- und Jugendmedizin
ORGANIZER;CN="Arbeitsgemeinschaft P%C3%A4diatrische Allergologie und Pneumologie S%C3%BCd e.V. (AGPAS)":MAILTO:info@agpas.de
END:VEVENT
BEGIN:VEVENT
DTSTART;VALUE=DATE:20260626
DTEND;VALUE=DATE:20260628
DTSTAMP:20260420T035904
CREATED:20260207T150440Z
LAST-MODIFIED:20260207T150440Z
UID:481917-1782432000-1782604799@biermann-medizin.de
SUMMARY:Tagung der Gesellschaft für Strabologie\, Neuroophthalmologie und Kinderophthalmologie 2026
DESCRIPTION:
URL:https://biermann-medizin.de/veranstaltung/tagung-der-gesellschaft-fuer-strabologie-neuroophthalmologie-und-kinderophthalmologie-2026/
LOCATION:Biomedizinisches Zentrum (BMZ) Universitätsklinikum Bonn\, Venusberg-Campus 1\, Bonn\, 53127\, Deutschland
CATEGORIES:Ophthalmologie
END:VEVENT
BEGIN:VEVENT
DTSTART;VALUE=DATE:20260626
DTEND;VALUE=DATE:20260628
DTSTAMP:20260420T035904
CREATED:20260218T182709Z
LAST-MODIFIED:20260218T182709Z
UID:484764-1782432000-1782604799@biermann-medizin.de
SUMMARY:3. UTF Bronchoskopiekurs (für Fortgeschrittene)
DESCRIPTION:Hybridveranstaltung
URL:https://biermann-medizin.de/veranstaltung/3-utf-bronchoskopiekurs-fuer-fortgeschrittene/
LOCATION:St. Elisabethen-Krankenhaus\, Ginnheimer Straße 3\, Frankfurt\, 60487
CATEGORIES:Pneumologie
ORGANIZER;CN="St. Elisabethen Krankenhaus GmbH%2C Klinik f%C3%BCr Pneumologie":MAILTO:thoraxzentrum-frankfurt@artemed.de
END:VEVENT
BEGIN:VEVENT
DTSTART;VALUE=DATE:20260626
DTEND;VALUE=DATE:20260628
DTSTAMP:20260420T035904
CREATED:20260303T162327Z
LAST-MODIFIED:20260303T162327Z
UID:487919-1782432000-1782604799@biermann-medizin.de
SUMMARY:Sonografie Aufbaukurs Workshop mit praktischen Übungen / OP-Kurs
DESCRIPTION:
URL:https://biermann-medizin.de/veranstaltung/sonografie-aufbaukurs-workshop-mit-praktischen-uebungen-op-kurs/
LOCATION:Universitätsklinik für Hals-\, Nasen- und Ohrenheilkunde\, Kopf- und Halschirurgie\, Universitätsklinikum Magdeburg\, Leipziger Straße 44\, Magdeburg\, 39120
CATEGORIES:Hals-Nasen-Ohren-Heilkunde
END:VEVENT
BEGIN:VEVENT
DTSTART;VALUE=DATE:20260626
DTEND;VALUE=DATE:20260628
DTSTAMP:20260420T035904
CREATED:20260310T142333Z
LAST-MODIFIED:20260310T142333Z
UID:489380-1782432000-1782604799@biermann-medizin.de
SUMMARY:16. BVSD-Kongress
DESCRIPTION:
URL:https://biermann-medizin.de/veranstaltung/16-bvsd-kongress/
LOCATION:H4 Hotel Berlin Alexanderplatz\, Karl-Liebknecht-Str. 32\, Berlin\, 10178\, Deutschland
CATEGORIES:Schmerzmedizin
ORGANIZER;CN="MariPunktBremen Veranstaltungorganisation e. K.":MAILTO:info@maripunktbremen.de
END:VEVENT
END:VCALENDAR