BEGIN:VCALENDAR
VERSION:2.0
PRODID:-//Biermann Medizin - ECPv6.9.0//NONSGML v1.0//EN
CALSCALE:GREGORIAN
METHOD:PUBLISH
X-ORIGINAL-URL:https://biermann-medizin.de
X-WR-CALDESC:Veranstaltungen für Biermann Medizin
REFRESH-INTERVAL;VALUE=DURATION:PT1H
X-Robots-Tag:noindex
X-PUBLISHED-TTL:PT1H
BEGIN:VTIMEZONE
TZID:Europe/Berlin
BEGIN:DAYLIGHT
TZOFFSETFROM:+0100
TZOFFSETTO:+0200
TZNAME:CEST
DTSTART:20260329T010000
END:DAYLIGHT
BEGIN:STANDARD
TZOFFSETFROM:+0200
TZOFFSETTO:+0100
TZNAME:CET
DTSTART:20261025T010000
END:STANDARD
END:VTIMEZONE
BEGIN:VEVENT
DTSTART;VALUE=DATE:20260706
DTEND;VALUE=DATE:20260712
DTSTAMP:20260420T120939
CREATED:20260316T184234Z
LAST-MODIFIED:20260316T184234Z
UID:490931-1783296000-1783814399@biermann-medizin.de
SUMMARY:63rd Annual Symposium of the International Society for Clinical Electrophysiology of Vision
DESCRIPTION:
URL:https://biermann-medizin.de/veranstaltung/63rd-annual-symposium-of-the-international-society-for-clinical-electrophysiology-of-vision/
LOCATION:University of Sydney\, Eastern Avenue Auditorium\, Camperdown\, Sydney\, NSW 2050\, Australia
CATEGORIES:Ophthalmologie
ORGANIZER;CN="Think Business Events":MAILTO:iscev@thinkbusinessevents.com.au
END:VEVENT
BEGIN:VEVENT
DTSTART;VALUE=DATE:20260707
DTEND;VALUE=DATE:20260708
DTSTAMP:20260420T120939
CREATED:20260413T120509Z
LAST-MODIFIED:20260413T120509Z
UID:496276-1783382400-1783468799@biermann-medizin.de
SUMMARY:Live-Webinar: Laboratory Insights into Neurological Disorders: Spinal Cord and Alzheimer’s Disease – Challenges and Modern Perspectives
DESCRIPTION:
URL:https://biermann-medizin.de/veranstaltung/live-webinar-laboratory-insights-into-neurological-disorders-spinal-cord-and-alzheimers-disease-challenges-and-modern-perspectives/
LOCATION:Online
CATEGORIES:Labormedizin
ORGANIZER;CN="European Federation of Clinical Chemistry and Laboratory Medicine (EFLM)":MAILTO:eflm@eflm.eu
END:VEVENT
BEGIN:VEVENT
DTSTART;VALUE=DATE:20260708
DTEND;VALUE=DATE:20260712
DTSTAMP:20260420T120939
CREATED:20260303T162815Z
LAST-MODIFIED:20260303T162815Z
UID:487925-1783468800-1783814399@biermann-medizin.de
SUMMARY:61st Graz Course on Rhinosurgery
DESCRIPTION:
URL:https://biermann-medizin.de/veranstaltung/61st-graz-course-on-rhinosurgery/
LOCATION:Medizinische Universität Graz\, Anatomisches Institut\, Auenbruggerplatz 25\, Graz\, 8036\, Austria
CATEGORIES:Hals-Nasen-Ohren-Heilkunde
ORGANIZER;CN="CEE Meetings":MAILTO:sat@cee-meetings.com
END:VEVENT
BEGIN:VEVENT
DTSTART;VALUE=DATE:20260709
DTEND;VALUE=DATE:20260712
DTSTAMP:20260420T120939
CREATED:20260203T122728Z
LAST-MODIFIED:20260203T122728Z
UID:480850-1783555200-1783814399@biermann-medizin.de
SUMMARY:Gynäkologie Refresher
DESCRIPTION:
URL:https://biermann-medizin.de/veranstaltung/gynaekologie-refresher-6/
LOCATION:Konferenzzentrum München\, Lazarettstraße 33\, München\, 80636\, Deutschland
CATEGORIES:Gynäkologie
ORGANIZER;CN="Forum f%C3%BCr medizinische Fortbildung - FomF GmbH":MAILTO:info@fomf.de
END:VEVENT
BEGIN:VEVENT
DTSTART;VALUE=DATE:20260709
DTEND;VALUE=DATE:20260712
DTSTAMP:20260420T120939
CREATED:20260315T143451Z
LAST-MODIFIED:20260315T143451Z
UID:490524-1783555200-1783814399@biermann-medizin.de
SUMMARY:11th International Symposium on Uveitis 2026
DESCRIPTION:
URL:https://biermann-medizin.de/veranstaltung/11th-international-symposium-on-uveitis-2026/
LOCATION:Tübingen
CATEGORIES:Ophthalmologie
ORGANIZER;CN="International Uveitis Study Group (IUSG)":MAILTO:office@iusg.net
END:VEVENT
BEGIN:VEVENT
DTSTART;VALUE=DATE:20260709
DTEND;VALUE=DATE:20260713
DTSTAMP:20260420T120939
CREATED:20260222T122617Z
LAST-MODIFIED:20260222T122617Z
UID:485625-1783555200-1783900799@biermann-medizin.de
SUMMARY:Refresherkurs Teil 2 advanced für Fortgeschrittene: Point of Care-UltraSound in der Pädiatrie
DESCRIPTION:Echokardiographie\, Sonographie und Dopplersonographie in der Notaufnahme\, Neonatologie und pädiatrischen Intensivmedizin
URL:https://biermann-medizin.de/veranstaltung/refresherkurs-teil-2-advanced-fuer-fortgeschrittene-point-of-care-ultrasound-in-der-paediatrie/
LOCATION:Kinderkrankenhaus St. Marien gGmbH\, Sternstundensaal\, Grillparzerstr. 9\, Landshut\, 84036\, Deutschland
CATEGORIES:Kinder- und Jugendmedizin
ORGANIZER;CN="Kinderkrankenhaus St. Marien":MAILTO:spezialseminar.sono(at)st-marien-la.de
END:VEVENT
BEGIN:VEVENT
DTSTART;VALUE=DATE:20260709
DTEND;VALUE=DATE:20260713
DTSTAMP:20260420T120939
CREATED:20260315T142152Z
LAST-MODIFIED:20260315T142152Z
UID:490516-1783555200-1783900799@biermann-medizin.de
SUMMARY:AECOS 2026 Summer Symposium
DESCRIPTION:
URL:https://biermann-medizin.de/veranstaltung/aecos-2026-summer-symposium/
LOCATION:Stein Erikson Lodge\, 7700 Stein Way\, Park City\, UT\, 84060\, United States
CATEGORIES:Ophthalmologie
END:VEVENT
BEGIN:VEVENT
DTSTART;TZID=Europe/Berlin:20260709T190000
DTEND;TZID=Europe/Berlin:20260709T210000
DTSTAMP:20260420T120939
CREATED:20260323T093154Z
LAST-MODIFIED:20260323T093154Z
UID:492095-1783623600-1783630800@biermann-medizin.de
SUMMARY:Instrumentenkunde
DESCRIPTION:
URL:https://biermann-medizin.de/veranstaltung/instrumentenkunde/
LOCATION:Online
CATEGORIES:Ophthalmologie
END:VEVENT
BEGIN:VEVENT
DTSTART;VALUE=DATE:20260710
DTEND;VALUE=DATE:20260712
DTSTAMP:20260420T120939
CREATED:20260225T142439Z
LAST-MODIFIED:20260225T142528Z
UID:486518-1783641600-1783814399@biermann-medizin.de
SUMMARY:45. Jahrestagung der Bayerischen Gesellschaft für Nuklearmedizin
DESCRIPTION:
URL:https://biermann-medizin.de/veranstaltung/jahrestagung-der-bayerischen-gesellschaft-fuer-nuklearmedizin/
LOCATION:Kongresshaus Garmisch-Partenkirchen\, Richard-Strauss-Platz 1A\, Garmisch-Partenkirchen\, 82467\, Deutschland
CATEGORIES:Diabetologie & Endokrinologie,Kardiologie,Onkologie,Orthopädie & Unfallchirurgie
ORGANIZER;CN="COCS GmbH %E2%80%93 Congress Organisation C. Sch%C3%A4fer":MAILTO:kongresse@cocs.de
END:VEVENT
BEGIN:VEVENT
DTSTART;TZID=Europe/Berlin:20260710T190000
DTEND;TZID=Europe/Berlin:20260710T210000
DTSTAMP:20260420T120939
CREATED:20260114T075846Z
LAST-MODIFIED:20260114T075846Z
UID:476120-1783710000-1783717200@biermann-medizin.de
SUMMARY:Freiburger Augenabend
DESCRIPTION:
URL:https://biermann-medizin.de/veranstaltung/freiburger-augenabend-2/
LOCATION:Universitätsklinikum Freiburg / Hörsaalgebäude Killianstraße\, Killianstraße 5\, Freiburg\, Baden-Württemberg\, 79106\, Deutschland
CATEGORIES:Ophthalmologie
ORGANIZER;CN="Universit%C3%A4ts-Augenklinik Freiburg":MAILTO:Hansjuergen.Agostini@uniklinik-freiburg.de
END:VEVENT
BEGIN:VEVENT
DTSTART;VALUE=DATE:20260711
DTEND;VALUE=DATE:20260712
DTSTAMP:20260420T120939
CREATED:20260225T174332Z
LAST-MODIFIED:20260225T174332Z
UID:486641-1783728000-1783814399@biermann-medizin.de
SUMMARY:7. Münsteraner Retina Forum
DESCRIPTION:
URL:https://biermann-medizin.de/veranstaltung/7-muensteraner-retina-forum/
LOCATION:Zwei Löwen Klub Münster\, Am Kanonengraben 9\, Münster\, 48151\, Deutschland
CATEGORIES:Ophthalmologie
ORGANIZER;CN="Park Akademie &amp%3B Hotel":MAILTO:akademie@­ukmuenster.de
END:VEVENT
BEGIN:VEVENT
DTSTART;VALUE=DATE:20260711
DTEND;VALUE=DATE:20260713
DTSTAMP:20260420T120939
CREATED:20260303T163242Z
LAST-MODIFIED:20260303T163242Z
UID:487932-1783728000-1783900799@biermann-medizin.de
SUMMARY:Abschlusskurs A- und B-Scan-Sonographie der Kopf-Hals-Region
DESCRIPTION:
URL:https://biermann-medizin.de/veranstaltung/abschlusskurs-a-und-b-scan-sonographie-der-kopf-hals-region-2/
LOCATION:HNO-Klinik Erlangen\, Waldstraße 1\, Erlangen\, 91054\, Deutschland
CATEGORIES:Hals-Nasen-Ohren-Heilkunde
ORGANIZER;CN="Uniklinikum Erlangen%2C HNO-Klinik":MAILTO:hno-kurssekretariat@uk-erlangen.de
END:VEVENT
BEGIN:VEVENT
DTSTART;VALUE=DATE:20260713
DTEND;VALUE=DATE:20260715
DTSTAMP:20260420T120939
CREATED:20260303T174149Z
LAST-MODIFIED:20260303T174149Z
UID:487939-1783900800-1784073599@biermann-medizin.de
SUMMARY:3rd Global Summit on Ear\, Nose & Throat Studies
DESCRIPTION:
URL:https://biermann-medizin.de/veranstaltung/3rd-global-summit-on-ear-nose-throat-studies/
LOCATION:Berlin
CATEGORIES:Hals-Nasen-Ohren-Heilkunde
ORGANIZER;CN="Times Scientific Group":MAILTO:otorhinolaryngology@tsgmeet.org
END:VEVENT
BEGIN:VEVENT
DTSTART;VALUE=DATE:20260713
DTEND;VALUE=DATE:20260716
DTSTAMP:20260420T120939
CREATED:20260303T173009Z
LAST-MODIFIED:20260303T173009Z
UID:487936-1783900800-1784159999@biermann-medizin.de
SUMMARY:Functional Septorhinoplasty & Facial Plastics Cadaveric
DESCRIPTION:
URL:https://biermann-medizin.de/veranstaltung/functional-septorhinoplasty-facial-plastics-cadaveric/
LOCATION:Newcastle Surgical Training Centre (NSTC)\, Freeman Rd\, High Heaton\, Newcastle upon Tyne\, NE7 7DN\, Großbritannien (Vereinigtes Königreich)
CATEGORIES:Hals-Nasen-Ohren-Heilkunde
END:VEVENT
BEGIN:VEVENT
DTSTART;VALUE=DATE:20260715
DTEND;VALUE=DATE:20260718
DTSTAMP:20260420T120939
CREATED:20260126T173837Z
LAST-MODIFIED:20260126T173837Z
UID:478587-1784073600-1784332799@biermann-medizin.de
SUMMARY:European Respiratory Society Cough Conference 2026
DESCRIPTION:
URL:https://biermann-medizin.de/veranstaltung/european-respiratory-society-cough-conference-2026/
LOCATION:Royal College of Physicians\, 11 St Andrews Place\, London\, NW1 4LE\, Vereinigtes Königreich
CATEGORIES:Pneumologie
ORGANIZER;CN="European Respiratory Society (ERS)":MAILTO:education@ersnet.org
END:VEVENT
BEGIN:VEVENT
DTSTART;VALUE=DATE:20260715
DTEND;VALUE=DATE:20260718
DTSTAMP:20260420T120939
CREATED:20260202T180749Z
LAST-MODIFIED:20260202T180749Z
UID:480607-1784073600-1784332799@biermann-medizin.de
SUMMARY:International Congress on Obesity
DESCRIPTION:
URL:https://biermann-medizin.de/veranstaltung/international-congress-on-obesity/
LOCATION:World Trade Center Mexico City\, Montecito 38\, Mexiko-Stadt\, 03810\, Mexico
CATEGORIES:Diabetologie & Endokrinologie
END:VEVENT
BEGIN:VEVENT
DTSTART;VALUE=DATE:20260716
DTEND;VALUE=DATE:20260720
DTSTAMP:20260420T120939
CREATED:20260310T172751Z
LAST-MODIFIED:20260310T172751Z
UID:489435-1784160000-1784505599@biermann-medizin.de
SUMMARY:ASPN Annual Conference 2026
DESCRIPTION:
URL:https://biermann-medizin.de/veranstaltung/aspn-annual-conference-2026/
LOCATION:Fontainebleau Miami Beach\, 4441 Collins Avenue\, Miami Beach\, Florida\, 33140\, Vereinigte Staaten
CATEGORIES:Schmerzmedizin,Neurologie & Psychiatrie
END:VEVENT
BEGIN:VEVENT
DTSTART;VALUE=DATE:20260717
DTEND;VALUE=DATE:20260719
DTSTAMP:20260420T120939
CREATED:20260414T173944Z
LAST-MODIFIED:20260414T173944Z
UID:496798-1784246400-1784419199@biermann-medizin.de
SUMMARY:56. Wacker-Kurs für klinische Retinologie
DESCRIPTION:
URL:https://biermann-medizin.de/veranstaltung/56-wacker-kurs-fuer-klinische-retinologie/
LOCATION:Augenklinik der Ludwig-Maximilians-Universität (LMU)\, Mathildenstraße 8\, München\, Bayern\, 80336\, Deutschland
CATEGORIES:Ophthalmologie
ORGANIZER;CN="Congress-Organisation Gerling GmbH":MAILTO:info@congresse.de
END:VEVENT
BEGIN:VEVENT
DTSTART;VALUE=DATE:20260722
DTEND;VALUE=DATE:20260724
DTSTAMP:20260420T120939
CREATED:20260411T145208Z
LAST-MODIFIED:20260411T145208Z
UID:496074-1784678400-1784851199@biermann-medizin.de
SUMMARY:ISEO Inaugural Conference 2026
DESCRIPTION:
URL:https://biermann-medizin.de/veranstaltung/iseo-inaugural-conference-2026/
LOCATION:Heidelberg
CATEGORIES:Onkologie
ORGANIZER;CN="International Society of Exercise Oncology":MAILTO:info@exercise-oncology.org
END:VEVENT
BEGIN:VEVENT
DTSTART;VALUE=DATE:20260722
DTEND;VALUE=DATE:20260725
DTSTAMP:20260420T120939
CREATED:20251008T123929Z
LAST-MODIFIED:20260405T141243Z
UID:455787-1784678400-1784937599@biermann-medizin.de
SUMMARY:103. Jahrestagung der Vereinigung der Bayerischen Chirurgie
DESCRIPTION:
URL:https://biermann-medizin.de/veranstaltung/103-jahrestagung-der-vereinigung-der-bayerischen-chirurgie/
LOCATION:Uniklinikum Erlangen\, Ulmenweg 18\, Erlangen\, 91054\, Germany
CATEGORIES:Pneumologie,Urologie,Allgemeinmedizin,Kinder- und Jugendmedizin,Dermatologie & Allergologie,Diabetologie & Endokrinologie,Gastroenterologie,OP-Management,Gynäkologie,Hals-Nasen-Ohren-Heilkunde,Kardiologie,Nephrologie,Neurologie & Psychiatrie,Onkologie,Orthopädie & Unfallchirurgie
ORGANIZER;CN="wikonect GmbH":MAILTO:info@wikonect.de
END:VEVENT
BEGIN:VEVENT
DTSTART;TZID=Europe/Berlin:20260722T163000
DTEND;TZID=Europe/Berlin:20260722T180000
DTSTAMP:20260420T120939
CREATED:20260205T162727Z
LAST-MODIFIED:20260205T162727Z
UID:481578-1784737800-1784743200@biermann-medizin.de
SUMMARY:11. Interdisziplinärer Allergiezirkel
DESCRIPTION:
URL:https://biermann-medizin.de/veranstaltung/11-interdisziplinaerer-allergiezirkel/
LOCATION:Universitätsklinikum Schleswig-Holstein (UKSH) Kiel\, Arnold-Heller-Straße 3\, Kiel\, 24105\, Deutschland
CATEGORIES:Dermatologie & Allergologie
END:VEVENT
BEGIN:VEVENT
DTSTART;VALUE=DATE:20260723
DTEND;VALUE=DATE:20260726
DTSTAMP:20260420T120939
CREATED:20260206T142452Z
LAST-MODIFIED:20260206T142452Z
UID:481869-1784764800-1785023999@biermann-medizin.de
SUMMARY:33rd Biennial Congress of International Society of University Colon and Rectal Surgeons
DESCRIPTION:
URL:https://biermann-medizin.de/veranstaltung/33rd-biennial-congress-of-international-society-of-university-colon-and-rectal-surgeons/
LOCATION:Kuala Lumpur\, Kuala Lumpur\, Malaysia
CATEGORIES:Gastroenterologie
ORGANIZER;CN="International Society of University Colon and Rectal Surgeons (ISUCRS)":MAILTO:isucrs@valor.com.tr
END:VEVENT
BEGIN:VEVENT
DTSTART;VALUE=DATE:20260725
DTEND;VALUE=DATE:20260727
DTSTAMP:20260420T120939
CREATED:20260220T131425Z
LAST-MODIFIED:20260220T131425Z
UID:485447-1784937600-1785110399@biermann-medizin.de
SUMMARY:Pediatric Advanced Life Support – Provider Kurs
DESCRIPTION:
URL:https://biermann-medizin.de/veranstaltung/pediatric-advanced-life-support-provider-kurs-3/
LOCATION:Trainingscenter ReAlive\, Landsteiner Straße 4\, Würzburg\, 97074
CATEGORIES:Kinder- und Jugendmedizin
ORGANIZER;CN="ReAlive%C2%AE GbR":MAILTO:info@re-alive.de
END:VEVENT
BEGIN:VEVENT
DTSTART;VALUE=DATE:20260725
DTEND;VALUE=DATE:20260727
DTSTAMP:20260420T120939
CREATED:20260222T123442Z
LAST-MODIFIED:20260222T123442Z
UID:485630-1784937600-1785110399@biermann-medizin.de
SUMMARY:ERC EPALS – European Pediatric Advanced Life Support – Provider-Kurs
DESCRIPTION:
URL:https://biermann-medizin.de/veranstaltung/erc-epals-european-pediatric-advanced-life-support-provider-kurs/
LOCATION:Kinderkrankenhaus St. Marien gGmbH\, Sternstundensaal\, Grillparzerstr. 9\, Landshut\, 84036\, Deutschland
CATEGORIES:Kinder- und Jugendmedizin
ORGANIZER;CN="bildung37%C2%B0":MAILTO:info@bildung37grad.de
END:VEVENT
BEGIN:VEVENT
DTSTART;VALUE=DATE:20260805
DTEND;VALUE=DATE:20260809
DTSTAMP:20260420T120939
CREATED:20260315T182903Z
LAST-MODIFIED:20260315T182903Z
UID:490579-1785888000-1786233599@biermann-medizin.de
SUMMARY:Alpine Phaco Camp
DESCRIPTION:
URL:https://biermann-medizin.de/veranstaltung/alpine-phaco-camp/
LOCATION:MTS – the wetlab company\, Ötztal – Bahnhof\, Riederpuitweg 3\, Ötztal Bahnhof\, 6430\, Österreich
CATEGORIES:Ophthalmologie
ORGANIZER;CN="mts-the wetlab company GmbH":MAILTO:info@mts-wetlab.com
END:VEVENT
BEGIN:VEVENT
DTSTART;VALUE=DATE:20260814
DTEND;VALUE=DATE:20260818
DTSTAMP:20260420T120939
CREATED:20260401T171714Z
LAST-MODIFIED:20260401T171714Z
UID:494555-1786665600-1787011199@biermann-medizin.de
SUMMARY:29th EASD Oxford Workshop
DESCRIPTION:
URL:https://biermann-medizin.de/veranstaltung/29th-easd-oxford-workshop/
LOCATION:Keble College\, Oxford\, OX1 3PG\, United Kingdom
CATEGORIES:Diabetologie & Endokrinologie
ORGANIZER;CN="European Association for the Study of Diabetes e.V. (EASD)":MAILTO:secretariat@easd.org
END:VEVENT
BEGIN:VEVENT
DTSTART;VALUE=DATE:20260819
DTEND;VALUE=DATE:20260820
DTSTAMP:20260420T120939
CREATED:20260315T143907Z
LAST-MODIFIED:20260315T143907Z
UID:490528-1787097600-1787183999@biermann-medizin.de
SUMMARY:19. RG nachgefragt: Online-Gespräche der Retinologischen Gesellschaft
DESCRIPTION:
URL:https://biermann-medizin.de/veranstaltung/19-rg-nachgefragt-online-gespraeche-der-retinologischen-gesellschaft/
LOCATION:Online
CATEGORIES:Ophthalmologie
ORGANIZER;CN="Congress-Organisation Gerling GmbH":MAILTO:info@congresse.de
END:VEVENT
BEGIN:VEVENT
DTSTART;VALUE=DATE:20260819
DTEND;VALUE=DATE:20260823
DTSTAMP:20260420T120939
CREATED:20260315T144217Z
LAST-MODIFIED:20260315T144217Z
UID:490530-1787097600-1787443199@biermann-medizin.de
SUMMARY:Intensive Wetlab Days
DESCRIPTION:
URL:https://biermann-medizin.de/veranstaltung/intensive-wetlab-days/
LOCATION:MTS – the wetlab company\, Ötztal – Bahnhof\, Riederpuitweg 3\, Ötztal Bahnhof\, 6430\, Österreich
CATEGORIES:Ophthalmologie
ORGANIZER;CN="mts-the wetlab company GmbH":MAILTO:info@mts-wetlab.com
END:VEVENT
BEGIN:VEVENT
DTSTART;VALUE=DATE:20260823
DTEND;VALUE=DATE:20260828
DTSTAMP:20260420T120939
CREATED:20260314T162620Z
LAST-MODIFIED:20260314T162620Z
UID:490504-1787443200-1787875199@biermann-medizin.de
SUMMARY:XXVII Biennial Meeting of the International Society for Eye Research
DESCRIPTION:Main Topics: \n\nCornea and Ocular Surface (COS)\nGenerative AI in Ophthalmology (AIO)\niPS Cells and Organotypic Technologies in Ophthalmology (iPSC)\nLens (LEN)\nNeuroprotection (NP)\nOcular Hypertension and Glaucoma (GLA)\nOcular Imaging and Bioengineering (BIM)\nOcular Immunology (IMM)\nOcular Physiology\, Pharmacology and Therapeutics (OPT)\nOphthalmic-Genetics and Genomics (OGG)\nRetinal Cell Biology (RCB)\nRetinal Degeneration (RD)\nRetinal Neuroscience and Development (RND)\nRPE-Choroid and AMD (RPE)
URL:https://biermann-medizin.de/veranstaltung/xxvii-biennial-meeting-of-the-international-society-for-eye-research/
LOCATION:Palacio de Congresos de Valencia\, Avda. Cortes Valencianas\, 60\, Valencia\, 46015\, Spain
CATEGORIES:Ophthalmologie
ORGANIZER;CN="K.I.T. Group GmbH":MAILTO:info@kit-group.org
END:VEVENT
BEGIN:VEVENT
DTSTART;VALUE=DATE:20260826
DTEND;VALUE=DATE:20260827
DTSTAMP:20260420T120939
CREATED:20260414T173641Z
LAST-MODIFIED:20260414T173641Z
UID:496796-1787702400-1787788799@biermann-medizin.de
SUMMARY:Fortbildung der Augenklinik Petrisberg
DESCRIPTION:
URL:https://biermann-medizin.de/veranstaltung/fortbildung-der-augenklinik-petrisberg/
LOCATION:MVZ Augenklinik Petrisberg GmbH\, Max-Planck-Straße 14-16\, Trier\, 54296\, Deutschland
CATEGORIES:Ophthalmologie
ORGANIZER;CN="Congress-Organisation Gerling GmbH":MAILTO:info@congresse.de
END:VEVENT
END:VCALENDAR