BEGIN:VCALENDAR
VERSION:2.0
PRODID:-//Biermann Medizin - ECPv6.9.0//NONSGML v1.0//EN
CALSCALE:GREGORIAN
METHOD:PUBLISH
X-WR-CALNAME:Biermann Medizin
X-ORIGINAL-URL:https://biermann-medizin.de
X-WR-CALDESC:Veranstaltungen für Biermann Medizin
REFRESH-INTERVAL;VALUE=DURATION:PT1H
X-Robots-Tag:noindex
X-PUBLISHED-TTL:PT1H
BEGIN:VTIMEZONE
TZID:Europe/Berlin
BEGIN:DAYLIGHT
TZOFFSETFROM:+0100
TZOFFSETTO:+0200
TZNAME:CEST
DTSTART:20260329T010000
END:DAYLIGHT
BEGIN:STANDARD
TZOFFSETFROM:+0200
TZOFFSETTO:+0100
TZNAME:CET
DTSTART:20261025T010000
END:STANDARD
END:VTIMEZONE
BEGIN:VEVENT
DTSTART;VALUE=DATE:20260907
DTEND;VALUE=DATE:20260912
DTSTAMP:20260420T213358
CREATED:20260201T143839Z
LAST-MODIFIED:20260201T143839Z
UID:480302-1788739200-1789171199@biermann-medizin.de
SUMMARY:Refraktionskurs (Schoberkurs)
DESCRIPTION:
URL:https://biermann-medizin.de/veranstaltung/refraktionskurs-schoberkurs-2/
LOCATION:Augenklinik der Universität München\, Mathildenstr. 8\, München\, 80336
CATEGORIES:Ophthalmologie
ORGANIZER;CN="Berufsverband der Augen%C3%A4rztinnen und Augen%C3%A4rzte Deutschlands e. V. (BVA)":MAILTO:bva@augeninfo.de
END:VEVENT
BEGIN:VEVENT
DTSTART;VALUE=DATE:20260908
DTEND;VALUE=DATE:20260911
DTSTAMP:20260420T213358
CREATED:20260401T173515Z
LAST-MODIFIED:20260401T173515Z
UID:494572-1788825600-1789084799@biermann-medizin.de
SUMMARY:64th Annual ESPE Meeting
DESCRIPTION:
URL:https://biermann-medizin.de/veranstaltung/64th-annual-espe-meeting/
LOCATION:Marseille Chanot – Palais des Congrès & des Expositions\, 114 Rond-Point du Prado\, Marseille\, 13008\, Frankreich
CATEGORIES:Kinder- und Jugendmedizin,Diabetologie & Endokrinologie
END:VEVENT
BEGIN:VEVENT
DTSTART;VALUE=DATE:20260908
DTEND;VALUE=DATE:20260913
DTSTAMP:20260420T213358
CREATED:20260304T131554Z
LAST-MODIFIED:20260304T132017Z
UID:488242-1788825600-1789257599@biermann-medizin.de
SUMMARY:34th International Congress of Clinical Neurophysiology
DESCRIPTION:
URL:https://biermann-medizin.de/veranstaltung/34th-international-congress-of-clinical-neurophysiology/
LOCATION:Centro de Convenciones Cartagena de Indias\, Getsemaní\, Calle 24 No. 8a-344\, Cartagena de Indias\, Colombia
CATEGORIES:Neurologie & Psychiatrie
ORGANIZER;CN="International Federation of Clinical Neurophysiology":MAILTO:info@ifcn.info
END:VEVENT
BEGIN:VEVENT
DTSTART;VALUE=DATE:20260909
DTEND;VALUE=DATE:20260910
DTSTAMP:20260420T213358
CREATED:20260225T143825Z
LAST-MODIFIED:20260225T143825Z
UID:486549-1788912000-1788998399@biermann-medizin.de
SUMMARY:VI. LUKS – Expert Training
DESCRIPTION:
URL:https://biermann-medizin.de/veranstaltung/vi-luks-expert-training/
LOCATION:Gürzenich Köln\, Martinstr. 29-37\, 50667 Köln\, Germany
CATEGORIES:Gastroenterologie
ORGANIZER;CN="COCS GmbH %E2%80%93 Congress Organisation C. Sch%C3%A4fer":MAILTO:kongresse@cocs.de
END:VEVENT
BEGIN:VEVENT
DTSTART;VALUE=DATE:20260909
DTEND;VALUE=DATE:20260912
DTSTAMP:20260420T213358
CREATED:20260119T153315Z
LAST-MODIFIED:20260119T153315Z
UID:477201-1788912000-1789171199@biermann-medizin.de
SUMMARY:35. Jahrestagung der Deutschen Gesellschaft für Thoraxchirurgie
DESCRIPTION:Themenschwerpunkte: \n\nEröffnungsveranstaltung / Keynote Lecture(s)\nThoraxtrauma in Krisenzeiten\nERAS\nThoracic Nightmares\nRobotic Surgery / (DaVinci XI)\nNavigationsbronchoskopie\nSublobäre Resektionen / 3D-Planung\nLungenkrebs-Screening\nLeistungsgruppen / Mindestmengen\nLandmark Studies\nNeue Technologien im Krankenhaus
URL:https://biermann-medizin.de/veranstaltung/35-jahrestagung-der-deutschen-gesellschaft-fuer-thoraxchirurgie/
LOCATION:Rheingoldhalle Mainz\, Rheinstraße 66\, Mainz\, 55116\, Deutschland
CATEGORIES:Pneumologie,Onkologie
ORGANIZER;CN="Deutsche Gesellschaft f%C3%BCr Thoraxchirurgie":MAILTO:sekretariat@dgt-online.de
END:VEVENT
BEGIN:VEVENT
DTSTART;VALUE=DATE:20260909
DTEND;VALUE=DATE:20260913
DTSTAMP:20260420T213358
CREATED:20260120T153327Z
LAST-MODIFIED:20260120T153327Z
UID:477384-1788912000-1789257599@biermann-medizin.de
SUMMARY:36. Deutscher Hautkrebskongress
DESCRIPTION:
URL:https://biermann-medizin.de/veranstaltung/36-deutscher-hautkrebskongress/
LOCATION:Kongresshalle am Zoo Leipzig\, Pfaffendorfer Str. 31\, Leipzig\, 04105\, Deutschland
CATEGORIES:Derma,Dermatologie & Allergologie,Onkologie
ORGANIZER;CN="Conventus Congressmanagement & Marketing GmbH":MAILTO:post@conventus.de
END:VEVENT
BEGIN:VEVENT
DTSTART;TZID=Europe/Berlin:20260909T080000
DTEND;TZID=Europe/Berlin:20260910T170000
DTSTAMP:20260420T213358
CREATED:20260225T144124Z
LAST-MODIFIED:20260225T144124Z
UID:486554-1788940800-1789059600@biermann-medizin.de
SUMMARY:8. GastroTage am Rhein
DESCRIPTION:
URL:https://biermann-medizin.de/veranstaltung/8-gastrotage-am-rhein/
LOCATION:Gürzenich Köln\, Martinstr. 29-37\, 50667 Köln\, Germany
CATEGORIES:Gastroenterologie
ORGANIZER;CN="COCS GmbH %E2%80%93 Congress Organisation C. Sch%C3%A4fer":MAILTO:kongresse@cocs.de
END:VEVENT
BEGIN:VEVENT
DTSTART;TZID=Europe/Berlin:20260909T170000
DTEND;TZID=Europe/Berlin:20260909T193000
DTSTAMP:20260420T213358
CREATED:20260317T173753Z
LAST-MODIFIED:20260317T173753Z
UID:491090-1788973200-1788982200@biermann-medizin.de
SUMMARY:Mainzer Augenärztliche Fortbildung: Glaukom
DESCRIPTION:
URL:https://biermann-medizin.de/veranstaltung/mainzer-augenaerztliche-fortbildung-glaukom/
LOCATION:Online
CATEGORIES:Ophthalmologie
ORGANIZER;CN="Universit%C3%A4tsmedizin Mainz%2C Augenklinik und Poliklinik":MAILTO:augen-lehre-fobi@unimedizin-mainz.de
END:VEVENT
BEGIN:VEVENT
DTSTART;TZID=Europe/Berlin:20260909T180000
DTEND;TZID=Europe/Berlin:20260909T213000
DTSTAMP:20260420T213358
CREATED:20251117T141818Z
LAST-MODIFIED:20251117T141818Z
UID:466169-1788976800-1788989400@biermann-medizin.de
SUMMARY:Uro- Onkologisches Herbst-Symposium
DESCRIPTION:
URL:https://biermann-medizin.de/veranstaltung/uro-onkologisches-sommer-symposium-2-2/
LOCATION:Media Docks Lübeck\, Willy-Brandt-Allee 31\, Lübeck\, 23554\, Deutschland
CATEGORIES:Urologie,Onkologie
ORGANIZER;CN="Solution Akademie GmbH":MAILTO:info@solution-akademie.de
END:VEVENT
BEGIN:VEVENT
DTSTART;VALUE=DATE:20260910
DTEND;VALUE=DATE:20260911
DTSTAMP:20260420T213358
CREATED:20260225T144420Z
LAST-MODIFIED:20260225T144420Z
UID:486559-1788998400-1789084799@biermann-medizin.de
SUMMARY:4. Summit der German Foregut Group
DESCRIPTION:
URL:https://biermann-medizin.de/veranstaltung/4-summit-der-german-foregut-group/
LOCATION:Gürzenich Köln\, Martinstr. 29-37\, 50667 Köln\, Germany
CATEGORIES:Gastroenterologie
ORGANIZER;CN="COCS GmbH %E2%80%93 Congress Organisation C. Sch%C3%A4fer":MAILTO:kongresse@cocs.de
END:VEVENT
BEGIN:VEVENT
DTSTART;VALUE=DATE:20260910
DTEND;VALUE=DATE:20260913
DTSTAMP:20260420T213358
CREATED:20260202T103712Z
LAST-MODIFIED:20260202T103712Z
UID:480454-1788998400-1789257599@biermann-medizin.de
SUMMARY:2. Deutscher Schlaganfallkongress
DESCRIPTION:
URL:https://biermann-medizin.de/veranstaltung/2-deutscher-schlaganfallkongress/
LOCATION:Henry Ford Bau der FU in Berlin-Dahlem\, Garystraße 35\, Berlin\, Berlin\, 14195\, Germany
CATEGORIES:Neurologie & Psychiatrie
ORGANIZER;CN="Kongress- und Kulturmanagement GmbH (KUKM)":MAILTO:info@kukm.de
END:VEVENT
BEGIN:VEVENT
DTSTART;VALUE=DATE:20260910
DTEND;VALUE=DATE:20260913
DTSTAMP:20260420T213358
CREATED:20260205T160740Z
LAST-MODIFIED:20260205T160740Z
UID:481563-1788998400-1789257599@biermann-medizin.de
SUMMARY:EADV Course: Supportive Oncodermatology
DESCRIPTION:
URL:https://biermann-medizin.de/veranstaltung/eadv-course-supportive-oncodermatology/
LOCATION:Neapel\, Neapel\, Italy
CATEGORIES:Dermatologie & Allergologie
ORGANIZER;CN="European Academy of Dermatology and Venereology (EADV)":MAILTO:eadvoffice@eadv.org
END:VEVENT
BEGIN:VEVENT
DTSTART;VALUE=DATE:20260911
DTEND;VALUE=DATE:20260912
DTSTAMP:20260420T213358
CREATED:20260216T183849Z
LAST-MODIFIED:20260216T183849Z
UID:483923-1789084800-1789171199@biermann-medizin.de
SUMMARY:PädAir – Pädiatrisches Airway Management
DESCRIPTION:
URL:https://biermann-medizin.de/veranstaltung/paedair-paediatrisches-airway-management/
LOCATION:Berliner Simulations- und Trainingszentrum\, Luisenstraße 65\, Berlin\, 10117
CATEGORIES:Pneumologie,Anästhesiologie & Intensivmedizin
ORGANIZER;CN="Charit%C3%A9 Universit%C3%A4tsmedizin Berlin%2C Berliner Simulations- und Trainingszentrum":MAILTO:berliner-simulationstraining@charite.de
END:VEVENT
BEGIN:VEVENT
DTSTART;VALUE=DATE:20260911
DTEND;VALUE=DATE:20260913
DTSTAMP:20260420T213358
CREATED:20260129T140830Z
LAST-MODIFIED:20260129T140830Z
UID:479887-1789084800-1789257599@biermann-medizin.de
SUMMARY:Innere Medizin fachübergreifend – Diabetologie grenzenlos
DESCRIPTION:
URL:https://biermann-medizin.de/veranstaltung/innere-medizin-fachuebergreifend-diabetologie-grenzenlos-5/
LOCATION:Frankfurt
CATEGORIES:Diabetologie & Endokrinologie
ORGANIZER;CN="DIAPLAN Dialog-Marketing GmbH":MAILTO:info@diaplan.de
END:VEVENT
BEGIN:VEVENT
DTSTART;TZID=Europe/Berlin:20260911T080000
DTEND;TZID=Europe/Berlin:20260915T170000
DTSTAMP:20260420T213358
CREATED:20260207T160930Z
LAST-MODIFIED:20260207T160930Z
UID:481926-1789113600-1789491600@biermann-medizin.de
SUMMARY:44th Congress of the European Society of Cataract and Refractive Surgeons
DESCRIPTION:
URL:https://biermann-medizin.de/veranstaltung/44th-congress-of-the-european-society-of-cataract-and-refractive-surgeons/
LOCATION:Exhibition Centre London (ExCeL London)\, 1 Western Gateway\, London\, E16 1XL\, Großbritannien (Vereinigtes Königreich)
CATEGORIES:Ophthalmologie
ORGANIZER;CN="European Society of Cataract &amp%3B Refractive Surgeons (ESCRS)":MAILTO:escrs@escrs.org
END:VEVENT
BEGIN:VEVENT
DTSTART;TZID=Europe/Berlin:20260911T143000
DTEND;TZID=Europe/Berlin:20260911T200000
DTSTAMP:20260420T213358
CREATED:20260205T163041Z
LAST-MODIFIED:20260205T163041Z
UID:481580-1789137000-1789156800@biermann-medizin.de
SUMMARY:3. Allergiesymposium Kiel
DESCRIPTION:
URL:https://biermann-medizin.de/veranstaltung/3-allergiesymposium-kiel/
LOCATION:ATLANTIC Hotel Kiel\, Raiffeisenstraße 2\, Kiel\, 24103\, Deutschland
CATEGORIES:Dermatologie & Allergologie
END:VEVENT
BEGIN:VEVENT
DTSTART;VALUE=DATE:20260912
DTEND;VALUE=DATE:20260913
DTSTAMP:20260420T213358
CREATED:20260312T122355Z
LAST-MODIFIED:20260312T122355Z
UID:490110-1789171200-1789257599@biermann-medizin.de
SUMMARY:DGS-Schmerzmedizin UP-TO-DATE 2026
DESCRIPTION:
URL:https://biermann-medizin.de/veranstaltung/dgs-schmerzmedizin-up-to-date-2026-8/
LOCATION:Osnabrück
CATEGORIES:Schmerzmedizin
ORGANIZER;CN="Deutsche Gesellschaft f%C3%BCr Schmerzmedizin e.V. (DGS)":MAILTO:info@dgschmerzmedizin.de
END:VEVENT
BEGIN:VEVENT
DTSTART;VALUE=DATE:20260912
DTEND;VALUE=DATE:20260913
DTSTAMP:20260420T213358
CREATED:20260317T180514Z
LAST-MODIFIED:20260317T180514Z
UID:491209-1789171200-1789257599@biermann-medizin.de
SUMMARY:Oldenburger Hornhauttag
DESCRIPTION:
URL:https://biermann-medizin.de/veranstaltung/oldenburger-hornhauttag-2/
LOCATION:Universitätsklinik Augenheilkunde\, Pius-Hospital\, Georgstraße 12\, Oldenburg\, 26121
CATEGORIES:Ophthalmologie
ORGANIZER;CN="Congress-Organisation Gerling GmbH":MAILTO:info@congresse.de
END:VEVENT
BEGIN:VEVENT
DTSTART;VALUE=DATE:20260912
DTEND;VALUE=DATE:20260913
DTSTAMP:20260420T213358
CREATED:20260414T173431Z
LAST-MODIFIED:20260414T173431Z
UID:496794-1789171200-1789257599@biermann-medizin.de
SUMMARY:25. Basiskurs Retinal Imaging
DESCRIPTION:Hybrid-Event
URL:https://biermann-medizin.de/veranstaltung/25-basiskurs-retinal-imaging/
LOCATION:Kranz Park Hotel\, Mühlenstr. 32 - 44\, Siegburg\, 53721
CATEGORIES:Ophthalmologie
ORGANIZER;CN="Congress-Organisation Gerling GmbH":MAILTO:info@congresse.de
END:VEVENT
BEGIN:VEVENT
DTSTART;VALUE=DATE:20260912
DTEND;VALUE=DATE:20260914
DTSTAMP:20260420T213358
CREATED:20260220T131737Z
LAST-MODIFIED:20260220T131737Z
UID:485449-1789171200-1789343999@biermann-medizin.de
SUMMARY:Pediatric Advanced Life Support – Provider Kurs
DESCRIPTION:
URL:https://biermann-medizin.de/veranstaltung/pediatric-advanced-life-support-provider-kurs-4/
LOCATION:Trainingscenter ReAlive\, Landsteiner Straße 4\, Würzburg\, 97074
CATEGORIES:Kinder- und Jugendmedizin
ORGANIZER;CN="ReAlive%C2%AE GbR":MAILTO:info@re-alive.de
END:VEVENT
BEGIN:VEVENT
DTSTART;VALUE=DATE:20260912
DTEND;VALUE=DATE:20260915
DTSTAMP:20260420T213358
CREATED:20260316T182250Z
LAST-MODIFIED:20260316T182250Z
UID:490917-1789171200-1789430399@biermann-medizin.de
SUMMARY:One Retinoblastoma World 2026
DESCRIPTION:
URL:https://biermann-medizin.de/veranstaltung/one-retinoblastoma-world-2026/
LOCATION:Hyatt Regency San Antonio Riverwalk\, 123 Losoya Street\, San Antonio\, TX 78205\, United States
CATEGORIES:Onkologie,Ophthalmologie
ORGANIZER;CN="World Eye Cancer Hope":MAILTO:uk@wechope.org
END:VEVENT
BEGIN:VEVENT
DTSTART;VALUE=DATE:20260912
DTEND;VALUE=DATE:20260917
DTSTAMP:20260420T213358
CREATED:20250902T090640Z
LAST-MODIFIED:20250902T090640Z
UID:448038-1789171200-1789603199@biermann-medizin.de
SUMMARY:38th European Congress of Pathology
DESCRIPTION:Themen: Autopsiepathologie / Brustpathologie / Herz-Kreislauf-Pathologie / Zytopathologie / Dermatopathologie / Pathologie der Verdauungskrankheiten / Digitale und computergestützte Pathologie/ Elektronenmikroskopie / Endokrine Pathologie / Gynäkologische Pathologie / Hämatopathologie / Kopf-Hals-Pathologie / Geschichte der Pathologie / Infektionspathologie / Molekularpathologie / Nephropathologie / Neuropathologie / Ophthalmologische Pathologie / Pädiatrische und perinatale Pathologie / Pathologie für Entwicklungsländer / Lungenpathologie / Weichteil- und Knochenpathologie / Thymus- und Mediastinalpathologie / Uropathologie
URL:https://biermann-medizin.de/veranstaltung/38th-european-congress-of-pathology/
LOCATION:Stockholmsmässan\, Mässvägen 1\, Älvsjö\, 125 80\, Schweden
CATEGORIES:Pneumologie,Derma,Urologie,wichtige Veranstaltungen,Labormedizin,Kinder- und Jugendmedizin,Dermatologie & Allergologie,Diabetologie & Endokrinologie,Gastroenterologie,Gynäkologie,Hals-Nasen-Ohren-Heilkunde,Kardiologie,Nephrologie,Onkologie,Ophthalmologie,Orthopädie & Unfallchirurgie
ORGANIZER;CN="European Society of Pathology":MAILTO:admin@esp-pathology.org
END:VEVENT
BEGIN:VEVENT
DTSTART;TZID=Europe/Berlin:20260912T130000
DTEND;TZID=Europe/Berlin:20260912T150000
DTSTAMP:20260420T213358
CREATED:20260319T182325Z
LAST-MODIFIED:20260319T182325Z
UID:491823-1789218000-1789225200@biermann-medizin.de
SUMMARY:IUSG-Webinar 55: Representative Uveitis Cases from Italy
DESCRIPTION:
URL:https://biermann-medizin.de/veranstaltung/iusg-webinar-55-representative-uveitis-cases-from-italy/
LOCATION:Online
CATEGORIES:Ophthalmologie
ORGANIZER;CN="International Uveitis Study Group (IUSG)":MAILTO:office@iusg.net
END:VEVENT
BEGIN:VEVENT
DTSTART;TZID=Europe/Berlin:20260912T180000
DTEND;TZID=Europe/Berlin:20260913T153000
DTSTAMP:20260420T213358
CREATED:20260315T145504Z
LAST-MODIFIED:20260315T145504Z
UID:490538-1789236000-1789313400@biermann-medizin.de
SUMMARY:32. Jahrestagung der Sächsisch-Anhaltisch-Thüringischen Augenärztegesellschaft
DESCRIPTION:
URL:https://biermann-medizin.de/veranstaltung/32-jahrestagung-der-saechsisch-anhaltisch-thueringischen-augenaerztegesellschaft/
LOCATION:AHORN Panorama Hotel\, Theo-Neubauer-Straße 29\, Oberhof\, 98559\, Germany
CATEGORIES:Ophthalmologie
ORGANIZER;CN="Congress-Organisation Gerling GmbH":MAILTO:info@congresse.de
END:VEVENT
BEGIN:VEVENT
DTSTART;VALUE=DATE:20260914
DTEND;VALUE=DATE:20260920
DTSTAMP:20260420T213358
CREATED:20260120T154152Z
LAST-MODIFIED:20260120T154152Z
UID:477393-1789344000-1789862399@biermann-medizin.de
SUMMARY:Viszeralmedizin 2026
DESCRIPTION:
URL:https://biermann-medizin.de/veranstaltung/viszeralmedizin-2026/
LOCATION:Congress Center Hamburg (CCH)\, Am Dammtor/Marseiller Straße\, Hamburg\, 20355\, Deutschland
CATEGORIES:Gastroenterologie,Onkologie
ORGANIZER;CN="Deutsche Gesellschaft f%C3%BCr Gastroenterologie%2C Verdauungs- und Stoffwechselkrankheiten (DGVS)":MAILTO:info@dgvs.de
END:VEVENT
BEGIN:VEVENT
DTSTART;VALUE=DATE:20260916
DTEND;VALUE=DATE:20260919
DTSTAMP:20260420T213358
CREATED:20260128T175043Z
LAST-MODIFIED:20260128T175043Z
UID:479571-1789516800-1789775999@biermann-medizin.de
SUMMARY:Jahreskongress der Deutschen Gesellschaft für Anästhesiologie
DESCRIPTION:
URL:https://biermann-medizin.de/veranstaltung/jahreskongress-der-deutschen-gesellschaft-fuer-anaesthesiologie/
LOCATION:Kongress Palais Kassel\, Holger-Börner-Platz 1\, Kassel\, 34119\, Deutschland
CATEGORIES:Anästhesiologie & Intensivmedizin,Schmerzmedizin
ORGANIZER;CN="MCN Medizinische Congressorganisation N%C3%BCrnberg GmbH":MAILTO:mcn@mcn-nuernberg.de
END:VEVENT
BEGIN:VEVENT
DTSTART;VALUE=DATE:20260916
DTEND;VALUE=DATE:20260920
DTSTAMP:20260420T213358
CREATED:20251113T140842Z
LAST-MODIFIED:20251113T140842Z
UID:465442-1789516800-1789862399@biermann-medizin.de
SUMMARY:78. Kongress der Deutschen Gesellschaft für Urologie e.V.
DESCRIPTION:
URL:https://biermann-medizin.de/veranstaltung/78-kongress-der-deutschen-gesellschaft-fuer-urologie-e-v/
LOCATION:Congress Center Düsseldorf (CCD) Messe Düsseldorf GmbH\, Stockumer Kirchstraße 61\, Düsseldorf\, 40474\, Deutschland
CATEGORIES:Urologie
END:VEVENT
BEGIN:VEVENT
DTSTART;VALUE=DATE:20260916
DTEND;VALUE=DATE:20260920
DTSTAMP:20260420T213358
CREATED:20260314T155746Z
LAST-MODIFIED:20260314T155746Z
UID:490494-1789516800-1789862399@biermann-medizin.de
SUMMARY:Praxisanleiter*in Seminar für die Pflege „Schmerz macht Schule“
DESCRIPTION:
URL:https://biermann-medizin.de/veranstaltung/praxisanleiterin-seminar-fuer-die-pflege-schmerz-macht-schule/
LOCATION:Congress Centrum Sylt (CCS)\, Friedrichstraße 44\, Sylt\, 25980\, Deutschland
CATEGORIES:Schmerzmedizin
END:VEVENT
BEGIN:VEVENT
DTSTART;VALUE=DATE:20260918
DTEND;VALUE=DATE:20260919
DTSTAMP:20260420T213358
CREATED:20260114T120418Z
LAST-MODIFIED:20260114T120418Z
UID:476358-1789689600-1789775999@biermann-medizin.de
SUMMARY:14. Niederösterreichischer Onkologietag
DESCRIPTION:
URL:https://biermann-medizin.de/veranstaltung/14-niederoesterreichischer-onkologietag/
LOCATION:Campus Krems – Karl Landsteiner Privatuniversität für Gesundheitswissenschaften\, Dr.-Karl-Dorrek-Straße 30\, Krems\, 3500\, Deutschland
CATEGORIES:Onkologie
ORGANIZER;CN="MAW - Medizinische Ausstellungs- und Werbegesellschaft GmbH":MAILTO:maw@media.co.at
END:VEVENT
BEGIN:VEVENT
DTSTART;VALUE=DATE:20260918
DTEND;VALUE=DATE:20260920
DTSTAMP:20260420T213358
CREATED:20260205T150736Z
LAST-MODIFIED:20260205T150736Z
UID:481500-1789689600-1789862399@biermann-medizin.de
SUMMARY:Masterclass „Neuropathischer Schmerz“
DESCRIPTION:
URL:https://biermann-medizin.de/veranstaltung/masterclass-neuropathischer-schmerz-2/
LOCATION:Geschäftsstelle der Deutschen Schmerzgesellschaft\, Alt-Moabit 101 b\, Berlin\, 10599
CATEGORIES:Schmerzmedizin
END:VEVENT
END:VCALENDAR