BEGIN:VCALENDAR
VERSION:2.0
PRODID:-//Biermann Medizin - ECPv6.9.0//NONSGML v1.0//EN
CALSCALE:GREGORIAN
METHOD:PUBLISH
X-WR-CALNAME:Biermann Medizin
X-ORIGINAL-URL:https://biermann-medizin.de
X-WR-CALDESC:Veranstaltungen für Biermann Medizin
REFRESH-INTERVAL;VALUE=DURATION:PT1H
X-Robots-Tag:noindex
X-PUBLISHED-TTL:PT1H
BEGIN:VTIMEZONE
TZID:Europe/Berlin
BEGIN:DAYLIGHT
TZOFFSETFROM:+0100
TZOFFSETTO:+0200
TZNAME:CEST
DTSTART:20260329T010000
END:DAYLIGHT
BEGIN:STANDARD
TZOFFSETFROM:+0200
TZOFFSETTO:+0100
TZNAME:CET
DTSTART:20261025T010000
END:STANDARD
END:VTIMEZONE
BEGIN:VEVENT
DTSTART;VALUE=DATE:20260923
DTEND;VALUE=DATE:20260927
DTSTAMP:20260421T041420
CREATED:20260120T154809Z
LAST-MODIFIED:20260120T154809Z
UID:477396-1790121600-1790467199@biermann-medizin.de
SUMMARY:16. Kongress der Deutschen Gesellschaft für Palliativmedizin
DESCRIPTION:
URL:https://biermann-medizin.de/veranstaltung/16-kongress-der-deutschen-gesellschaft-fuer-palliativmedizin/
LOCATION:Konzerthaus Freiburg\, Konrad-Adenauer-Platz 1\, Freiburg im Breisgau\, 79098\, Deutschland
CATEGORIES:Pneumologie,Allgemeinmedizin,Gastroenterologie,Schmerzmedizin,Neurologie & Psychiatrie,Onkologie
ORGANIZER;CN="wikonect GmbH":MAILTO:info@wikonect.de
END:VEVENT
BEGIN:VEVENT
DTSTART;VALUE=DATE:20260923
DTEND;VALUE=DATE:20260927
DTSTAMP:20260421T041420
CREATED:20260309T115739Z
LAST-MODIFIED:20260309T115739Z
UID:488963-1790121600-1790467199@biermann-medizin.de
SUMMARY:IPSIS Annual Meeting
DESCRIPTION:
URL:https://biermann-medizin.de/veranstaltung/ipsis-annual-meeting/
LOCATION:Grand Hyatt Washington\, 1000 H Street NW\, Washington D.C.\, 20001\, United States
CATEGORIES:Schmerzmedizin
END:VEVENT
BEGIN:VEVENT
DTSTART;VALUE=DATE:20260924
DTEND;VALUE=DATE:20260927
DTSTAMP:20260421T041420
CREATED:20260129T104830Z
LAST-MODIFIED:20260129T104830Z
UID:479746-1790208000-1790467199@biermann-medizin.de
SUMMARY:Herbsttagung der Österreichischen Gesellschaft für Klinische Pathologie und für Molekularpathologie
DESCRIPTION:
URL:https://biermann-medizin.de/veranstaltung/herbsttagung-der-oesterreichischen-gesellschaft-fuer-klinische-pathologie-und-fuer-molekularpathologie/
LOCATION:Tabakfabrik Linz\, Peter-Behrens-Platz 7-8\, Linz\, 4020\, Austria
CATEGORIES:Labormedizin
ORGANIZER;CN="MAW %E2%80%93 Kongressb%C3%BCro %C3%96GPath":MAILTO:oegpath@media.co.at
END:VEVENT
BEGIN:VEVENT
DTSTART;VALUE=DATE:20260924
DTEND;VALUE=DATE:20260927
DTSTAMP:20260421T041420
CREATED:20260204T130733Z
LAST-MODIFIED:20260204T130733Z
UID:481203-1790208000-1790467199@biermann-medizin.de
SUMMARY:Psychiatrie und Psychotherapie Refresher Köln (hybrid)
DESCRIPTION:
URL:https://biermann-medizin.de/veranstaltung/psychiatrie-und-psychotherapie-refresher-koeln-hybrid/
LOCATION:KOMED im Mediapark\, Im MediaPark 6\, Köln\, 50670\, Germany
CATEGORIES:Neurologie & Psychiatrie
ORGANIZER;CN="Forum f%C3%BCr medizinische Fortbildung - FomF GmbH":MAILTO:info@fomf.de
END:VEVENT
BEGIN:VEVENT
DTSTART;VALUE=DATE:20260924
DTEND;VALUE=DATE:20260927
DTSTAMP:20260421T041420
CREATED:20260206T143819Z
LAST-MODIFIED:20260206T143819Z
UID:481879-1790208000-1790467199@biermann-medizin.de
SUMMARY:5th World Congress of GI Endoscopy
DESCRIPTION:
URL:https://biermann-medizin.de/veranstaltung/5th-world-congress-of-gi-endoscopy/
LOCATION:Cape Town International Convention Centre\, Convention Square 1 Lower Long Street\, Cape Town\, 8001\, Südafrika
CATEGORIES:Gastroenterologie
ORGANIZER;CN="World Endoscopy Organization":MAILTO:Anastasiia.L@worldendo.org
END:VEVENT
BEGIN:VEVENT
DTSTART;VALUE=DATE:20260924
DTEND;VALUE=DATE:20260927
DTSTAMP:20260421T041420
CREATED:20260225T145342Z
LAST-MODIFIED:20260225T145342Z
UID:486574-1790208000-1790467199@biermann-medizin.de
SUMMARY:28. Infektiologischer Intensivkurs
DESCRIPTION:
URL:https://biermann-medizin.de/veranstaltung/28-infektiologischer-intensivkurs/
LOCATION:Julius-Maximilians-Universität Würzburg\, Sanderring 2\, Würzburg\, Bayern\, 97070\, Deutschland
CATEGORIES:Infektiologie
ORGANIZER;CN="COCS GmbH %E2%80%93 Congress Organisation C. Sch%C3%A4fer":MAILTO:kongresse@cocs.de
END:VEVENT
BEGIN:VEVENT
DTSTART;VALUE=DATE:20260924
DTEND;VALUE=DATE:20260927
DTSTAMP:20260421T041420
CREATED:20260303T153553Z
LAST-MODIFIED:20260303T153553Z
UID:487875-1790208000-1790467199@biermann-medizin.de
SUMMARY:DGK Herztage 2026
DESCRIPTION:
URL:https://biermann-medizin.de/veranstaltung/dgk-herztage-2026/
LOCATION:Congress Center Hamburg (CCH)\, Am Dammtor/Marseiller Straße\, Hamburg\, 20355\, Deutschland
CATEGORIES:Kardiologie
ORGANIZER;CN="m%3Acon %E2%80%93 mannheim%3Acongress GmbH":MAILTO:info@mcon-mannheim.de
END:VEVENT
BEGIN:VEVENT
DTSTART;VALUE=DATE:20260924
DTEND;VALUE=DATE:20260927
DTSTAMP:20260421T041420
CREATED:20260315T164941Z
LAST-MODIFIED:20260315T164941Z
UID:490565-1790208000-1790467199@biermann-medizin.de
SUMMARY:51st Annual Meeting of EPOS
DESCRIPTION:
URL:https://biermann-medizin.de/veranstaltung/51st-annual-meeting-of-epos/
LOCATION:Crowne Plaza Bukarest\, Bdul. Poligrafiei 1\, Bukarest\, 013704\, Romania
CATEGORIES:Ophthalmologie
ORGANIZER;CN="European Paediatric Ophthalmological Society (EPOS)":MAILTO:info@epos-focus.org
END:VEVENT
BEGIN:VEVENT
DTSTART;VALUE=DATE:20260925
DTEND;VALUE=DATE:20260927
DTSTAMP:20260421T041420
CREATED:20260129T151959Z
LAST-MODIFIED:20260129T151959Z
UID:479892-1790294400-1790467199@biermann-medizin.de
SUMMARY:Pulmonary Embolism Update 2026
DESCRIPTION:
URL:https://biermann-medizin.de/veranstaltung/pulmonary-embolism-update-2026-2/
LOCATION:Kaiserin Friedrich-Haus\, Robert-Koch-Platz 7\, Berlin\, 10115\, Deutschland
CATEGORIES:Kardiologie
END:VEVENT
BEGIN:VEVENT
DTSTART;VALUE=DATE:20260925
DTEND;VALUE=DATE:20260927
DTSTAMP:20260421T041420
CREATED:20260203T175736Z
LAST-MODIFIED:20260203T175736Z
UID:480951-1790294400-1790467199@biermann-medizin.de
SUMMARY:Hausarzt Refresher Köln (hybrid)
DESCRIPTION:
URL:https://biermann-medizin.de/veranstaltung/hausarzt-refresher-koeln-hybrid/
LOCATION:KOMED im Mediapark\, Im MediaPark 6\, Köln\, 50670\, Germany
CATEGORIES:Allgemeinmedizin
ORGANIZER;CN="Forum f%C3%BCr medizinische Fortbildung - FomF GmbH":MAILTO:info@fomf.de
END:VEVENT
BEGIN:VEVENT
DTSTART;VALUE=DATE:20260925
DTEND;VALUE=DATE:20260927
DTSTAMP:20260421T041420
CREATED:20260204T081513Z
LAST-MODIFIED:20260204T081513Z
UID:480980-1790294400-1790467199@biermann-medizin.de
SUMMARY:Masterclass Komplementäre Methoden in der integrativen Schmerztherapie
DESCRIPTION:
URL:https://biermann-medizin.de/veranstaltung/masterclass-komplementaere-methoden-in-der-integrativen-schmerztherapie-2/
LOCATION:Klinik Schloss Warnsdorf\, Schlossstraße 10\, Ratekau\, 23626\, Germany
CATEGORIES:Schmerzmedizin
END:VEVENT
BEGIN:VEVENT
DTSTART;VALUE=DATE:20260928
DTEND;VALUE=DATE:20260930
DTSTAMP:20260421T041420
CREATED:20260129T111125Z
LAST-MODIFIED:20260129T111125Z
UID:479783-1790553600-1790726399@biermann-medizin.de
SUMMARY:3rd Conference on Experimental Endocrinology
DESCRIPTION:
URL:https://biermann-medizin.de/veranstaltung/3rd-conference-on-experimental-endocrinology/
LOCATION:Gießen
CATEGORIES:Diabetologie & Endokrinologie
ORGANIZER;CN="EndoScience Endokrinologie Service GmbH":MAILTO:info@endoscience.de
END:VEVENT
BEGIN:VEVENT
DTSTART;VALUE=DATE:20260928
DTEND;VALUE=DATE:20261003
DTSTAMP:20260421T041420
CREATED:20250912T124524Z
LAST-MODIFIED:20250912T124524Z
UID:450591-1790553600-1790985599@biermann-medizin.de
SUMMARY:62nd Annual Meeting of the European Association for the Study of Diabetes
DESCRIPTION:
URL:https://biermann-medizin.de/veranstaltung/62nd-annual-meeting-of-the-european-association-for-the-study-of-diabetes/
LOCATION:Allianz MiCo\, Piazzale Carlo Magno\, 1\, Mailand\, 20149\, Italien
CATEGORIES:Diabetologie & Endokrinologie
END:VEVENT
BEGIN:VEVENT
DTSTART;VALUE=DATE:20260930
DTEND;VALUE=DATE:20261001
DTSTAMP:20260421T041420
CREATED:20260414T172730Z
LAST-MODIFIED:20260414T172730Z
UID:496790-1790726400-1790812799@biermann-medizin.de
SUMMARY:EURETINA Innovation Spotlight
DESCRIPTION:
URL:https://biermann-medizin.de/veranstaltung/euretina-innovation-spotlight/
LOCATION:Vienna Congress & Convention Center (VIECON)\, Messeplatz 1\, Wien\, 1020\, Austria
CATEGORIES:Ophthalmologie
ORGANIZER;CN="European Society of Retina Specialists (EURETINA)":MAILTO:euretina@euretina.org
END:VEVENT
BEGIN:VEVENT
DTSTART;VALUE=DATE:20260930
DTEND;VALUE=DATE:20261003
DTSTAMP:20260421T041420
CREATED:20260119T153643Z
LAST-MODIFIED:20260411T143730Z
UID:477213-1790726400-1790985599@biermann-medizin.de
SUMMARY:Deutscher Kongress für Laboratoriumsmedizin 2026
DESCRIPTION:
URL:https://biermann-medizin.de/veranstaltung/deutscher-kongress-fuer-laboratoriumsmedizin-2026/
LOCATION:Congress Center Hamburg (CCH)\, Am Dammtor/Marseiller Straße\, Hamburg\, 20355\, Deutschland
CATEGORIES:Labormedizin,Onkologie
ORGANIZER;CN="m%3Acon %E2%80%93 mannheim%3Acongress GmbH":MAILTO:info@mcon-mannheim.de
END:VEVENT
BEGIN:VEVENT
DTSTART;VALUE=DATE:20260930
DTEND;VALUE=DATE:20261005
DTSTAMP:20260421T041420
CREATED:20260305T150447Z
LAST-MODIFIED:20260305T150447Z
UID:488542-1790726400-1791158399@biermann-medizin.de
SUMMARY:Congress of The European Association of Neurosurgical Societies 2026
DESCRIPTION:
URL:https://biermann-medizin.de/veranstaltung/congress-of-the-european-association-of-neurosurgical-societies-2026/
LOCATION:Congress Center Hamburg (CCH)\, Am Dammtor/Marseiller Straße\, Hamburg\, 20355\, Deutschland
CATEGORIES:Neurologie & Psychiatrie
END:VEVENT
BEGIN:VEVENT
DTSTART;VALUE=DATE:20261001
DTEND;VALUE=DATE:20261003
DTSTAMP:20260421T041420
CREATED:20260129T114000Z
LAST-MODIFIED:20260129T114000Z
UID:479788-1790812800-1790985599@biermann-medizin.de
SUMMARY:Herbstsitzung der AG Hypophyse und 29. Jahrestagung der Sektion Neuroendokrinologie
DESCRIPTION:
URL:https://biermann-medizin.de/veranstaltung/herbstsitzung-der-ag-hypophyse-und-29-jahrestagung-der-sektion-neuroendokrinologie/
LOCATION:Leipzig
CATEGORIES:Diabetologie & Endokrinologie
ORGANIZER;CN="EndoScience Endokrinologie Service GmbH":MAILTO:info@endoscience.de
END:VEVENT
BEGIN:VEVENT
DTSTART;VALUE=DATE:20261001
DTEND;VALUE=DATE:20261005
DTSTAMP:20260421T041420
CREATED:20250828T131256Z
LAST-MODIFIED:20250828T131256Z
UID:447296-1790812800-1791158399@biermann-medizin.de
SUMMARY:26th European Society of Retina Specialists Congress
DESCRIPTION:
URL:https://biermann-medizin.de/veranstaltung/26th-european-society-of-retina-specialists-congress/
LOCATION:Vienna Congress & Convention Center (VIECON)\, Messeplatz 1\, Wien\, 1020\, Austria
CATEGORIES:wichtige Veranstaltungen,Ophthalmologie
ORGANIZER;CN="European Society of Retina Specialists (EURETINA)":MAILTO:euretina@euretina.org
END:VEVENT
BEGIN:VEVENT
DTSTART;VALUE=DATE:20261002
DTEND;VALUE=DATE:20261004
DTSTAMP:20260421T041420
CREATED:20260225T153640Z
LAST-MODIFIED:20260225T153640Z
UID:486578-1790899200-1791071999@biermann-medizin.de
SUMMARY:Jahrestagung der Vereinigung Südwestdeutscher Hals-Nasen-Ohrenärzte
DESCRIPTION:
URL:https://biermann-medizin.de/veranstaltung/jahrestagung-der-vereinigung-suedwestdeutscher-hals-nasen-ohrenaerzte/
LOCATION:Augsburg
CATEGORIES:Hals-Nasen-Ohren-Heilkunde
END:VEVENT
BEGIN:VEVENT
DTSTART;VALUE=DATE:20261005
DTEND;VALUE=DATE:20261007
DTSTAMP:20260421T041420
CREATED:20260222T152152Z
LAST-MODIFIED:20260222T152152Z
UID:485671-1791158400-1791331199@biermann-medizin.de
SUMMARY:World Pediatrics Conference 2026
DESCRIPTION:
URL:https://biermann-medizin.de/veranstaltung/world-pediatrics-conference-2026/
LOCATION:Hotel Agora Regency\, 4 Chome 45-1 Ebisujimacho\, Sakai Ward\, Osaka\, 590-0985\, Japan
CATEGORIES:Kinder- und Jugendmedizin
ORGANIZER;CN="Episirus Scientifica":MAILTO:info@episirus.org
END:VEVENT
BEGIN:VEVENT
DTSTART;VALUE=DATE:20261006
DTEND;VALUE=DATE:20261007
DTSTAMP:20260421T041420
CREATED:20260218T181847Z
LAST-MODIFIED:20260218T181847Z
UID:484758-1791244800-1791331199@biermann-medizin.de
SUMMARY:LID – Light INTU the Dark: Ein Intubationskurs für Einsteiger*innen
DESCRIPTION:
URL:https://biermann-medizin.de/veranstaltung/lid-light-intu-the-dark-ein-intubationskurs-fuer-einsteigerinnen-2/
LOCATION:Berliner Simulations- und Trainingszentrum\, Luisenstraße 65\, Berlin\, 10117
CATEGORIES:Pneumologie
ORGANIZER;CN="Charit%C3%A9 Universit%C3%A4tsmedizin Berlin%2C Berliner Simulations- und Trainingszentrum":MAILTO:berliner-simulationstraining@charite.de
END:VEVENT
BEGIN:VEVENT
DTSTART;VALUE=DATE:20261006
DTEND;VALUE=DATE:20261008
DTSTAMP:20260421T041420
CREATED:20260330T150901Z
LAST-MODIFIED:20260330T150901Z
UID:493711-1791244800-1791417599@biermann-medizin.de
SUMMARY:Hämostaseologiekurs 2026
DESCRIPTION:
URL:https://biermann-medizin.de/veranstaltung/haemostaseologiekurs-2026/
LOCATION:Apothekertrakt Schloß Schönbrunn\, Grünbergstraße-Meidlinger Tor\, Wien\, 1130\, Österreich
CATEGORIES:Kinder- und Jugendmedizin,Onkologie
ORGANIZER;CN="MAW - Medizinische Ausstellungs- und Werbegesellschaft GmbH":MAILTO:maw@media.co.at
END:VEVENT
BEGIN:VEVENT
DTSTART;VALUE=DATE:20261006
DTEND;VALUE=DATE:20261010
DTSTAMP:20260421T041420
CREATED:20260127T175233Z
LAST-MODIFIED:20260127T175233Z
UID:478962-1791244800-1791590399@biermann-medizin.de
SUMMARY:International Continence Society Annual Meeting 2026
DESCRIPTION:
URL:https://biermann-medizin.de/veranstaltung/international-continence-society-annual-meeting-2026/
LOCATION:Maastrichts Expositie en Congres Centrum MECC\, Forum 100\, Maastricht\, 6229 GV\, Netherlands
CATEGORIES:Urologie
ORGANIZER;CN="International Continence Society (ICS)":MAILTO:info@ics.org
END:VEVENT
BEGIN:VEVENT
DTSTART;VALUE=DATE:20261007
DTEND;VALUE=DATE:20261010
DTSTAMP:20260421T041420
CREATED:20260305T152612Z
LAST-MODIFIED:20260305T152612Z
UID:488574-1791331200-1791590399@biermann-medizin.de
SUMMARY:EUROSPINE Annual Meeting 2026
DESCRIPTION:
URL:https://biermann-medizin.de/veranstaltung/eurospine-annual-meeting-2026/
LOCATION:Svenska Mässan\, Mässans Gata\, Göteborg\, 41294\, Schweden
CATEGORIES:Neurologie & Psychiatrie
ORGANIZER;CN="EUROSPINE%2C the Spine Society of Europe":MAILTO:info@eurospine.org
END:VEVENT
BEGIN:VEVENT
DTSTART;VALUE=DATE:20261007
DTEND;VALUE=DATE:20261011
DTSTAMP:20260421T041420
CREATED:20260304T132512Z
LAST-MODIFIED:20260304T132512Z
UID:488255-1791331200-1791676799@biermann-medizin.de
SUMMARY:65th Annual Scientific Meeting of the International Spinal Cord Society
DESCRIPTION:
URL:https://biermann-medizin.de/veranstaltung/65th-annual-scientific-meeting-of-the-international-spinal-cord-society/
LOCATION:Kuala Lumpur Convention Centre\, Kuala Lumpur City Centre\, Kuala Lumpur\, 50088
CATEGORIES:Neurologie & Psychiatrie
ORGANIZER;CN="Association Services Ltd":MAILTO:iscos@associationsltd.co.uK
END:VEVENT
BEGIN:VEVENT
DTSTART;TZID=Europe/Berlin:20261007T180000
DTEND;TZID=Europe/Berlin:20261007T201500
DTSTAMP:20260421T041420
CREATED:20260131T145459Z
LAST-MODIFIED:20260131T145459Z
UID:480209-1791396000-1791404100@biermann-medizin.de
SUMMARY:Zertifizierte Fortbildung – Update: Netzhaut
DESCRIPTION:
URL:https://biermann-medizin.de/veranstaltung/zertifizierte-fortbildung-update-netzhaut/
LOCATION:Klinik und Poliklinik für Augenheilkunde\, Universitätsmedizin Rostock\, Doberaner Straße 140\, Rostock\, 18057
CATEGORIES:Ophthalmologie
ORGANIZER;CN="Klinik und Poliklinik f%C3%BCr Augenheilkunde%2C Universit%C3%A4tsmedizin Rostock":MAILTO:sekretariat.uak@med.uni-rostock.de
END:VEVENT
BEGIN:VEVENT
DTSTART;VALUE=DATE:20261008
DTEND;VALUE=DATE:20261011
DTSTAMP:20260421T041420
CREATED:20260127T174511Z
LAST-MODIFIED:20260127T174511Z
UID:478959-1791417600-1791676799@biermann-medizin.de
SUMMARY:2nd International Conference on Endourology
DESCRIPTION:
URL:https://biermann-medizin.de/veranstaltung/2nd-international-conference-on-endourology/
LOCATION:Valencia\, Valencia\, Spanien
CATEGORIES:Urologie
ORGANIZER;CN="European Association of Urology (EAU)":MAILTO:info@uroweb.org
END:VEVENT
BEGIN:VEVENT
DTSTART;VALUE=DATE:20261008
DTEND;VALUE=DATE:20261011
DTSTAMP:20260421T041420
CREATED:20260222T151149Z
LAST-MODIFIED:20260222T151149Z
UID:485666-1791417600-1791676799@biermann-medizin.de
SUMMARY:12th Europaediatrics and 4th Joint Congress with ECPCP
DESCRIPTION:
URL:https://biermann-medizin.de/veranstaltung/12th-europaediatrics-and-4th-joint-congress-with-ecpcp/
LOCATION:Venice Convention Centre – Palazzo Congressi\, Lungomare Guglielmo Marconi 30\, Venezia\, VE\, 30126\, Italien
CATEGORIES:Kinder- und Jugendmedizin
ORGANIZER;CN="MCA Scientific Events":MAILTO:info@europaediatrics-congress.eu
END:VEVENT
BEGIN:VEVENT
DTSTART;VALUE=DATE:20261008
DTEND;VALUE=DATE:20261011
DTSTAMP:20260421T041420
CREATED:20260414T152629Z
LAST-MODIFIED:20260414T152629Z
UID:496783-1791417600-1791676799@biermann-medizin.de
SUMMARY:24. Jahrestagung der Arbeitsgemeinschaft für Psychoonkologie in der Deutschen Krebsgesellschaft
DESCRIPTION:
URL:https://biermann-medizin.de/veranstaltung/24-jahrestagung-der-arbeitsgemeinschaft-fuer-psychoonkologie-in-der-deutschen-krebsgesellschaft/
LOCATION:Universitätsklinikum Eppendorf\, Martinistraße 53\, Hamburg\, 20251
CATEGORIES:Onkologie
ORGANIZER;CN="Arbeitsgemeinschaft f%C3%BCr Psychonkologie in der Deutschen Krebsgesellschaft":MAILTO:pso@krebsgesellschaft.de
END:VEVENT
BEGIN:VEVENT
DTSTART;TZID=Europe/Berlin:20261008T080000
DTEND;TZID=Europe/Berlin:20261010T170000
DTSTAMP:20260421T041420
CREATED:20260222T140209Z
LAST-MODIFIED:20260222T140209Z
UID:485660-1791446400-1791651600@biermann-medizin.de
SUMMARY:23rd Conference of the International Society for Research in Human Milk and Lactation
DESCRIPTION:Main Topics: \n\nBreastfeeding and women’s health\nDrugs and environmental chemical in lactation\nFrom molecules to megabytes: big data in human milk research\nMilk as medicine\nHuman milk and breastfeeding in the digital age\nHuman milk and breastfeeding in the NICU\nGut-breast axis in lactation\nImplementation science in breastfeeding support
URL:https://biermann-medizin.de/veranstaltung/23rd-conference-of-the-international-society-for-research-in-human-milk-and-lactation/
LOCATION:Anatomische Anstalt der LMU München\, Pettenkoferstraße 11\, München\, 80336\, Deutschland
CATEGORIES:Kinder- und Jugendmedizin
ORGANIZER;CN="Conventus Congressmanagement & Marketing GmbH":MAILTO:post@conventus.de
END:VEVENT
END:VCALENDAR