BEGIN:VCALENDAR
VERSION:2.0
PRODID:-//Biermann Medizin - ECPv6.9.0//NONSGML v1.0//EN
CALSCALE:GREGORIAN
METHOD:PUBLISH
X-ORIGINAL-URL:https://biermann-medizin.de
X-WR-CALDESC:Veranstaltungen für Biermann Medizin
REFRESH-INTERVAL;VALUE=DURATION:PT1H
X-Robots-Tag:noindex
X-PUBLISHED-TTL:PT1H
BEGIN:VTIMEZONE
TZID:Europe/Berlin
BEGIN:DAYLIGHT
TZOFFSETFROM:+0100
TZOFFSETTO:+0200
TZNAME:CEST
DTSTART:20260329T010000
END:DAYLIGHT
BEGIN:STANDARD
TZOFFSETFROM:+0200
TZOFFSETTO:+0100
TZNAME:CET
DTSTART:20261025T010000
END:STANDARD
END:VTIMEZONE
BEGIN:VEVENT
DTSTART;VALUE=DATE:20261009
DTEND;VALUE=DATE:20261011
DTSTAMP:20260421T094347
CREATED:20251117T142128Z
LAST-MODIFIED:20251117T142128Z
UID:466171-1791504000-1791676799@biermann-medizin.de
SUMMARY:AUO/AKO Intensivkurs Uro-Onkologie 1. Teil
DESCRIPTION:
URL:https://biermann-medizin.de/veranstaltung/auoako-intensivkurs-uro-onkologie-1-teil/
LOCATION:Hotel MutterHaus Düsseldorf\, Geschwister-Aufricht-Straße 1\, Düsseldorf\, 40489\, Deutschland
CATEGORIES:Urologie,Onkologie
ORGANIZER;CN="Solution Akademie GmbH":MAILTO:info@solution-akademie.de
END:VEVENT
BEGIN:VEVENT
DTSTART;VALUE=DATE:20261009
DTEND;VALUE=DATE:20261011
DTSTAMP:20260421T094347
CREATED:20260129T114256Z
LAST-MODIFIED:20260129T114256Z
UID:479795-1791504000-1791676799@biermann-medizin.de
SUMMARY:13. Norddeutsche Hormon- und Stoffwechseltage
DESCRIPTION:
URL:https://biermann-medizin.de/veranstaltung/13-norddeutsche-hormon-und-stoffwechseltage/
LOCATION:Hamburg
CATEGORIES:Diabetologie & Endokrinologie
ORGANIZER;CN="EndoScience Endokrinologie Service GmbH":MAILTO:info@endoscience.de
END:VEVENT
BEGIN:VEVENT
DTSTART;VALUE=DATE:20261009
DTEND;VALUE=DATE:20261012
DTSTAMP:20260421T094347
CREATED:20250917T071456Z
LAST-MODIFIED:20250917T071521Z
UID:451241-1791504000-1791763199@biermann-medizin.de
SUMMARY:BerlAir Berliner Beatmungs- und Weaning Kurs
DESCRIPTION:
URL:https://biermann-medizin.de/veranstaltung/berlair-berliner-beatmungs-und-weaning-kurs-2-2/
LOCATION:Berliner Simulations- und Trainingszentrum\, Luisenstraße 65\, Berlin\, 10117
CATEGORIES:Pneumologie,Anästhesiologie & Intensivmedizin
ORGANIZER;CN="Charit%C3%A9 Universit%C3%A4tsmedizin Berlin%2C Berliner Simulations- und Trainingszentrum":MAILTO:berliner-simulationstraining@charite.de
END:VEVENT
BEGIN:VEVENT
DTSTART;VALUE=DATE:20261009
DTEND;VALUE=DATE:20261012
DTSTAMP:20260421T094347
CREATED:20260218T182258Z
LAST-MODIFIED:20260218T182258Z
UID:484762-1791504000-1791763199@biermann-medizin.de
SUMMARY:BerlAir – Berliner Beatmungs- und Weaningkurs
DESCRIPTION:
URL:https://biermann-medizin.de/veranstaltung/berlair-berliner-beatmungs-und-weaningkurs-3/
LOCATION:Berliner Simulations- und Trainingszentrum\, Luisenstraße 65\, Berlin\, 10117
CATEGORIES:Pneumologie
ORGANIZER;CN="Charit%C3%A9 Universit%C3%A4tsmedizin Berlin%2C Berliner Simulations- und Trainingszentrum":MAILTO:berliner-simulationstraining@charite.de
END:VEVENT
BEGIN:VEVENT
DTSTART;VALUE=DATE:20261009
DTEND;VALUE=DATE:20261013
DTSTAMP:20260421T094347
CREATED:20260303T153943Z
LAST-MODIFIED:20260303T153943Z
UID:487877-1791504000-1791849599@biermann-medizin.de
SUMMARY:Heart Failure Society of America Annual Scientific Meeting 2026
DESCRIPTION:
URL:https://biermann-medizin.de/veranstaltung/heart-failure-society-of-america-annual-scientific-meeting-2026/
LOCATION:Phoenix\, Phoenix\, United States of America
CATEGORIES:Kardiologie
ORGANIZER;CN="Heart Failure Society of America (HFSA)":MAILTO:info@hfsa.org
END:VEVENT
BEGIN:VEVENT
DTSTART;TZID=Europe/Berlin:20261009T080000
DTEND;TZID=Europe/Berlin:20261012T170000
DTSTAMP:20260421T094347
CREATED:20260120T160512Z
LAST-MODIFIED:20260127T180445Z
UID:477406-1791532800-1791824400@biermann-medizin.de
SUMMARY:Jahrestagung 2026 der Deutschen\, Österreichischen und Schweizerischen Gesellschaften für Hämatologie und Medizinische Onkologie
DESCRIPTION:
URL:https://biermann-medizin.de/veranstaltung/jahrestagung-2026-der-deutschen-oesterreichischen-und-schweizerischen-gesellschaften-fuer-haematologie-und-medizinische-onkologie/
LOCATION:Austria Center Vienna\, Internationales Amtssitz- und Konferenzzentrum Wien\, Bruno-Kreisky-Platz 1\, Wien\, 1220\, Österreich
CATEGORIES:Pneumologie,Urologie,wichtige Veranstaltungen,Allgemeinmedizin,Labormedizin,Anästhesiologie & Intensivmedizin,Kinder- und Jugendmedizin,Dermatologie & Allergologie,Radiologie,Gastroenterologie,Gynäkologie,Onkologie,Ophthalmologie
ORGANIZER;CN="Deutsche Gesellschaft f%C3%BCr H%C3%A4matologie und Medizinische Onkologie e.V. DGHO Service GmbH":MAILTO:info@dgho-service.de
END:VEVENT
BEGIN:VEVENT
DTSTART;TZID=Europe/Berlin:20261009T090000
DTEND;TZID=Europe/Berlin:20261009T163000
DTSTAMP:20260421T094347
CREATED:20260114T125344Z
LAST-MODIFIED:20260114T125344Z
UID:476468-1791536400-1791563400@biermann-medizin.de
SUMMARY:Clinical Anatomy of the Heart for Successful Arrhythmia Treatment
DESCRIPTION:
URL:https://biermann-medizin.de/veranstaltung/clinical-anatomy-of-the-heart-for-successful-arrhythmia-treatment-4/
LOCATION:Herz- und Diabeteszentrum NRW\, Georgstr. 11\, Bad Oeynhausen\, 32545
CATEGORIES:Kardiologie
ORGANIZER;CN="HDZ NRW Herz- und Diabeteszentrum NRW%2C Bad Oeynhausen Universit%C3%A4tsklinik der Ruhr-Universit%C3%A4t Bochum":MAILTO:info@hdz-nrw.de
END:VEVENT
BEGIN:VEVENT
DTSTART;VALUE=DATE:20261010
DTEND;VALUE=DATE:20261012
DTSTAMP:20260421T094347
CREATED:20260220T132039Z
LAST-MODIFIED:20260220T132039Z
UID:485451-1791590400-1791763199@biermann-medizin.de
SUMMARY:Pediatric Advanced Life Support – Provider Kurs
DESCRIPTION:
URL:https://biermann-medizin.de/veranstaltung/pediatric-advanced-life-support-provider-kurs-5/
LOCATION:Trainingscenter ReAlive\, Landsteiner Straße 4\, Würzburg\, 97074
CATEGORIES:Kinder- und Jugendmedizin
ORGANIZER;CN="ReAlive%C2%AE GbR":MAILTO:info@re-alive.de
END:VEVENT
BEGIN:VEVENT
DTSTART;VALUE=DATE:20261010
DTEND;VALUE=DATE:20261013
DTSTAMP:20260421T094347
CREATED:20260310T174712Z
LAST-MODIFIED:20260310T174712Z
UID:489447-1791590400-1791849599@biermann-medizin.de
SUMMARY:29th Annual Scientific Meeting for the International Pelvic Pain Society
DESCRIPTION:
URL:https://biermann-medizin.de/veranstaltung/29th-annual-scientific-meeting-for-the-international-pelvic-pain-society/
LOCATION:Mayo Civic Center\, 30 Civic Center Drive SE\, Rochester\, MN 55904\, United States
CATEGORIES:Schmerzmedizin
ORGANIZER;CN="International Pelvic Pain Society":MAILTO:info@pelvicpain.org
END:VEVENT
BEGIN:VEVENT
DTSTART;VALUE=DATE:20261010
DTEND;VALUE=DATE:20261013
DTSTAMP:20260421T094347
CREATED:20260315T172618Z
LAST-MODIFIED:20260315T172618Z
UID:490569-1791590400-1791849599@biermann-medizin.de
SUMMARY:American Academy of Ophthalmology Annual Meeting 2026
DESCRIPTION:
URL:https://biermann-medizin.de/veranstaltung/american-academy-of-ophthalmology-annual-meeting-2026/
LOCATION:Ernest N. Morial Convention Center\, 900 Convention Center Blvd\, New Orleans
CATEGORIES:Ophthalmologie
END:VEVENT
BEGIN:VEVENT
DTSTART;TZID=Europe/Berlin:20261010T130000
DTEND;TZID=Europe/Berlin:20261010T150000
DTSTAMP:20260421T094347
CREATED:20260319T182523Z
LAST-MODIFIED:20260319T182523Z
UID:491825-1791637200-1791644400@biermann-medizin.de
SUMMARY:IUSG-Webinar 56: Complex Retina and Uveitis Cases from Colombia
DESCRIPTION:
URL:https://biermann-medizin.de/veranstaltung/iusg-webinar-56-complex-retina-and-uveitis-cases-from-colombia/
LOCATION:Online
CATEGORIES:Ophthalmologie
ORGANIZER;CN="International Uveitis Study Group (IUSG)":MAILTO:office@iusg.net
END:VEVENT
BEGIN:VEVENT
DTSTART;TZID=Europe/Berlin:20261012T140000
DTEND;TZID=Europe/Berlin:20261012T180000
DTSTAMP:20260421T094347
CREATED:20260330T151533Z
LAST-MODIFIED:20260330T151533Z
UID:493761-1791813600-1791828000@biermann-medizin.de
SUMMARY:25. Wiener Rheumatag
DESCRIPTION:
URL:https://biermann-medizin.de/veranstaltung/25-wiener-rheumatag/
LOCATION:Gesellschaft der Ärzte in Wien – Billrothhaus\, Frankgasse 8\, Wien\, 1090\, Austria
CATEGORIES:Orthopädie & Unfallchirurgie
ORGANIZER;CN="%C3%84rztezentrale med.info":MAILTO:service@aerztezentrale.co.at
END:VEVENT
BEGIN:VEVENT
DTSTART;VALUE=DATE:20261014
DTEND;VALUE=DATE:20261018
DTSTAMP:20260421T094347
CREATED:20260127T175824Z
LAST-MODIFIED:20260127T175824Z
UID:478964-1791936000-1792281599@biermann-medizin.de
SUMMARY:46th Congress of the Société Internationale d’Urologie
DESCRIPTION:
URL:https://biermann-medizin.de/veranstaltung/46th-congress-of-the-societe-internationale-durologie/
LOCATION:Abu Dhabi\, Abu Dhabi\, Saudi Arabia
CATEGORIES:Urologie
ORGANIZER;CN="Soci%C3%A9t%C3%A9 Internationale D'Urologie (SIU)":MAILTO:info@siu-urology.org
END:VEVENT
BEGIN:VEVENT
DTSTART;VALUE=DATE:20261014
DTEND;VALUE=DATE:20261018
DTSTAMP:20260421T094347
CREATED:20260315T182306Z
LAST-MODIFIED:20260315T182306Z
UID:490572-1791936000-1792281599@biermann-medizin.de
SUMMARY:iSCOPE Prague: Prague Ophthalmic Wetlab
DESCRIPTION:
URL:https://biermann-medizin.de/veranstaltung/iscope-prague-prague-ophthalmic-wetlab/
LOCATION:Prag\, Czech Republic
CATEGORIES:Ophthalmologie
ORGANIZER;CN="iScope Prague":MAILTO:info@iscope.cz
END:VEVENT
BEGIN:VEVENT
DTSTART;VALUE=DATE:20261014
DTEND;VALUE=DATE:20261018
DTSTAMP:20260421T094347
CREATED:20260316T182704Z
LAST-MODIFIED:20260316T182704Z
UID:490924-1791936000-1792281599@biermann-medizin.de
SUMMARY:Nordic Congress of Ophthalmology 2026
DESCRIPTION:
URL:https://biermann-medizin.de/veranstaltung/nordic-congress-of-ophthalmology-2026/
LOCATION:Svenska Mässan\, Mässans Gata\, Göteborg\, 41294\, Schweden
CATEGORIES:Ophthalmologie
ORGANIZER;CN="Akademikonferens":MAILTO:nok2026@akademikonferens.se
END:VEVENT
BEGIN:VEVENT
DTSTART;VALUE=DATE:20261015
DTEND;VALUE=DATE:20261018
DTSTAMP:20260421T094347
CREATED:20260205T161322Z
LAST-MODIFIED:20260205T161322Z
UID:481567-1792022400-1792281599@biermann-medizin.de
SUMMARY:EADV Course: Updated Approach to Alopecia Diagnosis
DESCRIPTION:
URL:https://biermann-medizin.de/veranstaltung/eadv-course-updated-approach-to-alopecia-diagnosis/
LOCATION:Athen\, Leoforos Vasilissis Sofias and Kokkali 1\, Athen\, 115 21\, Griechenland
CATEGORIES:Dermatologie & Allergologie
ORGANIZER;CN="European Academy of Dermatology and Venereology (EADV)":MAILTO:eadvoffice@eadv.org
END:VEVENT
BEGIN:VEVENT
DTSTART;VALUE=DATE:20261016
DTEND;VALUE=DATE:20261018
DTSTAMP:20260421T094347
CREATED:20260310T171739Z
LAST-MODIFIED:20260327T131602Z
UID:489405-1792108800-1792281599@biermann-medizin.de
SUMMARY:Jahrestagung der Süddeutschen Gesellschaft für Pneumologie
DESCRIPTION:Themen: Fallbesprechungen / interdisziplinäre Boards / praxisnahme Diskussionen / Hands-on PneumoAcademy
URL:https://biermann-medizin.de/veranstaltung/jahrestagung-der-sdgp-mit-hands-on-pneumoacademy/
LOCATION:Klinikum Stuttgart\, Kriegsbergstraße 60\, Stuttgart\, 70174
CATEGORIES:Pneumologie
ORGANIZER;CN="wikonect GmbH":MAILTO:info@wikonect.de
END:VEVENT
BEGIN:VEVENT
DTSTART;VALUE=DATE:20261017
DTEND;VALUE=DATE:20261018
DTSTAMP:20260421T094347
CREATED:20260312T122604Z
LAST-MODIFIED:20260312T122604Z
UID:490112-1792195200-1792281599@biermann-medizin.de
SUMMARY:DGS-Schmerzmedizin UP-TO-DATE 2026
DESCRIPTION:
URL:https://biermann-medizin.de/veranstaltung/dgs-schmerzmedizin-up-to-date-2026-9/
LOCATION:Dortmund\, Dortmund\, Deutschland
CATEGORIES:Schmerzmedizin
ORGANIZER;CN="Deutsche Gesellschaft f%C3%BCr Schmerzmedizin e.V. (DGS)":MAILTO:info@dgschmerzmedizin.de
END:VEVENT
BEGIN:VEVENT
DTSTART;VALUE=DATE:20261017
DTEND;VALUE=DATE:20261021
DTSTAMP:20260421T094347
CREATED:20260206T144244Z
LAST-MODIFIED:20260206T144244Z
UID:481884-1792195200-1792540799@biermann-medizin.de
SUMMARY:UEG Week
DESCRIPTION:
URL:https://biermann-medizin.de/veranstaltung/ueg-week-2/
LOCATION:Fira Barcelona Gran Via\, Av. Joan Carles I\, Barcelona\, 08908\, Spanien
CATEGORIES:Gastroenterologie
ORGANIZER;CN="United European Gastroenterology (UEG)":MAILTO:office@ueg.eu
END:VEVENT
BEGIN:VEVENT
DTSTART;VALUE=DATE:20261017
DTEND;VALUE=DATE:20261021
DTSTAMP:20260421T094347
CREATED:20260304T133533Z
LAST-MODIFIED:20260304T133533Z
UID:488262-1792195200-1792540799@biermann-medizin.de
SUMMARY:151st Annual Meeting of the American Neurological Association
DESCRIPTION:
URL:https://biermann-medizin.de/veranstaltung/151st-annual-meeting-of-the-american-neurological-association/
LOCATION:Sheraton San Diego Resort\, 1380 Harbor Island Drive\, San Diego\, 92101\, United States
CATEGORIES:Neurologie & Psychiatrie
ORGANIZER;CN="American Neurological Association":MAILTO:info@myana.org
END:VEVENT
BEGIN:VEVENT
DTSTART;VALUE=DATE:20261019
DTEND;VALUE=DATE:20261021
DTSTAMP:20260421T094347
CREATED:20260312T121300Z
LAST-MODIFIED:20260312T121300Z
UID:490091-1792368000-1792540799@biermann-medizin.de
SUMMARY:V Euro Anesthesiology and Critical Care Congress
DESCRIPTION:Hybrid-Veranstaltung
URL:https://biermann-medizin.de/veranstaltung/v-euro-anesthesiology-and-critical-care-congress/
LOCATION:Berlin
CATEGORIES:Anästhesiologie & Intensivmedizin,Schmerzmedizin
ORGANIZER;CN="Plenareno":MAILTO:info@plenareno.net
END:VEVENT
BEGIN:VEVENT
DTSTART;VALUE=DATE:20261019
DTEND;VALUE=DATE:20261022
DTSTAMP:20260421T094347
CREATED:20260413T162627Z
LAST-MODIFIED:20260413T162627Z
UID:496426-1792368000-1792627199@biermann-medizin.de
SUMMARY:5th International Conference on Cancer Prevention
DESCRIPTION:
URL:https://biermann-medizin.de/veranstaltung/5th-international-conference-on-cancer-prevention/
LOCATION:Deutsches Krebsforschungszentrum (DKFZ)\, Im Neuenheimer Feld 280\, Heidelberg\, 69120\, Deutschland
CATEGORIES:Onkologie
END:VEVENT
BEGIN:VEVENT
DTSTART;VALUE=DATE:20261021
DTEND;VALUE=DATE:20261025
DTSTAMP:20260421T094347
CREATED:20260112T155947Z
LAST-MODIFIED:20260112T155947Z
UID:475806-1792540800-1792886399@biermann-medizin.de
SUMMARY:Deutscher Schmerzkongress
DESCRIPTION:Schwerpunktthemen \n\nPräzisionmedizin\nPrävention\nPartizipation
URL:https://biermann-medizin.de/veranstaltung/deutscher-schmerzkongress/
LOCATION:Congress Center Rosengarten Mannheim\, Rosengartenplatz 2\, Mannheim\, 68161\, Germany
CATEGORIES:Allgemeinmedizin,Anästhesiologie & Intensivmedizin,Schmerzmedizin,Neurologie & Psychiatrie
ORGANIZER;CN="m%3Acon %E2%80%93 mannheim%3Acongress GmbH":MAILTO:info@mcon-mannheim.de
END:VEVENT
BEGIN:VEVENT
DTSTART;TZID=Europe/Berlin:20261021T170000
DTEND;TZID=Europe/Berlin:20261021T193000
DTSTAMP:20260421T094347
CREATED:20260317T174014Z
LAST-MODIFIED:20260317T174014Z
UID:491198-1792602000-1792611000@biermann-medizin.de
SUMMARY:Mainzer Augenärztliche Fortbildung: Hornhaut
DESCRIPTION:
URL:https://biermann-medizin.de/veranstaltung/mainzer-augenaerztliche-fortbildung-hornhaut-2/
LOCATION:Online
CATEGORIES:Ophthalmologie
ORGANIZER;CN="Universit%C3%A4tsmedizin Mainz%2C Augenklinik und Poliklinik":MAILTO:augen-lehre-fobi@unimedizin-mainz.de
END:VEVENT
BEGIN:VEVENT
DTSTART;VALUE=DATE:20261022
DTEND;VALUE=DATE:20261024
DTSTAMP:20260421T094347
CREATED:20260225T154014Z
LAST-MODIFIED:20260225T154014Z
UID:486615-1792627200-1792799999@biermann-medizin.de
SUMMARY:Beyer-Machule-Kurs 2026
DESCRIPTION:
URL:https://biermann-medizin.de/veranstaltung/beyer-machule-kurs-2026/
LOCATION:Augenklinik der Ludwig-Maximilians-Universität (LMU)\, Mathildenstraße 8\, München\, Bayern\, 80336\, Deutschland
CATEGORIES:Ophthalmologie
ORGANIZER;CN="COCS GmbH %E2%80%93 Congress Organisation C. Sch%C3%A4fer":MAILTO:kongresse@cocs.de
END:VEVENT
BEGIN:VEVENT
DTSTART;VALUE=DATE:20261023
DTEND;VALUE=DATE:20261028
DTSTAMP:20260421T094347
CREATED:20260413T163154Z
LAST-MODIFIED:20260413T163154Z
UID:496434-1792713600-1793145599@biermann-medizin.de
SUMMARY:ESMO Congress 2026
DESCRIPTION:
URL:https://biermann-medizin.de/veranstaltung/esmo-congress-2026/
LOCATION:Feria de Madrid IFEMA Exhibition Centre\, Av. Partenón\, 5\, Madrid\, 28042\, Spanien
CATEGORIES:Onkologie
ORGANIZER;CN="European Society for Medical Oncology (ESMO)":MAILTO:esmo@esmo.org
END:VEVENT
BEGIN:VEVENT
DTSTART;TZID=Europe/Berlin:20261023T190000
DTEND;TZID=Europe/Berlin:20261023T210000
DTSTAMP:20260421T094347
CREATED:20260114T080104Z
LAST-MODIFIED:20260114T080104Z
UID:476122-1792782000-1792789200@biermann-medizin.de
SUMMARY:Freiburger Augenabend
DESCRIPTION:
URL:https://biermann-medizin.de/veranstaltung/freiburger-augenabend-3/
LOCATION:Universitätsklinikum Freiburg / Hörsaalgebäude Killianstraße\, Killianstraße 5\, Freiburg\, Baden-Württemberg\, 79106\, Deutschland
CATEGORIES:Ophthalmologie
ORGANIZER;CN="Universit%C3%A4ts-Augenklinik Freiburg":MAILTO:Hansjuergen.Agostini@uniklinik-freiburg.de
END:VEVENT
BEGIN:VEVENT
DTSTART;VALUE=DATE:20261026
DTEND;VALUE=DATE:20261031
DTSTAMP:20260421T094347
CREATED:20250723T184512Z
LAST-MODIFIED:20250723T184512Z
UID:440049-1792972800-1793404799@biermann-medizin.de
SUMMARY:IASP World Congress on Pain 2026
DESCRIPTION:Das weltweit größte Treffen von Schmerzspezialisten\, bei dem Tausende von Wissenschaftlern\, Klinikern und Gesundheitsdienstleistern aus aller Welt und aus verschiedenen Bereichen der Schmerzmedizin zusammenkommen.
URL:https://biermann-medizin.de/veranstaltung/iasp-world-congress-on-pain-2026/
LOCATION:Bangkok International Trade & Exhibition Centre (BITEC)\, 88 Debaratna Road (km. 1) Bangna Tai\, Bangkok\, 10260\, Thailand
CATEGORIES:Anästhesiologie & Intensivmedizin,Schmerzmedizin,Neurologie & Psychiatrie
ORGANIZER;CN="International Association for the Study of Pain (IASP)":MAILTO:IASPdesk@iasp-pain.org
END:VEVENT
BEGIN:VEVENT
DTSTART;VALUE=DATE:20261028
DTEND;VALUE=DATE:20261029
DTSTAMP:20260421T094347
CREATED:20260317T182233Z
LAST-MODIFIED:20260317T182233Z
UID:491225-1793145600-1793231999@biermann-medizin.de
SUMMARY:ARTEMIS Symposium
DESCRIPTION:
URL:https://biermann-medizin.de/veranstaltung/artemis-symposium/
LOCATION:Literaturhaus Frankfurt\, Schöne Aussicht 2\, Frankfurt am Main\, 60311
CATEGORIES:Ophthalmologie
ORGANIZER;CN="Congress-Organisation Gerling GmbH":MAILTO:info@congresse.de
END:VEVENT
BEGIN:VEVENT
DTSTART;TZID=Europe/Berlin:20261028T130000
DTEND;TZID=Europe/Berlin:20261030T133000
DTSTAMP:20260421T094347
CREATED:20260414T085419Z
LAST-MODIFIED:20260414T085419Z
UID:496519-1793192400-1793367000@biermann-medizin.de
SUMMARY:DGVS Seminar Onkologische Gastroenterologie 2026\, Modul 2
DESCRIPTION:Themen: Grundlagen der onkologischen Therapie / Lebertumore / Neuroendokrine Neoplasien / Pankreaskarzinom
URL:https://biermann-medizin.de/veranstaltung/dgvs-seminar-onkologische-gastroenterologie-2026-modul-2/
LOCATION:NH Düsseldorf City\, Kölner Str. 186-188\, Düsseldorf\, 40227\, Germany
CATEGORIES:Pneumologie,Onkologie
ORGANIZER;CN="Deutsche Gesellschaft f%C3%BCr Gastroenterologie%2C Verdauungs- und Stoffwechselkrankheiten (DGVS)":MAILTO:info@dgvs.de
END:VEVENT
END:VCALENDAR