BEGIN:VCALENDAR
VERSION:2.0
PRODID:-//Biermann Medizin - ECPv6.9.0//NONSGML v1.0//EN
CALSCALE:GREGORIAN
METHOD:PUBLISH
X-ORIGINAL-URL:https://biermann-medizin.de
X-WR-CALDESC:Veranstaltungen für Biermann Medizin
REFRESH-INTERVAL;VALUE=DURATION:PT1H
X-Robots-Tag:noindex
X-PUBLISHED-TTL:PT1H
BEGIN:VTIMEZONE
TZID:Europe/Berlin
BEGIN:DAYLIGHT
TZOFFSETFROM:+0100
TZOFFSETTO:+0200
TZNAME:CEST
DTSTART:20260329T010000
END:DAYLIGHT
BEGIN:STANDARD
TZOFFSETFROM:+0200
TZOFFSETTO:+0100
TZNAME:CET
DTSTART:20261025T010000
END:STANDARD
END:VTIMEZONE
BEGIN:VEVENT
DTSTART;VALUE=DATE:20261104
DTEND;VALUE=DATE:20261108
DTSTAMP:20260421T142333
CREATED:20260202T103347Z
LAST-MODIFIED:20260202T103347Z
UID:480451-1793750400-1794095999@biermann-medizin.de
SUMMARY:neurowoche 2026
DESCRIPTION:
URL:https://biermann-medizin.de/veranstaltung/neurowoche-2026/
LOCATION:CityCube Berlin\, Messedamm 22\, Berlin\, 14055\, Deutschland
CATEGORIES:Neurologie & Psychiatrie
ORGANIZER;CN="Deutsche Gesellschaft f%C3%BCr Neurologie e. V. (DGN)":MAILTO:info@dgn.org
END:VEVENT
BEGIN:VEVENT
DTSTART;VALUE=DATE:20261104
DTEND;VALUE=DATE:20261108
DTSTAMP:20260421T142333
CREATED:20260204T111416Z
LAST-MODIFIED:20260204T111416Z
UID:481105-1793750400-1794095999@biermann-medizin.de
SUMMARY:Allgemeinmedizin Refresher Köln (Programm A\, hybrid)
DESCRIPTION:
URL:https://biermann-medizin.de/veranstaltung/allgemeinmedizin-refresher-koeln-programm-a-hybrid/
LOCATION:KOMED im Mediapark\, Im MediaPark 6\, Köln\, 50670\, Germany
CATEGORIES:Allgemeinmedizin
ORGANIZER;CN="Forum f%C3%BCr medizinische Fortbildung - FomF GmbH":MAILTO:info@fomf.de
END:VEVENT
BEGIN:VEVENT
DTSTART;TZID=Europe/Berlin:20261104T080000
DTEND;TZID=Europe/Berlin:20261107T170000
DTSTAMP:20260421T142333
CREATED:20260204T111224Z
LAST-MODIFIED:20260204T111224Z
UID:481101-1793779200-1794070800@biermann-medizin.de
SUMMARY:Allgemeinmedizin Refresher Hamburg (Programm B\, hybrid)
DESCRIPTION:
URL:https://biermann-medizin.de/veranstaltung/allgemeinmedizin-refresher-hamburg-programm-b-hybrid/
LOCATION:Katholische Akademie Hamburg\, Herrengraben 4\, Hamburg\, 20459\, Deutschland
CATEGORIES:Allgemeinmedizin
ORGANIZER;CN="Forum f%C3%BCr medizinische Fortbildung - FomF GmbH":MAILTO:info@fomf.de
END:VEVENT
BEGIN:VEVENT
DTSTART;VALUE=DATE:20261105
DTEND;VALUE=DATE:20261107
DTSTAMP:20260421T142333
CREATED:20260219T182554Z
LAST-MODIFIED:20260219T182554Z
UID:485222-1793836800-1794009599@biermann-medizin.de
SUMMARY:ERCP Basiskurs
DESCRIPTION:
URL:https://biermann-medizin.de/veranstaltung/ercp-basiskurs/
LOCATION:Uniklinik Frankfurt\, Theodor-Stern-Kai 7\, Frankfurt\, 60590
CATEGORIES:Gastroenterologie
ORGANIZER;CN="ENDOAkademie e.V.%2C Katharina H%C3%B6ger":MAILTO:katharina.hoeger@outlook.de
END:VEVENT
BEGIN:VEVENT
DTSTART;VALUE=DATE:20261105
DTEND;VALUE=DATE:20261108
DTSTAMP:20260421T142333
CREATED:20260204T125554Z
LAST-MODIFIED:20260204T125554Z
UID:481194-1793836800-1794095999@biermann-medizin.de
SUMMARY:Pneumologie Refresher Köln (hybrid)
DESCRIPTION:
URL:https://biermann-medizin.de/veranstaltung/pneumologie-refresher-koeln-hybrid/
LOCATION:KOMED im Mediapark\, Im MediaPark 6\, Köln\, 50670\, Germany
CATEGORIES:Pneumologie
ORGANIZER;CN="Forum f%C3%BCr medizinische Fortbildung - FomF GmbH":MAILTO:info@fomf.de
END:VEVENT
BEGIN:VEVENT
DTSTART;VALUE=DATE:20261105
DTEND;VALUE=DATE:20261108
DTSTAMP:20260421T142333
CREATED:20260218T183220Z
LAST-MODIFIED:20260218T183220Z
UID:484766-1793836800-1794095999@biermann-medizin.de
SUMMARY:34. Jahrestagung der Deutschen Gesellschaft für Schlafforschung und Schlafmedizin
DESCRIPTION:
URL:https://biermann-medizin.de/veranstaltung/34-jahrestagung-der-deutschen-gesellschaft-fuer-schlafforschung-und-schlafmedizin/
LOCATION:RheinMain CongressCenter\, Friedrich-Ebert-Allee 1\, Wiesbaden\, 65185\, Deutschland
CATEGORIES:Pneumologie
ORGANIZER;CN="Conventus Congressmanagement & Marketing GmbH":MAILTO:post@conventus.de
END:VEVENT
BEGIN:VEVENT
DTSTART;VALUE=DATE:20261106
DTEND;VALUE=DATE:20261108
DTSTAMP:20260421T142333
CREATED:20260203T131601Z
LAST-MODIFIED:20260203T131601Z
UID:480867-1793923200-1794095999@biermann-medizin.de
SUMMARY:Hämato/Onko Refresher
DESCRIPTION:
URL:https://biermann-medizin.de/veranstaltung/haematoonko-refresher-3/
LOCATION:KOMED im Mediapark\, Im MediaPark 6\, Köln\, 50670\, Germany
CATEGORIES:Gastroenterologie,Onkologie
ORGANIZER;CN="Forum f%C3%BCr medizinische Fortbildung - FomF GmbH":MAILTO:info@fomf.de
END:VEVENT
BEGIN:VEVENT
DTSTART;VALUE=DATE:20261106
DTEND;VALUE=DATE:20261108
DTSTAMP:20260421T142333
CREATED:20251117T142635Z
LAST-MODIFIED:20251117T142635Z
UID:466184-1793923200-1794095999@biermann-medizin.de
SUMMARY:AKO Symposium Köln „Uro-Onkologie Update 2026"
DESCRIPTION:
URL:https://biermann-medizin.de/veranstaltung/ako-symposium-koeln-uro-onkologie-update-2026/
LOCATION:Köln Marriott Hotel\, Johannisstraße 76-80\, Köln\, 50668\, Germany
CATEGORIES:Urologie,Onkologie
ORGANIZER;CN="Solution Akademie GmbH":MAILTO:info@solution-akademie.de
END:VEVENT
BEGIN:VEVENT
DTSTART;VALUE=DATE:20261106
DTEND;VALUE=DATE:20261108
DTSTAMP:20260421T142333
CREATED:20260204T180337Z
LAST-MODIFIED:20260204T180337Z
UID:481280-1793923200-1794095999@biermann-medizin.de
SUMMARY:Urologie Refresher Berlin (hybrid)
DESCRIPTION:
URL:https://biermann-medizin.de/veranstaltung/urologie-refresher-berlin-hybrid/
LOCATION:Auditorium Friedrichstraße\, Quartier 110 Friedrichstraße 180\, Berlin\, 10117\, Deutschland
CATEGORIES:Urologie
ORGANIZER;CN="Forum f%C3%BCr medizinische Fortbildung - FomF GmbH":MAILTO:info@fomf.de
END:VEVENT
BEGIN:VEVENT
DTSTART;VALUE=DATE:20261106
DTEND;VALUE=DATE:20261108
DTSTAMP:20260421T142333
CREATED:20260218T173741Z
LAST-MODIFIED:20260218T173741Z
UID:484731-1793923200-1794095999@biermann-medizin.de
SUMMARY:Crisis Resource Management
DESCRIPTION:
URL:https://biermann-medizin.de/veranstaltung/crisis-resource-management-2/
LOCATION:Berliner Simulations- & Trainingszentrum\, Campus Charité Mitte\, Friedrich-Busch-Haus\, Virchowweg 24\, Berlin\, 10117\, Deutschland
CATEGORIES:Pneumologie,Anästhesiologie & Intensivmedizin
ORGANIZER;CN="Charit%C3%A9 Universit%C3%A4tsmedizin Berlin%2C Berliner Simulations- und Trainingszentrum":MAILTO:berliner-simulationstraining@charite.de
END:VEVENT
BEGIN:VEVENT
DTSTART;VALUE=DATE:20261106
DTEND;VALUE=DATE:20261108
DTSTAMP:20260421T142333
CREATED:20260219T182844Z
LAST-MODIFIED:20260219T182844Z
UID:485226-1793923200-1794095999@biermann-medizin.de
SUMMARY:ESD-Kurs
DESCRIPTION:
URL:https://biermann-medizin.de/veranstaltung/esd-kurs/
LOCATION:Gemeinschaftskrankenhaus Bonn\, Haus Elisabeth\, Prinz-Albert-Straße 40\, Bonn\, 53113
CATEGORIES:Gastroenterologie
ORGANIZER;CN="ENDOAkademie e.V.%2C Katharina H%C3%B6ger":MAILTO:katharina.hoeger@outlook.de
END:VEVENT
BEGIN:VEVENT
DTSTART;VALUE=DATE:20261106
DTEND;VALUE=DATE:20261108
DTSTAMP:20260421T142333
CREATED:20260222T150411Z
LAST-MODIFIED:20260222T150411Z
UID:485662-1793923200-1794095999@biermann-medizin.de
SUMMARY:Akademie für Kinderchirurgie 2026
DESCRIPTION:
URL:https://biermann-medizin.de/veranstaltung/akademie-fuer-kinderchirurgie-2026/
LOCATION:Dreikönigskirche Dresden\, Hauptstraße 23\, Dresden\, 01097\, Germany
CATEGORIES:Kinder- und Jugendmedizin
ORGANIZER;CN="event lab. GmbH":MAILTO:info@eventlab.org
END:VEVENT
BEGIN:VEVENT
DTSTART;VALUE=DATE:20261106
DTEND;VALUE=DATE:20261108
DTSTAMP:20260421T142333
CREATED:20260317T181738Z
LAST-MODIFIED:20260317T181738Z
UID:491216-1793923200-1794095999@biermann-medizin.de
SUMMARY:Cornea 26 – Meisterkurs Glaukomchirurgie / 16. Düsseldorfer Hornhauttag
DESCRIPTION:
URL:https://biermann-medizin.de/veranstaltung/cornea-26-meisterkurs-glaukomchirurgie-16-duesseldorfer-hornhauttag/
LOCATION:Düsseldorf
CATEGORIES:Ophthalmologie
END:VEVENT
BEGIN:VEVENT
DTSTART;VALUE=DATE:20261106
DTEND;VALUE=DATE:20261108
DTSTAMP:20260421T142333
CREATED:20260327T134057Z
LAST-MODIFIED:20260327T134057Z
UID:493328-1793923200-1794095999@biermann-medizin.de
SUMMARY:28. Herbsttagung der Mitteldeutschen Gesellschaft für Pneumologie und Thoraxchirurgie
DESCRIPTION:
URL:https://biermann-medizin.de/veranstaltung/28-herbsttagung-der-mitteldeutschen-gesellschaft-fuer-pneumologie-und-thoraxchirurgie/
LOCATION:Kultur- und Kongresszentrum Gera\, Schloßstraße 1\, Gera\, Thüringen\, 07545\, Deutschland
CATEGORIES:Pneumologie
ORGANIZER;CN="wikonect%2C Nadine H%C3%BCtt":MAILTO:nadine.huett@wikonect.de
END:VEVENT
BEGIN:VEVENT
DTSTART;VALUE=DATE:20261106
DTEND;VALUE=DATE:20261108
DTSTAMP:20260421T142333
CREATED:20260330T153111Z
LAST-MODIFIED:20260330T153111Z
UID:493769-1793923200-1794095999@biermann-medizin.de
SUMMARY:12. Kongress Sexualmedizin interdisziplinär – Dreiländertagung D A CH
DESCRIPTION:
URL:https://biermann-medizin.de/veranstaltung/12-kongress-sexualmedizin-interdisziplinaer-dreilaendertagung-d-a-ch/
LOCATION:Klinik Florisdorf\, Veranstaltungszentrum\, Brünner Straße 68\, Wien\, 1210\, Österreich
CATEGORIES:Urologie,Infektiologie,Gynäkologie,Neurologie & Psychiatrie
ORGANIZER;CN="%C3%96sterreichische Gesellschaft zur F%C3%B6rderung der Sexualmedizin und der sexuellen Gesundheit":MAILTO:office@sexualmedizin.or.at
END:VEVENT
BEGIN:VEVENT
DTSTART;TZID=Europe/Berlin:20261109T190000
DTEND;TZID=Europe/Berlin:20261109T210000
DTSTAMP:20260421T142333
CREATED:20260323T093326Z
LAST-MODIFIED:20260323T093326Z
UID:492098-1794250800-1794258000@biermann-medizin.de
SUMMARY:Tipps und Tricks zu Biometrie; IOL-Berechnung in der Praxis
DESCRIPTION:
URL:https://biermann-medizin.de/veranstaltung/tipps-und-tricks-zu-biometrie-iol-berechnung-in-der-praxis/
LOCATION:Online
CATEGORIES:Ophthalmologie
END:VEVENT
BEGIN:VEVENT
DTSTART;VALUE=DATE:20261111
DTEND;VALUE=DATE:20261112
DTSTAMP:20260421T142333
CREATED:20260225T154448Z
LAST-MODIFIED:20260225T154448Z
UID:486617-1794355200-1794441599@biermann-medizin.de
SUMMARY:Endoskopie-Workshop EVK Düsseldorf 2026
DESCRIPTION:
URL:https://biermann-medizin.de/veranstaltung/endoskopie-workshop-evk-duesseldorf-2026/
LOCATION:Evangelisches Krankenhaus Düsseldorf\, Kirchfeldstraße 40\, Düsseldorf\, 40217\, Deutschland
CATEGORIES:Gastroenterologie
ORGANIZER;CN="COCS GmbH %E2%80%93 Congress Organisation C. Sch%C3%A4fer":MAILTO:kongresse@cocs.de
END:VEVENT
BEGIN:VEVENT
DTSTART;TZID=Europe/Berlin:20261111T080000
DTEND;TZID=Europe/Berlin:20261114T170000
DTSTAMP:20260421T142333
CREATED:20260204T111638Z
LAST-MODIFIED:20260204T111638Z
UID:481107-1794384000-1794675600@biermann-medizin.de
SUMMARY:Allgemeinmedizin Refresher Leipzig (Programm A\, hybrid)
DESCRIPTION:
URL:https://biermann-medizin.de/veranstaltung/allgemeinmedizin-refresher-leipzig-programm-a-hybrid/
LOCATION:Haus Leipzig\, Elsterstraße 22\, Leipzig\, 04109\, Deutschland
CATEGORIES:Allgemeinmedizin
ORGANIZER;CN="Forum f%C3%BCr medizinische Fortbildung - FomF GmbH":MAILTO:info@fomf.de
END:VEVENT
BEGIN:VEVENT
DTSTART;TZID=Europe/Berlin:20261111T163000
DTEND;TZID=Europe/Berlin:20261111T180000
DTSTAMP:20260421T142333
CREATED:20260205T163436Z
LAST-MODIFIED:20260205T163436Z
UID:481582-1794414600-1794420000@biermann-medizin.de
SUMMARY:12. Interdisziplinärer Allergiezirkel
DESCRIPTION:
URL:https://biermann-medizin.de/veranstaltung/12-interdisziplinaerer-allergiezirkel/
LOCATION:Universitätsklinikum Schleswig-Holstein (UKSH) Kiel\, Arnold-Heller-Straße 3\, Kiel\, 24105\, Deutschland
CATEGORIES:Dermatologie & Allergologie
END:VEVENT
BEGIN:VEVENT
DTSTART;TZID=Europe/Berlin:20261111T180000
DTEND;TZID=Europe/Berlin:20261111T213000
DTSTAMP:20260421T142333
CREATED:20251117T142841Z
LAST-MODIFIED:20251117T142900Z
UID:466186-1794420000-1794432600@biermann-medizin.de
SUMMARY:Hamburger Urologisches Herbst-Symposium
DESCRIPTION:
URL:https://biermann-medizin.de/veranstaltung/hamburger-urologisches-herbst-symposium-2/
LOCATION:Scandic Emporio Hamburg\, Dammtorwall 19\, Hamburg\, Hamburg\, 20355\, Germany
CATEGORIES:Urologie
ORGANIZER;CN="Solution Akademie GmbH":MAILTO:info@solution-akademie.de
END:VEVENT
BEGIN:VEVENT
DTSTART;VALUE=DATE:20261112
DTEND;VALUE=DATE:20261114
DTSTAMP:20260421T142333
CREATED:20260220T175637Z
LAST-MODIFIED:20260220T175637Z
UID:485519-1794441600-1794614399@biermann-medizin.de
SUMMARY:State of the Art 2026: Anfälle und Bewegungsstörungen
DESCRIPTION:
URL:https://biermann-medizin.de/veranstaltung/state-of-the-art-2026-anfaelle-und-bewegungsstoerungen-2/
LOCATION:Bonn
CATEGORIES:Kinder- und Jugendmedizin
END:VEVENT
BEGIN:VEVENT
DTSTART;VALUE=DATE:20261112
DTEND;VALUE=DATE:20261115
DTSTAMP:20260421T142333
CREATED:20260203T111300Z
LAST-MODIFIED:20260203T111300Z
UID:480794-1794441600-1794700799@biermann-medizin.de
SUMMARY:Gastroenterologie Refresher
DESCRIPTION:
URL:https://biermann-medizin.de/veranstaltung/gastroenterologie-refresher-6/
LOCATION:KOMED im Mediapark\, Im MediaPark 6\, Köln\, 50670\, Germany
CATEGORIES:Gastroenterologie
ORGANIZER;CN="Forum f%C3%BCr medizinische Fortbildung - FomF GmbH":MAILTO:info@fomf.de
END:VEVENT
BEGIN:VEVENT
DTSTART;VALUE=DATE:20261112
DTEND;VALUE=DATE:20261115
DTSTAMP:20260421T142333
CREATED:20260203T180554Z
LAST-MODIFIED:20260203T180554Z
UID:480955-1794441600-1794700799@biermann-medizin.de
SUMMARY:Pädiatrie Refresher Berlin (hybrid)
DESCRIPTION:
URL:https://biermann-medizin.de/veranstaltung/paediatrie-refresher-berlin-hybrid/
LOCATION:Auditorium Friedrichstraße\, Quartier 110 Friedrichstraße 180\, Berlin\, 10117\, Deutschland
CATEGORIES:Kinder- und Jugendmedizin
ORGANIZER;CN="Forum f%C3%BCr medizinische Fortbildung - FomF GmbH":MAILTO:info@fomf.de
END:VEVENT
BEGIN:VEVENT
DTSTART;VALUE=DATE:20261113
DTEND;VALUE=DATE:20261115
DTSTAMP:20260421T142333
CREATED:20260112T150915Z
LAST-MODIFIED:20260112T150915Z
UID:475799-1794528000-1794700799@biermann-medizin.de
SUMMARY:Curriculum Onkologie – Tumorpatientinnen und -patienten bestmöglich versorgen
DESCRIPTION:
URL:https://biermann-medizin.de/veranstaltung/curriculum-onkologie-tumorpatientinnen-und-patienten-bestmoeglich-versorgen-7/
LOCATION:Abacus Tierpark Hotel Berlin\, Franz-Mett-Str. 3-9\, Berlin\, 10319\, Deutschland
CATEGORIES:Gynäkologie,Onkologie
ORGANIZER;CN="MedConcept GmbH":MAILTO:info@medconcept.org
END:VEVENT
BEGIN:VEVENT
DTSTART;VALUE=DATE:20261113
DTEND;VALUE=DATE:20261115
DTSTAMP:20260421T142333
CREATED:20260129T115204Z
LAST-MODIFIED:20260129T115204Z
UID:479800-1794528000-1794700799@biermann-medizin.de
SUMMARY:Diabetes Herbsttagung
DESCRIPTION:
URL:https://biermann-medizin.de/veranstaltung/diabetes-herbsttagung-2/
LOCATION:Dresden
CATEGORIES:Diabetologie & Endokrinologie
ORGANIZER;CN="Deutsche Diabetes Gesellschaft (DDG) e.V.":MAILTO:info@ddg.info
END:VEVENT
BEGIN:VEVENT
DTSTART;VALUE=DATE:20261113
DTEND;VALUE=DATE:20261115
DTSTAMP:20260421T142333
CREATED:20260203T131757Z
LAST-MODIFIED:20260203T131757Z
UID:480869-1794528000-1794700799@biermann-medizin.de
SUMMARY:Hämato/Onko Refresher
DESCRIPTION:
URL:https://biermann-medizin.de/veranstaltung/haematoonko-refresher-4/
LOCATION:GENO-Haus Stuttgart GmbH & Co. KG Verwaltungsgesellschaft\, Heilbronner Straße 41\, Stuttgart\, Baden-Württemberg\, 70191\, Deutschland
CATEGORIES:Gastroenterologie,Onkologie
ORGANIZER;CN="Forum f%C3%BCr medizinische Fortbildung - FomF GmbH":MAILTO:info@fomf.de
END:VEVENT
BEGIN:VEVENT
DTSTART;VALUE=DATE:20261114
DTEND;VALUE=DATE:20261115
DTSTAMP:20260421T142333
CREATED:20260224T153427Z
LAST-MODIFIED:20260224T153427Z
UID:486139-1794614400-1794700799@biermann-medizin.de
SUMMARY:3-Länder-NNH-Symposium (D-A-CH) „Aktuelle Aspekte der Rhinologie – Erfolge und Perspektiven“
DESCRIPTION:
URL:https://biermann-medizin.de/veranstaltung/3-laender-nnh-symposium-d-a-ch-aktuelle-aspekte-der-rhinologie-erfolge-und-perspektiven/
LOCATION:Kardinal Wendel Haus – München\, Mandlstraße 23\, München\, 80802\, Deutschland
CATEGORIES:Hals-Nasen-Ohren-Heilkunde
ORGANIZER;CN="COCS GmbH %E2%80%93 Congress Organisation C. Sch%C3%A4fer":MAILTO:kongresse@cocs.de
END:VEVENT
BEGIN:VEVENT
DTSTART;VALUE=DATE:20261114
DTEND;VALUE=DATE:20261116
DTSTAMP:20260421T142333
CREATED:20260220T132439Z
LAST-MODIFIED:20260220T132439Z
UID:485453-1794614400-1794787199@biermann-medizin.de
SUMMARY:Pediatric Advanced Life Support – Provider Kurs
DESCRIPTION:
URL:https://biermann-medizin.de/veranstaltung/pediatric-advanced-life-support-provider-kurs-6/
LOCATION:Trainingscenter ReAlive\, Landsteiner Straße 4\, Würzburg\, 97074
CATEGORIES:Kinder- und Jugendmedizin
ORGANIZER;CN="ReAlive%C2%AE GbR":MAILTO:info@re-alive.de
END:VEVENT
BEGIN:VEVENT
DTSTART;TZID=Europe/Berlin:20261114T130000
DTEND;TZID=Europe/Berlin:20261114T150000
DTSTAMP:20260421T142333
CREATED:20260319T182747Z
LAST-MODIFIED:20260319T182747Z
UID:491827-1794661200-1794668400@biermann-medizin.de
SUMMARY:IUSG-Webinar 57: Unique Uveitis Presentations from Africa
DESCRIPTION:
URL:https://biermann-medizin.de/veranstaltung/iusg-webinar-57-unique-uveitis-presentations-from-africa/
LOCATION:Online
CATEGORIES:Ophthalmologie
ORGANIZER;CN="International Uveitis Study Group (IUSG)":MAILTO:office@iusg.net
END:VEVENT
BEGIN:VEVENT
DTSTART;VALUE=DATE:20261115
DTEND;VALUE=DATE:20261120
DTSTAMP:20260421T142333
CREATED:20260315T183339Z
LAST-MODIFIED:20260315T183339Z
UID:490583-1794700800-1795132799@biermann-medizin.de
SUMMARY:22nd Vienna Wetlab Course
DESCRIPTION:
URL:https://biermann-medizin.de/veranstaltung/22nd-vienna-wetlab-course/
LOCATION:Klinik Landstraße\, Boerhaavegasse 8a\, Wien\, Wien\, Österreich
CATEGORIES:Ophthalmologie
ORGANIZER;CN="mts-the wetlab company GmbH":MAILTO:info@mts-wetlab.com
END:VEVENT
END:VCALENDAR