BEGIN:VCALENDAR
VERSION:2.0
PRODID:-//Biermann Medizin - ECPv6.9.0//NONSGML v1.0//EN
CALSCALE:GREGORIAN
METHOD:PUBLISH
X-WR-CALNAME:Biermann Medizin
X-ORIGINAL-URL:https://biermann-medizin.de
X-WR-CALDESC:Veranstaltungen für Biermann Medizin
REFRESH-INTERVAL;VALUE=DURATION:PT1H
X-Robots-Tag:noindex
X-PUBLISHED-TTL:PT1H
BEGIN:VTIMEZONE
TZID:Europe/Berlin
BEGIN:DAYLIGHT
TZOFFSETFROM:+0100
TZOFFSETTO:+0200
TZNAME:CEST
DTSTART:20260329T010000
END:DAYLIGHT
BEGIN:STANDARD
TZOFFSETFROM:+0200
TZOFFSETTO:+0100
TZNAME:CET
DTSTART:20261025T010000
END:STANDARD
END:VTIMEZONE
BEGIN:VEVENT
DTSTART;VALUE=DATE:20261114
DTEND;VALUE=DATE:20261116
DTSTAMP:20260421T192722
CREATED:20260220T132439Z
LAST-MODIFIED:20260220T132439Z
UID:485453-1794614400-1794787199@biermann-medizin.de
SUMMARY:Pediatric Advanced Life Support – Provider Kurs
DESCRIPTION:
URL:https://biermann-medizin.de/veranstaltung/pediatric-advanced-life-support-provider-kurs-6/
LOCATION:Trainingscenter ReAlive\, Landsteiner Straße 4\, Würzburg\, 97074
CATEGORIES:Kinder- und Jugendmedizin
ORGANIZER;CN="ReAlive%C2%AE GbR":MAILTO:info@re-alive.de
END:VEVENT
BEGIN:VEVENT
DTSTART;TZID=Europe/Berlin:20261114T130000
DTEND;TZID=Europe/Berlin:20261114T150000
DTSTAMP:20260421T192722
CREATED:20260319T182747Z
LAST-MODIFIED:20260319T182747Z
UID:491827-1794661200-1794668400@biermann-medizin.de
SUMMARY:IUSG-Webinar 57: Unique Uveitis Presentations from Africa
DESCRIPTION:
URL:https://biermann-medizin.de/veranstaltung/iusg-webinar-57-unique-uveitis-presentations-from-africa/
LOCATION:Online
CATEGORIES:Ophthalmologie
ORGANIZER;CN="International Uveitis Study Group (IUSG)":MAILTO:office@iusg.net
END:VEVENT
BEGIN:VEVENT
DTSTART;VALUE=DATE:20261115
DTEND;VALUE=DATE:20261120
DTSTAMP:20260421T192722
CREATED:20260315T183339Z
LAST-MODIFIED:20260315T183339Z
UID:490583-1794700800-1795132799@biermann-medizin.de
SUMMARY:22nd Vienna Wetlab Course
DESCRIPTION:
URL:https://biermann-medizin.de/veranstaltung/22nd-vienna-wetlab-course/
LOCATION:Klinik Landstraße\, Boerhaavegasse 8a\, Wien\, Wien\, Österreich
CATEGORIES:Ophthalmologie
ORGANIZER;CN="mts-the wetlab company GmbH":MAILTO:info@mts-wetlab.com
END:VEVENT
BEGIN:VEVENT
DTSTART;VALUE=DATE:20261115
DTEND;VALUE=DATE:20261121
DTSTAMP:20260421T192722
CREATED:20260225T155315Z
LAST-MODIFIED:20260225T155315Z
UID:486625-1794700800-1795219199@biermann-medizin.de
SUMMARY:6-Tage-Fortbildungskurs pädiatrische Intensivmedizin für Fach- und Oberärzte
DESCRIPTION:
URL:https://biermann-medizin.de/veranstaltung/6-tage-fortbildungskurs-paediatrische-intensivmedizin-fuer-fach-und-oberaerzte/
LOCATION:Schönblick\, Willy-Schenk-Straße 9\, Schwäbisch Gmünd\, 73527
CATEGORIES:Anästhesiologie & Intensivmedizin,Kinder- und Jugendmedizin
ORGANIZER;CN="COCS GmbH %E2%80%93 Congress Organisation C. Sch%C3%A4fer":MAILTO:kongresse@cocs.de
END:VEVENT
BEGIN:VEVENT
DTSTART;VALUE=DATE:20261117
DTEND;VALUE=DATE:20261121
DTSTAMP:20260421T192722
CREATED:20260204T112012Z
LAST-MODIFIED:20260204T112012Z
UID:481109-1794873600-1795219199@biermann-medizin.de
SUMMARY:Allgemeinmedizin Refresher Hannover (ProgrammB\, hybrid)
DESCRIPTION:
URL:https://biermann-medizin.de/veranstaltung/allgemeinmedizin-refresher-hannover-programmb-hybrid/
LOCATION:Courtyard Hannover Maschsee\, Arthur-Menge-Ufer 3\, Hannover\, 30169\, Deutschland
CATEGORIES:Allgemeinmedizin
ORGANIZER;CN="Forum f%C3%BCr medizinische Fortbildung - FomF GmbH":MAILTO:info@fomf.de
END:VEVENT
BEGIN:VEVENT
DTSTART;VALUE=DATE:20261118
DTEND;VALUE=DATE:20261120
DTSTAMP:20260421T192722
CREATED:20260413T122915Z
LAST-MODIFIED:20260413T122915Z
UID:496296-1794960000-1795132799@biermann-medizin.de
SUMMARY:European Cancer Summit
DESCRIPTION:Hybrid-Event
URL:https://biermann-medizin.de/veranstaltung/european-cancer-summit/
LOCATION:Brüssel\, Brüssel\, Belgien
CATEGORIES:Onkologie
END:VEVENT
BEGIN:VEVENT
DTSTART;VALUE=DATE:20261118
DTEND;VALUE=DATE:20261121
DTSTAMP:20260421T192722
CREATED:20260413T123303Z
LAST-MODIFIED:20260413T123303Z
UID:496302-1794960000-1795219199@biermann-medizin.de
SUMMARY:38th EORTC – NCI – AACR Symposium
DESCRIPTION:
URL:https://biermann-medizin.de/veranstaltung/38th-eortc-nci-aacr-symposium/
LOCATION:Barcelona International Convention Centre (CCIB)\, Plaça de Willy Brandt 11-14\, Barcelona\, 08019\, Spanien
CATEGORIES:Onkologie
END:VEVENT
BEGIN:VEVENT
DTSTART;VALUE=DATE:20261118
DTEND;VALUE=DATE:20261122
DTSTAMP:20260421T192722
CREATED:20260129T114610Z
LAST-MODIFIED:20260129T114610Z
UID:479797-1794960000-1795305599@biermann-medizin.de
SUMMARY:29. Intensivkurs für Endokrinologie
DESCRIPTION:
URL:https://biermann-medizin.de/veranstaltung/29-intensivkurs-fuer-endokrinologie/
LOCATION:Congress Centrum Würzburg (CCW)\, Turmgasse 11\, Würzburg\, 97070\, Deutschland
CATEGORIES:Diabetologie & Endokrinologie
ORGANIZER;CN="EndoScience Endokrinologie Service GmbH":MAILTO:info@endoscience.de
END:VEVENT
BEGIN:VEVENT
DTSTART;VALUE=DATE:20261118
DTEND;VALUE=DATE:20261122
DTSTAMP:20260421T192722
CREATED:20260129T163025Z
LAST-MODIFIED:20260129T163025Z
UID:479929-1794960000-1795305599@biermann-medizin.de
SUMMARY:Kongress für Kinder- und Jugendmedizin 2026
DESCRIPTION:
URL:https://biermann-medizin.de/veranstaltung/kongress-fuer-kinder-und-jugendmedizin-2026/
LOCATION:Estrel Berlin\, Sonnenallee 225\, Berlin\, 12057\, Deutschland
CATEGORIES:Kinder- und Jugendmedizin
ORGANIZER;CN="m%3Acon %E2%80%93 mannheim%3Acongress GmbH":MAILTO:info@mcon-mannheim.de
END:VEVENT
BEGIN:VEVENT
DTSTART;VALUE=DATE:20261118
DTEND;VALUE=DATE:20261122
DTSTAMP:20260421T192722
CREATED:20260204T120048Z
LAST-MODIFIED:20260204T120048Z
UID:481149-1794960000-1795305599@biermann-medizin.de
SUMMARY:Innere Medizin Refresher Frankfurt (Programm B\, hybrid)
DESCRIPTION:
URL:https://biermann-medizin.de/veranstaltung/innere-medizin-refresher-frankfurt-programm-b-hybrid/
LOCATION:Deutsche Nationalbibliothek Frankfurt am Main\, Adickesallee 1\, Frankfurt am Main\, 60322\, Deutschland
CATEGORIES:Kardiologie,Nephrologie,Onkologie
ORGANIZER;CN="Forum f%C3%BCr medizinische Fortbildung - FomF GmbH":MAILTO:info@fomf.de
END:VEVENT
BEGIN:VEVENT
DTSTART;TZID=Europe/Berlin:20261118T170000
DTEND;TZID=Europe/Berlin:20261118T193000
DTSTAMP:20260421T192722
CREATED:20260317T174302Z
LAST-MODIFIED:20260317T174302Z
UID:491203-1795021200-1795030200@biermann-medizin.de
SUMMARY:Mainzer Augenärztliche Fortbildung: Katarakt- und Refraktivchirurgie
DESCRIPTION:
URL:https://biermann-medizin.de/veranstaltung/mainzer-augenaerztliche-fortbildung-katarakt-und-refraktivchirurgie/
LOCATION:Online
CATEGORIES:Ophthalmologie
ORGANIZER;CN="Universit%C3%A4tsmedizin Mainz%2C Augenklinik und Poliklinik":MAILTO:augen-lehre-fobi@unimedizin-mainz.de
END:VEVENT
BEGIN:VEVENT
DTSTART;VALUE=DATE:20261119
DTEND;VALUE=DATE:20261122
DTSTAMP:20260421T192722
CREATED:20260120T160003Z
LAST-MODIFIED:20260120T160003Z
UID:477401-1795046400-1795305599@biermann-medizin.de
SUMMARY:23. Herbstkongress der Arbeitsgemeinschaft Internistische Onkologie in der Deutschen Krebsgesellschaft
DESCRIPTION:
URL:https://biermann-medizin.de/veranstaltung/23-herbstkongress-der-arbeitsgemeinschaft-internistische-onkologie-in-der-deutschen-krebsgesellschaft/
LOCATION:Dorint Hotel Kurfürstendamm\, Augsburger Straße 41\, Berlin\, 17789
CATEGORIES:Onkologie
ORGANIZER;CN="MCI Deutschland GmbH%2C AIO Herbstkongress":MAILTO:aio-herbstkongress@wearemci.com
END:VEVENT
BEGIN:VEVENT
DTSTART;VALUE=DATE:20261119
DTEND;VALUE=DATE:20261122
DTSTAMP:20260421T192722
CREATED:20260204T121554Z
LAST-MODIFIED:20260204T121554Z
UID:481172-1795046400-1795305599@biermann-medizin.de
SUMMARY:Kardiologie Refresher Berlin
DESCRIPTION:
URL:https://biermann-medizin.de/veranstaltung/kardiologie-refresher-berlin-3/
LOCATION:Auditorium Friedrichstraße\, Quartier 110 Friedrichstraße 180\, Berlin\, 10117\, Deutschland
CATEGORIES:Kardiologie
ORGANIZER;CN="Forum f%C3%BCr medizinische Fortbildung - FomF GmbH":MAILTO:info@fomf.de
END:VEVENT
BEGIN:VEVENT
DTSTART;VALUE=DATE:20261119
DTEND;VALUE=DATE:20261123
DTSTAMP:20260421T192722
CREATED:20260222T154601Z
LAST-MODIFIED:20260222T154601Z
UID:485682-1795046400-1795391999@biermann-medizin.de
SUMMARY:11th International Neonatology Association Conference
DESCRIPTION:
URL:https://biermann-medizin.de/veranstaltung/11th-international-neonatology-association-conference/
LOCATION:Hotel Novotel Amsterdam City\, Europaboulevard 10\, Amsterdam\, AD\, 1083\, Niederlande
CATEGORIES:Kinder- und Jugendmedizin
ORGANIZER;CN="International Neonatology Association":MAILTO:secretariat@worldneonatology.com
END:VEVENT
BEGIN:VEVENT
DTSTART;VALUE=DATE:20261120
DTEND;VALUE=DATE:20261122
DTSTAMP:20260421T192722
CREATED:20251117T142229Z
LAST-MODIFIED:20251117T142229Z
UID:466177-1795132800-1795305599@biermann-medizin.de
SUMMARY:AUO/AKO Intensivkurs Uro-Onkologie 2. Teil
DESCRIPTION:
URL:https://biermann-medizin.de/veranstaltung/auoako-intensivkurs-uro-onkologie-1-teil-2/
LOCATION:Hotel MutterHaus Düsseldorf\, Geschwister-Aufricht-Straße 1\, Düsseldorf\, 40489\, Deutschland
CATEGORIES:Urologie,Onkologie
ORGANIZER;CN="Solution Akademie GmbH":MAILTO:info@solution-akademie.de
END:VEVENT
BEGIN:VEVENT
DTSTART;VALUE=DATE:20261120
DTEND;VALUE=DATE:20261122
DTSTAMP:20260421T192722
CREATED:20260225T155936Z
LAST-MODIFIED:20260225T155936Z
UID:486632-1795132800-1795305599@biermann-medizin.de
SUMMARY:Notfallgäu 2026 – Symposium für präklinische und klinische Notfallmedizin
DESCRIPTION:
URL:https://biermann-medizin.de/veranstaltung/notfallgaeu-2026-symposium-fuer-praeklinische-und-klinische-notfallmedizin/
LOCATION:Stadthalle Memmingen\, Platz der Deutschen Einheit 1\, Memmingen\, 87700\, Deutschland
CATEGORIES:Allgemeinmedizin,Kinder- und Jugendmedizin
ORGANIZER;CN="COCS GmbH %E2%80%93 Congress Organisation C. Sch%C3%A4fer":MAILTO:kongresse@cocs.de
END:VEVENT
BEGIN:VEVENT
DTSTART;VALUE=DATE:20261120
DTEND;VALUE=DATE:20261122
DTSTAMP:20260421T192722
CREATED:20260225T173356Z
LAST-MODIFIED:20260225T173356Z
UID:486635-1795132800-1795305599@biermann-medizin.de
SUMMARY:39. Wissenschaftliches Symposium der Walter-Siegenthaler-Gesellschaft
DESCRIPTION:Themen: \n\nZelluläre Therapie von der Stammzelle bis zur CAR T-Zelle\nImmuncheckpointblockade\nImmunmodulierende Therapie der rheumatoiden Arthritis\nNeue B-Zell-gerichtete Therapien bei Glomerulonephritiden\nInnovative Therapieansätze in der Transplantationsimmunologie\nKardioimmunologie
URL:https://biermann-medizin.de/veranstaltung/39-wissenschaftliches-symposium-der-walter-siegenthaler-gesellschaft/
LOCATION:Hotel Hilton Köln\, Marzellenstraße 13-17\, Köln\, 50668
CATEGORIES:Allgemeinmedizin,Kardiologie
ORGANIZER;CN="COCS GmbH %E2%80%93 Congress Organisation C. Sch%C3%A4fer":MAILTO:kongresse@cocs.de
END:VEVENT
BEGIN:VEVENT
DTSTART;VALUE=DATE:20261120
DTEND;VALUE=DATE:20261122
DTSTAMP:20260421T192722
CREATED:20260312T180114Z
LAST-MODIFIED:20260312T180114Z
UID:490246-1795132800-1795305599@biermann-medizin.de
SUMMARY:Nephrologisches Jahresgespräch
DESCRIPTION:
URL:https://biermann-medizin.de/veranstaltung/nephrologisches-jahresgespraech-2/
LOCATION:Lindner Hotel City Plaza\, Magnusstraße 20\, Köln\, 50672\, Deutschland
CATEGORIES:Nephrologie
ORGANIZER;CN="Berufsverband der Nephrologinnen und Nephrologen in Deutschland e. V.":MAILTO:info@dnev.de
END:VEVENT
BEGIN:VEVENT
DTSTART;VALUE=DATE:20261120
DTEND;VALUE=DATE:20261122
DTSTAMP:20260421T192722
CREATED:20260421T162309Z
LAST-MODIFIED:20260421T162309Z
UID:498276-1795132800-1795305599@biermann-medizin.de
SUMMARY:23. Pneumologie update-Seminar
DESCRIPTION:
URL:https://biermann-medizin.de/veranstaltung/23-pneumologie-update-seminar-2/
LOCATION:AXICA Kongress- und Tagungszentrum\, Pariser Platz 3\, Berlin\, 10117\, Germany
CATEGORIES:Pneumologie
ORGANIZER;CN="med update GmbH":MAILTO:info@med-update.com
END:VEVENT
BEGIN:VEVENT
DTSTART;TZID=Europe/Berlin:20261120T123000
DTEND;TZID=Europe/Berlin:20261120T170000
DTSTAMP:20260421T192722
CREATED:20260324T134822Z
LAST-MODIFIED:20260324T134904Z
UID:492516-1795177800-1795194000@biermann-medizin.de
SUMMARY:Frühzeitige Diagnose des Pankreaskarzinoms
DESCRIPTION:
URL:https://biermann-medizin.de/veranstaltung/fruehzeitige-diagnose-des-pankreaskarzinoms/
LOCATION:Kaiserin Friedrich-Haus\, Robert-Koch-Platz 7\, Berlin\, 10115\, Deutschland
CATEGORIES:Gastroenterologie,Onkologie
ORGANIZER;CN="Klinik f%C3%BCr Gastroenterologie%2C Infektiologie und Rheumatologie - Campus Benjamin Franklin - Charit%C3%A9%3B Prof. Hans Scher%C3%BCbl":MAILTO:hans.scheruebl@charite.de
END:VEVENT
BEGIN:VEVENT
DTSTART;VALUE=DATE:20261124
DTEND;VALUE=DATE:20261126
DTSTAMP:20260421T192722
CREATED:20260413T121650Z
LAST-MODIFIED:20260413T121650Z
UID:496282-1795478400-1795651199@biermann-medizin.de
SUMMARY:Leipzig Immune Oncology Conference
DESCRIPTION:
URL:https://biermann-medizin.de/veranstaltung/leipzig-immune-oncology-conference/
LOCATION:Fraunhofer-Institut für Zelltherapie und Immunologie\, Perlickstraße 1\, Leipzig\, 04103
CATEGORIES:Onkologie
ORGANIZER;CN="event lab. GmbH":MAILTO:info@eventlab.org
END:VEVENT
BEGIN:VEVENT
DTSTART;VALUE=DATE:20261125
DTEND;VALUE=DATE:20261129
DTSTAMP:20260421T192722
CREATED:20260204T112311Z
LAST-MODIFIED:20260204T112311Z
UID:481112-1795564800-1795910399@biermann-medizin.de
SUMMARY:Allgemeinmedizin Refresher München (Programm A\, hybrid)
DESCRIPTION:
URL:https://biermann-medizin.de/veranstaltung/allgemeinmedizin-refresher-muenchen-programm-a-hybrid/
LOCATION:Konferenzzentrum München\, Lazarettstraße 33\, München\, 80636\, Deutschland
CATEGORIES:Allgemeinmedizin
ORGANIZER;CN="Forum f%C3%BCr medizinische Fortbildung - FomF GmbH":MAILTO:info@fomf.de
END:VEVENT
BEGIN:VEVENT
DTSTART;VALUE=DATE:20261126
DTEND;VALUE=DATE:20261129
DTSTAMP:20260421T192722
CREATED:20251030T073525Z
LAST-MODIFIED:20251030T073525Z
UID:461651-1795651200-1795910399@biermann-medizin.de
SUMMARY:Jahrestagung der Deutschen Gesellschaft für pädiatrische und adoleszente Endokrinologie und Diabetologie
DESCRIPTION:
URL:https://biermann-medizin.de/veranstaltung/ja-ped-2-jahrestagung-der-deutschen-gesellschaft-fuer-paediatrische-und-adoleszente-endokrinologie-und-diabetologie-dgpaed-2/
LOCATION:MERCURE Hotel MOA Berlin\, Stephanstraße 41\, Berlin\, Berlin\, 10559\, Deutschland
CATEGORIES:Kinder- und Jugendmedizin,Diabetologie & Endokrinologie
END:VEVENT
BEGIN:VEVENT
DTSTART;VALUE=DATE:20261126
DTEND;VALUE=DATE:20261129
DTSTAMP:20260421T192722
CREATED:20260129T115450Z
LAST-MODIFIED:20260129T115450Z
UID:479804-1795651200-1795910399@biermann-medizin.de
SUMMARY:38. Jahrestagung der Deutschen Gesellschaft für Andrologie
DESCRIPTION:
URL:https://biermann-medizin.de/veranstaltung/38-jahrestagung-der-deutschen-gesellschaft-fuer-andrologie/
LOCATION:Düsseldorf
CATEGORIES:Diabetologie & Endokrinologie
ORGANIZER;CN="Deutsche Gesellschaft f%C3%BCr Andrologie":MAILTO:geschaeftsstelle@dg-andrologie
END:VEVENT
BEGIN:VEVENT
DTSTART;VALUE=DATE:20261126
DTEND;VALUE=DATE:20261129
DTSTAMP:20260421T192722
CREATED:20260203T111056Z
LAST-MODIFIED:20260203T111056Z
UID:480791-1795651200-1795910399@biermann-medizin.de
SUMMARY:Gastroenterologie Refresher
DESCRIPTION:
URL:https://biermann-medizin.de/veranstaltung/gastroenterologie-refresher-5/
LOCATION:ABION Hotel AMERON Spreebogen\, Alt-Moabit 99\, Berlin\, Berlin\, 10559\, Deutschland
CATEGORIES:Gastroenterologie
ORGANIZER;CN="Forum f%C3%BCr medizinische Fortbildung - FomF GmbH":MAILTO:info@fomf.de
END:VEVENT
BEGIN:VEVENT
DTSTART;VALUE=DATE:20261126
DTEND;VALUE=DATE:20261129
DTSTAMP:20260421T192722
CREATED:20260204T174856Z
LAST-MODIFIED:20260204T174856Z
UID:481267-1795651200-1795910399@biermann-medizin.de
SUMMARY:Rheuma Nephro Refresher Hamburg (hybrid)
DESCRIPTION:
URL:https://biermann-medizin.de/veranstaltung/rheuma-nephro-refresher-hamburg-hybrid/
LOCATION:Katholische Akademie Hamburg\, Herrengraben 4\, Hamburg\, 20459\, Deutschland
CATEGORIES:Nephrologie
ORGANIZER;CN="Forum f%C3%BCr medizinische Fortbildung - FomF GmbH":MAILTO:info@fomf.de
END:VEVENT
BEGIN:VEVENT
DTSTART;VALUE=DATE:20261126
DTEND;VALUE=DATE:20261129
DTSTAMP:20260421T192722
CREATED:20260225T173710Z
LAST-MODIFIED:20260225T173710Z
UID:486639-1795651200-1795910399@biermann-medizin.de
SUMMARY:endo-update 2026
DESCRIPTION:
URL:https://biermann-medizin.de/veranstaltung/endo-update-2026/
LOCATION:Kongress am Park Augsburg\, Gögginger Str. 10\, Augsburg\, 86159\, Deutschland
CATEGORIES:Gastroenterologie
ORGANIZER;CN="COCS GmbH %E2%80%93 Congress Organisation C. Sch%C3%A4fer":MAILTO:kongresse@cocs.de
END:VEVENT
BEGIN:VEVENT
DTSTART;VALUE=DATE:20261126
DTEND;VALUE=DATE:20261129
DTSTAMP:20260421T192723
CREATED:20260314T155223Z
LAST-MODIFIED:20260314T155223Z
UID:490492-1795651200-1795910399@biermann-medizin.de
SUMMARY:Jahrestagung der Österreichischen Gesellschaft für Rheumatologie & Rehabilitation
DESCRIPTION:
URL:https://biermann-medizin.de/veranstaltung/jahrestagung-der-oesterreichischen-gesellschaft-fuer-rheumatologie-rehabilitation/
LOCATION:Tech Gate Vienna\, maihiro GmbH\, Donau-City-Straße 1\, Wien\, 1220\, Österreich
CATEGORIES:Allgemeinmedizin,Orthopädie & Unfallchirurgie
ORGANIZER;CN="%C3%84rztezentrale med.info":MAILTO:service@aerztezentrale.co.at
END:VEVENT
BEGIN:VEVENT
DTSTART;VALUE=DATE:20261126
DTEND;VALUE=DATE:20261130
DTSTAMP:20260421T192723
CREATED:20260222T124831Z
LAST-MODIFIED:20260222T124831Z
UID:485637-1795651200-1795996799@biermann-medizin.de
SUMMARY:Refresherkurs Teil 1 Basics: Echokardiographie\, Sonographie und Dopplersonographie in der Neonatologie und pädiatrischen Intensivmedizin
DESCRIPTION:
URL:https://biermann-medizin.de/veranstaltung/refresherkurs-teil-1-basics-echokardiographie-sonographie-und-dopplersonographie-in-der-neonatologie-und-paediatrischen-intensivmedizin-2/
LOCATION:Kinderkrankenhaus St. Marien gGmbH\, Sternstundensaal\, Grillparzerstr. 9\, Landshut\, 84036\, Deutschland
CATEGORIES:Kinder- und Jugendmedizin
ORGANIZER;CN="Kinderkrankenhaus St. Marien":MAILTO:spezialseminar.sono(at)st-marien-la.de
END:VEVENT
BEGIN:VEVENT
DTSTART;VALUE=DATE:20261127
DTEND;VALUE=DATE:20261129
DTSTAMP:20260421T192723
CREATED:20251124T133950Z
LAST-MODIFIED:20251124T133950Z
UID:467780-1795737600-1795910399@biermann-medizin.de
SUMMARY:Kompaktkurs Pädiatrische Allergologie
DESCRIPTION:
URL:https://biermann-medizin.de/veranstaltung/kompaktkurs-paediatrische-allergologie/
LOCATION:Tagungszentrum Kolpinghaus\, Adolf-Kolping-Straße 1\, München\, 80336\, Deutschland
CATEGORIES:Kinder- und Jugendmedizin
ORGANIZER;CN="Arbeitsgemeinschaft P%C3%A4diatrische Allergologie und Pneumologie S%C3%BCd e.V. (AGPAS)":MAILTO:info@agpas.de
END:VEVENT
END:VCALENDAR