BEGIN:VCALENDAR
VERSION:2.0
PRODID:-//Biermann Medizin - ECPv6.9.0//NONSGML v1.0//EN
CALSCALE:GREGORIAN
METHOD:PUBLISH
X-WR-CALNAME:Biermann Medizin
X-ORIGINAL-URL:https://biermann-medizin.de
X-WR-CALDESC:Veranstaltungen für Biermann Medizin
REFRESH-INTERVAL;VALUE=DURATION:PT1H
X-Robots-Tag:noindex
X-PUBLISHED-TTL:PT1H
BEGIN:VTIMEZONE
TZID:Europe/Berlin
BEGIN:DAYLIGHT
TZOFFSETFROM:+0100
TZOFFSETTO:+0200
TZNAME:CEST
DTSTART:20260329T010000
END:DAYLIGHT
BEGIN:STANDARD
TZOFFSETFROM:+0200
TZOFFSETTO:+0100
TZNAME:CET
DTSTART:20261025T010000
END:STANDARD
END:VTIMEZONE
BEGIN:VEVENT
DTSTART;VALUE=DATE:20261124
DTEND;VALUE=DATE:20261126
DTSTAMP:20260421T230005
CREATED:20260413T121650Z
LAST-MODIFIED:20260413T121650Z
UID:496282-1795478400-1795651199@biermann-medizin.de
SUMMARY:Leipzig Immune Oncology Conference
DESCRIPTION:
URL:https://biermann-medizin.de/veranstaltung/leipzig-immune-oncology-conference/
LOCATION:Fraunhofer-Institut für Zelltherapie und Immunologie\, Perlickstraße 1\, Leipzig\, 04103
CATEGORIES:Onkologie
ORGANIZER;CN="event lab. GmbH":MAILTO:info@eventlab.org
END:VEVENT
BEGIN:VEVENT
DTSTART;VALUE=DATE:20261125
DTEND;VALUE=DATE:20261129
DTSTAMP:20260421T230005
CREATED:20260204T112311Z
LAST-MODIFIED:20260204T112311Z
UID:481112-1795564800-1795910399@biermann-medizin.de
SUMMARY:Allgemeinmedizin Refresher München (Programm A\, hybrid)
DESCRIPTION:
URL:https://biermann-medizin.de/veranstaltung/allgemeinmedizin-refresher-muenchen-programm-a-hybrid/
LOCATION:Konferenzzentrum München\, Lazarettstraße 33\, München\, 80636\, Deutschland
CATEGORIES:Allgemeinmedizin
ORGANIZER;CN="Forum f%C3%BCr medizinische Fortbildung - FomF GmbH":MAILTO:info@fomf.de
END:VEVENT
BEGIN:VEVENT
DTSTART;VALUE=DATE:20261126
DTEND;VALUE=DATE:20261129
DTSTAMP:20260421T230005
CREATED:20251030T073525Z
LAST-MODIFIED:20251030T073525Z
UID:461651-1795651200-1795910399@biermann-medizin.de
SUMMARY:Jahrestagung der Deutschen Gesellschaft für pädiatrische und adoleszente Endokrinologie und Diabetologie
DESCRIPTION:
URL:https://biermann-medizin.de/veranstaltung/ja-ped-2-jahrestagung-der-deutschen-gesellschaft-fuer-paediatrische-und-adoleszente-endokrinologie-und-diabetologie-dgpaed-2/
LOCATION:MERCURE Hotel MOA Berlin\, Stephanstraße 41\, Berlin\, Berlin\, 10559\, Deutschland
CATEGORIES:Kinder- und Jugendmedizin,Diabetologie & Endokrinologie
END:VEVENT
BEGIN:VEVENT
DTSTART;VALUE=DATE:20261126
DTEND;VALUE=DATE:20261129
DTSTAMP:20260421T230005
CREATED:20260129T115450Z
LAST-MODIFIED:20260129T115450Z
UID:479804-1795651200-1795910399@biermann-medizin.de
SUMMARY:38. Jahrestagung der Deutschen Gesellschaft für Andrologie
DESCRIPTION:
URL:https://biermann-medizin.de/veranstaltung/38-jahrestagung-der-deutschen-gesellschaft-fuer-andrologie/
LOCATION:Düsseldorf
CATEGORIES:Diabetologie & Endokrinologie
ORGANIZER;CN="Deutsche Gesellschaft f%C3%BCr Andrologie":MAILTO:geschaeftsstelle@dg-andrologie
END:VEVENT
BEGIN:VEVENT
DTSTART;VALUE=DATE:20261126
DTEND;VALUE=DATE:20261129
DTSTAMP:20260421T230005
CREATED:20260203T111056Z
LAST-MODIFIED:20260203T111056Z
UID:480791-1795651200-1795910399@biermann-medizin.de
SUMMARY:Gastroenterologie Refresher
DESCRIPTION:
URL:https://biermann-medizin.de/veranstaltung/gastroenterologie-refresher-5/
LOCATION:ABION Hotel AMERON Spreebogen\, Alt-Moabit 99\, Berlin\, Berlin\, 10559\, Deutschland
CATEGORIES:Gastroenterologie
ORGANIZER;CN="Forum f%C3%BCr medizinische Fortbildung - FomF GmbH":MAILTO:info@fomf.de
END:VEVENT
BEGIN:VEVENT
DTSTART;VALUE=DATE:20261126
DTEND;VALUE=DATE:20261129
DTSTAMP:20260421T230005
CREATED:20260204T174856Z
LAST-MODIFIED:20260204T174856Z
UID:481267-1795651200-1795910399@biermann-medizin.de
SUMMARY:Rheuma Nephro Refresher Hamburg (hybrid)
DESCRIPTION:
URL:https://biermann-medizin.de/veranstaltung/rheuma-nephro-refresher-hamburg-hybrid/
LOCATION:Katholische Akademie Hamburg\, Herrengraben 4\, Hamburg\, 20459\, Deutschland
CATEGORIES:Nephrologie
ORGANIZER;CN="Forum f%C3%BCr medizinische Fortbildung - FomF GmbH":MAILTO:info@fomf.de
END:VEVENT
BEGIN:VEVENT
DTSTART;VALUE=DATE:20261126
DTEND;VALUE=DATE:20261129
DTSTAMP:20260421T230005
CREATED:20260225T173710Z
LAST-MODIFIED:20260225T173710Z
UID:486639-1795651200-1795910399@biermann-medizin.de
SUMMARY:endo-update 2026
DESCRIPTION:
URL:https://biermann-medizin.de/veranstaltung/endo-update-2026/
LOCATION:Kongress am Park Augsburg\, Gögginger Str. 10\, Augsburg\, 86159\, Deutschland
CATEGORIES:Gastroenterologie
ORGANIZER;CN="COCS GmbH %E2%80%93 Congress Organisation C. Sch%C3%A4fer":MAILTO:kongresse@cocs.de
END:VEVENT
BEGIN:VEVENT
DTSTART;VALUE=DATE:20261126
DTEND;VALUE=DATE:20261129
DTSTAMP:20260421T230005
CREATED:20260314T155223Z
LAST-MODIFIED:20260314T155223Z
UID:490492-1795651200-1795910399@biermann-medizin.de
SUMMARY:Jahrestagung der Österreichischen Gesellschaft für Rheumatologie & Rehabilitation
DESCRIPTION:
URL:https://biermann-medizin.de/veranstaltung/jahrestagung-der-oesterreichischen-gesellschaft-fuer-rheumatologie-rehabilitation/
LOCATION:Tech Gate Vienna\, maihiro GmbH\, Donau-City-Straße 1\, Wien\, 1220\, Österreich
CATEGORIES:Allgemeinmedizin,Orthopädie & Unfallchirurgie
ORGANIZER;CN="%C3%84rztezentrale med.info":MAILTO:service@aerztezentrale.co.at
END:VEVENT
BEGIN:VEVENT
DTSTART;VALUE=DATE:20261126
DTEND;VALUE=DATE:20261130
DTSTAMP:20260421T230005
CREATED:20260222T124831Z
LAST-MODIFIED:20260222T124831Z
UID:485637-1795651200-1795996799@biermann-medizin.de
SUMMARY:Refresherkurs Teil 1 Basics: Echokardiographie\, Sonographie und Dopplersonographie in der Neonatologie und pädiatrischen Intensivmedizin
DESCRIPTION:
URL:https://biermann-medizin.de/veranstaltung/refresherkurs-teil-1-basics-echokardiographie-sonographie-und-dopplersonographie-in-der-neonatologie-und-paediatrischen-intensivmedizin-2/
LOCATION:Kinderkrankenhaus St. Marien gGmbH\, Sternstundensaal\, Grillparzerstr. 9\, Landshut\, 84036\, Deutschland
CATEGORIES:Kinder- und Jugendmedizin
ORGANIZER;CN="Kinderkrankenhaus St. Marien":MAILTO:spezialseminar.sono(at)st-marien-la.de
END:VEVENT
BEGIN:VEVENT
DTSTART;VALUE=DATE:20261127
DTEND;VALUE=DATE:20261129
DTSTAMP:20260421T230005
CREATED:20251124T133950Z
LAST-MODIFIED:20251124T133950Z
UID:467780-1795737600-1795910399@biermann-medizin.de
SUMMARY:Kompaktkurs Pädiatrische Allergologie
DESCRIPTION:
URL:https://biermann-medizin.de/veranstaltung/kompaktkurs-paediatrische-allergologie/
LOCATION:Tagungszentrum Kolpinghaus\, Adolf-Kolping-Straße 1\, München\, 80336\, Deutschland
CATEGORIES:Kinder- und Jugendmedizin
ORGANIZER;CN="Arbeitsgemeinschaft P%C3%A4diatrische Allergologie und Pneumologie S%C3%BCd e.V. (AGPAS)":MAILTO:info@agpas.de
END:VEVENT
BEGIN:VEVENT
DTSTART;VALUE=DATE:20261127
DTEND;VALUE=DATE:20261129
DTSTAMP:20260421T230005
CREATED:20260203T121253Z
LAST-MODIFIED:20260203T121253Z
UID:480840-1795737600-1795910399@biermann-medizin.de
SUMMARY:Diabetes Refresher
DESCRIPTION:
URL:https://biermann-medizin.de/veranstaltung/diabetes-refresher-4/
LOCATION:KOMED im Mediapark\, Im MediaPark 6\, Köln\, 50670\, Germany
CATEGORIES:Diabetologie & Endokrinologie
ORGANIZER;CN="Forum f%C3%BCr medizinische Fortbildung - FomF GmbH":MAILTO:info@fomf.de
END:VEVENT
BEGIN:VEVENT
DTSTART;VALUE=DATE:20261127
DTEND;VALUE=DATE:20261129
DTSTAMP:20260421T230005
CREATED:20260216T133211Z
LAST-MODIFIED:20260216T133211Z
UID:483878-1795737600-1795910399@biermann-medizin.de
SUMMARY:Pulmonale Rehabilitation – Digitalisierung und künstliche Intelligenz\, Friend or Foe?
DESCRIPTION:Themen: Digitalisierung & KI neu denken: Wie moderne Technologien die pneumologische Rehabilitation transformieren / Praxis\, die wirkt: Workshops mit konkreten Tools\, Methoden und Innovationen für den Arbeitsalltag / Impulse von führenden Expertinnen und Experten: Zukunftstrends\, State-of-the-Art-Wissen und klare Orientierung für die Praxis
URL:https://biermann-medizin.de/veranstaltung/pulmonale-rehabilitation-digitalisierung-und-kuenstliche-intelligenz-friend-or-foe/
LOCATION:Hotel Einstein St. Gallen Hotel Congress Spa\, Berneggstrasse 2\, St. Gallen\, 9000\, Schweiz
CATEGORIES:Pneumologie
ORGANIZER;CN="Klinikgruppe Valens":MAILTO:info@kliniken-valens.ch
END:VEVENT
BEGIN:VEVENT
DTSTART;VALUE=DATE:20261127
DTEND;VALUE=DATE:20261129
DTSTAMP:20260421T230005
CREATED:20260415T141748Z
LAST-MODIFIED:20260415T141748Z
UID:497101-1795737600-1795910399@biermann-medizin.de
SUMMARY:8. Kardio Intermezzo
DESCRIPTION:
URL:https://biermann-medizin.de/veranstaltung/8-kardio-intermezzo/
LOCATION:Stadthalle Bad Neustadt\, An der Stadthalle 4\, Bad Neustadt a. d. Saale\, 97616
CATEGORIES:Kardiologie
ORGANIZER;CN="KelCon GmbH":MAILTO:info@kelcon.de
END:VEVENT
BEGIN:VEVENT
DTSTART;VALUE=DATE:20261127
DTEND;VALUE=DATE:20261129
DTSTAMP:20260421T230005
CREATED:20260421T162627Z
LAST-MODIFIED:20260421T162627Z
UID:498278-1795737600-1795910399@biermann-medizin.de
SUMMARY:D-A-CH-Kongress: Pulmonale Reha
DESCRIPTION:
URL:https://biermann-medizin.de/veranstaltung/d-a-ch-kongress-pulmonale-reha/
LOCATION:Hotel Einstein St. Gallen Hotel Congress Spa\, Berneggstrasse 2\, St. Gallen\, 9000\, Schweiz
CATEGORIES:Pneumologie
ORGANIZER;CN="Klinikgruppe Valens":MAILTO:info@kliniken-valens.ch
END:VEVENT
BEGIN:VEVENT
DTSTART;VALUE=DATE:20261202
DTEND;VALUE=DATE:20261205
DTSTAMP:20260421T230005
CREATED:20260128T175455Z
LAST-MODIFIED:20260128T175455Z
UID:479573-1796169600-1796428799@biermann-medizin.de
SUMMARY:26. Kongress der Deutschen Interdisziplinären Vereinigung für Intensiv- und Notfallmedizin e. V.
DESCRIPTION:
URL:https://biermann-medizin.de/veranstaltung/26-kongress-der-deutschen-interdisziplinaeren-vereinigung-fuer-intensiv-und-notfallmedizin-e-v/
LOCATION:Congress Center Hamburg (CCH)\, Am Dammtor/Marseiller Straße\, Hamburg\, 20355\, Deutschland
CATEGORIES:Anästhesiologie & Intensivmedizin
ORGANIZER;CN="Deutsche Interdisziplin%C3%A4re Vereinigung f%C3%BCr Intensiv- und Notfallmedizin (DIVI) e.V.":MAILTO:info@divi.de
END:VEVENT
BEGIN:VEVENT
DTSTART;VALUE=DATE:20261202
DTEND;VALUE=DATE:20261205
DTSTAMP:20260421T230005
CREATED:20260220T164908Z
LAST-MODIFIED:20260220T164908Z
UID:485515-1796169600-1796428799@biermann-medizin.de
SUMMARY:26. Kongress der Deutschen Interdisziplinären Vereinigung für Intensiv- und Notfallmedizin
DESCRIPTION:
URL:https://biermann-medizin.de/veranstaltung/26-kongress-der-deutschen-interdisziplinaeren-vereinigung-fuer-intensiv-und-notfallmedizin/
LOCATION:Congress Center Hamburg (CCH)\, Am Dammtor/Marseiller Straße\, Hamburg\, 20355\, Deutschland
CATEGORIES:Pneumologie,Kardiologie
ORGANIZER;CN="Deutsche Interdisziplin%C3%A4re Vereinigung f%C3%BCr Intensiv- und Notfallmedizin (DIVI) e.V.":MAILTO:info@divi.de
END:VEVENT
BEGIN:VEVENT
DTSTART;VALUE=DATE:20261202
DTEND;VALUE=DATE:20261206
DTSTAMP:20260421T230005
CREATED:20260204T112516Z
LAST-MODIFIED:20260204T112516Z
UID:481116-1796169600-1796515199@biermann-medizin.de
SUMMARY:Allgemeinmedizin Refresher Berlin (Programm A\, hybrid)
DESCRIPTION:
URL:https://biermann-medizin.de/veranstaltung/allgemeinmedizin-refresher-berlin-programm-a-hybrid/
LOCATION:Langenbeck-Virchow-Haus\, Berlin\, Luisenstraße 58/59\, Berlin\, Berlin\, 10117\, Deutschland
CATEGORIES:Allgemeinmedizin
ORGANIZER;CN="Forum f%C3%BCr medizinische Fortbildung - FomF GmbH":MAILTO:info@fomf.de
END:VEVENT
BEGIN:VEVENT
DTSTART;TZID=Europe/Berlin:20261202T170000
DTEND;TZID=Europe/Berlin:20261202T193000
DTSTAMP:20260421T230005
CREATED:20260317T174600Z
LAST-MODIFIED:20260317T174600Z
UID:491205-1796230800-1796239800@biermann-medizin.de
SUMMARY:Mainzer Augenärztliche Fortbildung: Kinder- und Neuroophthalmologie
DESCRIPTION:
URL:https://biermann-medizin.de/veranstaltung/mainzer-augenaerztliche-fortbildung-kinder-und-neuroophthalmologie/
LOCATION:Online
CATEGORIES:Ophthalmologie
ORGANIZER;CN="Universit%C3%A4tsmedizin Mainz%2C Augenklinik und Poliklinik":MAILTO:augen-lehre-fobi@unimedizin-mainz.de
END:VEVENT
BEGIN:VEVENT
DTSTART;TZID=Europe/Berlin:20261202T180000
DTEND;TZID=Europe/Berlin:20261202T213000
DTSTAMP:20260421T230005
CREATED:20251117T143054Z
LAST-MODIFIED:20251117T143054Z
UID:466191-1796234400-1796247000@biermann-medizin.de
SUMMARY:Uro- Onkologisches Winter- Symposium
DESCRIPTION:
URL:https://biermann-medizin.de/veranstaltung/uro-onkologisches-winter-symposium-3/
LOCATION:Media Docks Lübeck\, Willy-Brandt-Allee 31\, Lübeck\, 23554\, Deutschland
CATEGORIES:Urologie,Anästhesiologie & Intensivmedizin,Onkologie
ORGANIZER;CN="Solution Akademie GmbH":MAILTO:info@solution-akademie.de
END:VEVENT
BEGIN:VEVENT
DTSTART;VALUE=DATE:20261203
DTEND;VALUE=DATE:20261205
DTSTAMP:20260421T230005
CREATED:20260222T155310Z
LAST-MODIFIED:20260222T155310Z
UID:485688-1796256000-1796428799@biermann-medizin.de
SUMMARY:09. Nürnberger Wundkongress
DESCRIPTION:
URL:https://biermann-medizin.de/veranstaltung/09-nuernberger-wundkongress/
LOCATION:Meistersingerhalle Nürnberg\, Münchener Straße 21\, Nürnberg\, 90478\, Deutschland
CATEGORIES:Derma,wichtige Veranstaltungen,Allgemeinmedizin,Anästhesiologie & Intensivmedizin,Kinder- und Jugendmedizin
ORGANIZER;CN="Conventus Congressmanagement & Marketing GmbH":MAILTO:post@conventus.de
END:VEVENT
BEGIN:VEVENT
DTSTART;VALUE=DATE:20261203
DTEND;VALUE=DATE:20261206
DTSTAMP:20260421T230005
CREATED:20260127T181155Z
LAST-MODIFIED:20260127T181706Z
UID:478966-1796256000-1796515199@biermann-medizin.de
SUMMARY:XIX EUGA Annual Congress 2026
DESCRIPTION:
URL:https://biermann-medizin.de/veranstaltung/xix-euga-annual-meeting/
LOCATION:Megaron Athens International Congress Center\, Leoforos Vasilissis Sofias and\, Petrou Kokkali 1\, Athina\, 115 21
CATEGORIES:Urologie,Gynäkologie
ORGANIZER;CN="European Urogynaecological Association":MAILTO:info@eugaoffice.org
END:VEVENT
BEGIN:VEVENT
DTSTART;VALUE=DATE:20261203
DTEND;VALUE=DATE:20261206
DTSTAMP:20260421T230005
CREATED:20260203T180801Z
LAST-MODIFIED:20260203T180801Z
UID:480957-1796256000-1796515199@biermann-medizin.de
SUMMARY:Pädiatrie Refresher Köln (hybrid)
DESCRIPTION:
URL:https://biermann-medizin.de/veranstaltung/paediatrie-refresher-koeln-hybrid/
LOCATION:KOMED im Mediapark\, Im MediaPark 6\, Köln\, 50670\, Germany
CATEGORIES:Kinder- und Jugendmedizin
ORGANIZER;CN="Forum f%C3%BCr medizinische Fortbildung - FomF GmbH":MAILTO:info@fomf.de
END:VEVENT
BEGIN:VEVENT
DTSTART;VALUE=DATE:20261203
DTEND;VALUE=DATE:20261206
DTSTAMP:20260421T230005
CREATED:20260204T175102Z
LAST-MODIFIED:20260204T175102Z
UID:481276-1796256000-1796515199@biermann-medizin.de
SUMMARY:Rheuma Nephro Refresher München (hybrid)
DESCRIPTION:
URL:https://biermann-medizin.de/veranstaltung/rheuma-nephro-refresher-muenchen-hybrid/
LOCATION:Konferenzzentrum München\, Lazarettstraße 33\, München\, 80636\, Deutschland
CATEGORIES:Nephrologie
ORGANIZER;CN="Forum f%C3%BCr medizinische Fortbildung - FomF GmbH":MAILTO:info@fomf.de
END:VEVENT
BEGIN:VEVENT
DTSTART;VALUE=DATE:20261203
DTEND;VALUE=DATE:20261206
DTSTAMP:20260421T230005
CREATED:20260331T125057Z
LAST-MODIFIED:20260331T125057Z
UID:493979-1796256000-1796515199@biermann-medizin.de
SUMMARY:Menopause – Andropause – Anti-Aging
DESCRIPTION:
URL:https://biermann-medizin.de/veranstaltung/menopause-andropause-anti-aging/
LOCATION:Austria Trend Hotel Savoyen Vienna\, Rennweg 16\, Wien\, 1030\, Österreich
CATEGORIES:Gynäkologie
ORGANIZER;CN="Columbus Congress &amp%3B Events":MAILTO:menopause@columbus.at
END:VEVENT
BEGIN:VEVENT
DTSTART;VALUE=DATE:20261204
DTEND;VALUE=DATE:20261206
DTSTAMP:20260421T230005
CREATED:20251117T142325Z
LAST-MODIFIED:20251117T142325Z
UID:466179-1796342400-1796515199@biermann-medizin.de
SUMMARY:AUO/AKO Intensivkurs Uro-Onkologie 3. Teil
DESCRIPTION:
URL:https://biermann-medizin.de/veranstaltung/auoako-intensivkurs-uro-onkologie-1-teil-2-2/
LOCATION:Hotel MutterHaus Düsseldorf\, Geschwister-Aufricht-Straße 1\, Düsseldorf\, 40489\, Deutschland
CATEGORIES:Urologie,Onkologie
ORGANIZER;CN="Solution Akademie GmbH":MAILTO:info@solution-akademie.de
END:VEVENT
BEGIN:VEVENT
DTSTART;VALUE=DATE:20261205
DTEND;VALUE=DATE:20261207
DTSTAMP:20260421T230005
CREATED:20260220T132712Z
LAST-MODIFIED:20260220T132712Z
UID:485455-1796428800-1796601599@biermann-medizin.de
SUMMARY:Pediatric Advanced Life Support – Provider Kurs
DESCRIPTION:
URL:https://biermann-medizin.de/veranstaltung/pediatric-advanced-life-support-provider-kurs-7/
LOCATION:Trainingscenter ReAlive\, Landsteiner Straße 4\, Würzburg\, 97074
CATEGORIES:Kinder- und Jugendmedizin
ORGANIZER;CN="ReAlive%C2%AE GbR":MAILTO:info@re-alive.de
END:VEVENT
BEGIN:VEVENT
DTSTART;VALUE=DATE:20261209
DTEND;VALUE=DATE:20261211
DTSTAMP:20260421T230005
CREATED:20250908T084845Z
LAST-MODIFIED:20260406T150332Z
UID:449102-1796774400-1796947199@biermann-medizin.de
SUMMARY:8. Global Urticaria Forum
DESCRIPTION:
URL:https://biermann-medizin.de/veranstaltung/8-global-urticaria-forum/
LOCATION:Langenbeck-Virchow-Haus\, Berlin\, Luisenstraße 58/59\, Berlin\, Berlin\, 10117\, Deutschland
CATEGORIES:Dermatologie & Allergologie
ORGANIZER;CN="Remember Management GmbH%2C GA2LEN Global Urticaria Forum":MAILTO:guf@remember-management.de
END:VEVENT
BEGIN:VEVENT
DTSTART;VALUE=DATE:20261209
DTEND;VALUE=DATE:20261213
DTSTAMP:20260421T230005
CREATED:20260204T120332Z
LAST-MODIFIED:20260204T120332Z
UID:481156-1796774400-1797119999@biermann-medizin.de
SUMMARY:Innere Medizin Refresher Köln (Programm A\, hybrid)
DESCRIPTION:
URL:https://biermann-medizin.de/veranstaltung/innere-medizin-refresher-koeln-programm-a-hybrid/
LOCATION:KOMED im Mediapark\, Im MediaPark 6\, Köln\, 50670\, Germany
CATEGORIES:Kardiologie,Nephrologie,Onkologie
ORGANIZER;CN="Forum f%C3%BCr medizinische Fortbildung - FomF GmbH":MAILTO:info@fomf.de
END:VEVENT
BEGIN:VEVENT
DTSTART;TZID=Europe/Berlin:20261209T080000
DTEND;TZID=Europe/Berlin:20261212T170000
DTSTAMP:20260421T230005
CREATED:20260204T115404Z
LAST-MODIFIED:20260204T115404Z
UID:481118-1796803200-1797094800@biermann-medizin.de
SUMMARY:Allgemeinmedizin Refresher Stuttgart (Programm B\, hybrid)
DESCRIPTION:
URL:https://biermann-medizin.de/veranstaltung/allgemeinmedizin-refresher-stuttgart-programm-b-hybrid/
LOCATION:GENO-Haus Stuttgart GmbH & Co. KG Verwaltungsgesellschaft\, Heilbronner Straße 41\, Stuttgart\, Baden-Württemberg\, 70191\, Deutschland
CATEGORIES:Allgemeinmedizin
ORGANIZER;CN="Forum f%C3%BCr medizinische Fortbildung - FomF GmbH":MAILTO:info@fomf.de
END:VEVENT
BEGIN:VEVENT
DTSTART;VALUE=DATE:20261211
DTEND;VALUE=DATE:20261213
DTSTAMP:20260421T230005
CREATED:20260203T132024Z
LAST-MODIFIED:20260203T132024Z
UID:480871-1796947200-1797119999@biermann-medizin.de
SUMMARY:Hämato/Onko Refresher Berlin
DESCRIPTION:
URL:https://biermann-medizin.de/veranstaltung/haematoonko-refresher-berlin/
LOCATION:ABION Hotel AMERON Spreebogen\, Alt-Moabit 99\, Berlin\, Berlin\, 10559\, Deutschland
CATEGORIES:Gastroenterologie,Onkologie
ORGANIZER;CN="Forum f%C3%BCr medizinische Fortbildung - FomF GmbH":MAILTO:info@fomf.de
END:VEVENT
END:VCALENDAR