BEGIN:VCALENDAR
VERSION:2.0
PRODID:-//Biermann Medizin - ECPv6.9.0//NONSGML v1.0//EN
CALSCALE:GREGORIAN
METHOD:PUBLISH
X-WR-CALNAME:Biermann Medizin
X-ORIGINAL-URL:https://biermann-medizin.de
X-WR-CALDESC:Veranstaltungen für Biermann Medizin
REFRESH-INTERVAL;VALUE=DURATION:PT1H
X-Robots-Tag:noindex
X-PUBLISHED-TTL:PT1H
BEGIN:VTIMEZONE
TZID:Europe/Berlin
BEGIN:DAYLIGHT
TZOFFSETFROM:+0100
TZOFFSETTO:+0200
TZNAME:CEST
DTSTART:20270328T010000
END:DAYLIGHT
BEGIN:STANDARD
TZOFFSETFROM:+0200
TZOFFSETTO:+0100
TZNAME:CET
DTSTART:20271031T010000
END:STANDARD
END:VTIMEZONE
BEGIN:VEVENT
DTSTART;VALUE=DATE:20270121
DTEND;VALUE=DATE:20270124
DTSTAMP:20260422T042919
CREATED:20260204T131000Z
LAST-MODIFIED:20260204T131000Z
UID:481205-1800489600-1800748799@biermann-medizin.de
SUMMARY:Psychiatrie und Psychotherapie Refresher München (hybrid)
DESCRIPTION:
URL:https://biermann-medizin.de/veranstaltung/psychiatrie-und-psychotherapie-refresher-muenchen-hybrid/
LOCATION:Konferenzzentrum München\, Lazarettstraße 33\, München\, 80636\, Deutschland
CATEGORIES:Neurologie & Psychiatrie
ORGANIZER;CN="Forum f%C3%BCr medizinische Fortbildung - FomF GmbH":MAILTO:info@fomf.de
END:VEVENT
BEGIN:VEVENT
DTSTART;VALUE=DATE:20270127
DTEND;VALUE=DATE:20270131
DTSTAMP:20260422T042919
CREATED:20260204T120627Z
LAST-MODIFIED:20260204T120627Z
UID:481163-1801008000-1801353599@biermann-medizin.de
SUMMARY:Innere Medizin Refresher Berlin (Programm A\, hybrid)
DESCRIPTION:
URL:https://biermann-medizin.de/veranstaltung/innere-medizin-refresher-berlin-programm-a-hybrid/
LOCATION:Berlin
CATEGORIES:Kardiologie,Nephrologie,Onkologie
ORGANIZER;CN="Forum f%C3%BCr medizinische Fortbildung - FomF GmbH":MAILTO:info@fomf.de
END:VEVENT
BEGIN:VEVENT
DTSTART;VALUE=DATE:20270128
DTEND;VALUE=DATE:20270131
DTSTAMP:20260422T042919
CREATED:20260203T180241Z
LAST-MODIFIED:20260203T180241Z
UID:480953-1801094400-1801353599@biermann-medizin.de
SUMMARY:Infektiologie Refresher München (hybrid)
DESCRIPTION:
URL:https://biermann-medizin.de/veranstaltung/infektiologie-refresher-muenchen-hybrid/
LOCATION:München
CATEGORIES:Infektiologie
ORGANIZER;CN="Forum f%C3%BCr medizinische Fortbildung - FomF GmbH":MAILTO:info@fomf.de
END:VEVENT
BEGIN:VEVENT
DTSTART;VALUE=DATE:20270226
DTEND;VALUE=DATE:20270228
DTSTAMP:20260422T042919
CREATED:20260203T121752Z
LAST-MODIFIED:20260203T121752Z
UID:480844-1803600000-1803772799@biermann-medizin.de
SUMMARY:Diabetes Refresher
DESCRIPTION:
URL:https://biermann-medizin.de/veranstaltung/diabetes-refresher-7/
LOCATION:ABION Hotel AMERON Spreebogen\, Alt-Moabit 99\, Berlin\, Berlin\, 10559\, Deutschland
CATEGORIES:Diabetologie & Endokrinologie
ORGANIZER;CN="Forum f%C3%BCr medizinische Fortbildung - FomF GmbH":MAILTO:info@fomf.de
END:VEVENT
BEGIN:VEVENT
DTSTART;VALUE=DATE:20270302
DTEND;VALUE=DATE:20270306
DTSTAMP:20260422T042919
CREATED:20260411T134143Z
LAST-MODIFIED:20260411T134143Z
UID:496051-1803945600-1804291199@biermann-medizin.de
SUMMARY:71st Annual Meeting of the Society of Thrombosis and Haemostasis Research
DESCRIPTION:
URL:https://biermann-medizin.de/veranstaltung/71st-annual-meeting-of-the-society-of-thrombosis-and-haemostasis-research/
LOCATION:Congress Center Hamburg (CCH)\, Am Dammtor/Marseiller Straße\, Hamburg\, 20355\, Deutschland
CATEGORIES:Labormedizin,Anästhesiologie & Intensivmedizin,Onkologie
ORGANIZER;CN="GTH Gesellschaft f%C3%BCr Thrombose- und H%C3%A4mostaseforschung e.V.":MAILTO:mail@gth-online.org
END:VEVENT
BEGIN:VEVENT
DTSTART;VALUE=DATE:20270303
DTEND;VALUE=DATE:20270307
DTSTAMP:20260422T042919
CREATED:20260327T124427Z
LAST-MODIFIED:20260327T124427Z
UID:493288-1804032000-1804377599@biermann-medizin.de
SUMMARY:67. Kongress der Deutschen Gesellschaft für Pneumologie und Beatmungsmedizin
DESCRIPTION:Tagungstitel: “Frauen voran: Neue Perspektiven für die Pneumologie von morgen”
URL:https://biermann-medizin.de/veranstaltung/67-kongress-der-deutschen-gesellschaft-fuer-pneumologie-und-beatmungsmedizin/
LOCATION:Köln\, Köln\, 50667\, Deutschland
CATEGORIES:Pneumologie,wichtige Veranstaltungen
ORGANIZER;CN="Deutsche Gesellschaft f%C3%BCr Pneumologie und Beatmungsmedizin e.V. (DGP)":MAILTO:info@pneumologie.de
END:VEVENT
BEGIN:VEVENT
DTSTART;VALUE=DATE:20270310
DTEND;VALUE=DATE:20270313
DTSTAMP:20260422T042919
CREATED:20260129T115731Z
LAST-MODIFIED:20260129T115731Z
UID:479808-1804636800-1804895999@biermann-medizin.de
SUMMARY:70. Deutscher Kongress für Endokrinologie
DESCRIPTION:
URL:https://biermann-medizin.de/veranstaltung/70-deutscher-kongress-fuer-endokrinologie/
LOCATION:Stadthalle Bielefeld\, Willy Brandt Platz 1\, Bielefeld\, 33602\, Deutschland
CATEGORIES:Diabetologie & Endokrinologie
ORGANIZER;CN="EndoScience Endokrinologie Service GmbH":MAILTO:info@endoscience.de
END:VEVENT
BEGIN:VEVENT
DTSTART;VALUE=DATE:20270516
DTEND;VALUE=DATE:20270521
DTSTAMP:20260422T042919
CREATED:20251103T141216Z
LAST-MODIFIED:20251103T141216Z
UID:462530-1810425600-1810857599@biermann-medizin.de
SUMMARY:27th European Congress of Clinical Chemistry and Laboratory Medicine
DESCRIPTION:
URL:https://biermann-medizin.de/veranstaltung/27th-european-congress-of-clinical-chemistry-and-laboratory-medicine/
LOCATION:Exhibition Centre London (ExCeL London)\, 1 Western Gateway\, London\, E16 1XL\, Großbritannien (Vereinigtes Königreich)
CATEGORIES:Labormedizin
ORGANIZER;CN="European Federation of Clinical Chemistry and Laboratory Medicine (EFLM)":MAILTO:eflm@eflm.eu
END:VEVENT
BEGIN:VEVENT
DTSTART;VALUE=DATE:20270611
DTEND;VALUE=DATE:20270613
DTSTAMP:20260422T042919
CREATED:20260327T131226Z
LAST-MODIFIED:20260327T131226Z
UID:493297-1812672000-1812844799@biermann-medizin.de
SUMMARY:Respiratory Innovation Summit 2027
DESCRIPTION:Tagungstitel: “KI und digitale Transformation: Die Zukunft in der Pneumologie” \nThemen: Die Zukunft der Pneumologie: Wie digitale Medizin unsere Versorgung neu definiert / KI in der Diagnostik / Telemonitoring& smarte Devices / Digitale Versorgungskonzepte / Open-Space Innovation Forum / Politik & Kostenträger im Dialog
URL:https://biermann-medizin.de/veranstaltung/respiratory-innovation-summit-2027/
LOCATION:Berlin
CATEGORIES:Pneumologie,wichtige Veranstaltungen
ORGANIZER;CN="wikonect%2C Nadine H%C3%BCtt":MAILTO:nadine.huett@wikonect.de
END:VEVENT
BEGIN:VEVENT
DTSTART;VALUE=DATE:20270824
DTEND;VALUE=DATE:20270828
DTSTAMP:20260422T042919
CREATED:20241217T071014Z
LAST-MODIFIED:20241217T071014Z
UID:396818-1819065600-1819411199@biermann-medizin.de
SUMMARY:Jahrestagung 2027 der Schweizerischen Gesellschaft für Dermatologie und Venerologie
DESCRIPTION:
URL:https://biermann-medizin.de/veranstaltung/jahrestagung-2026-der-schweizerischen-gesellschaft-fuer-dermatologie-und-venerologie-2/
LOCATION:Palexpo Geneva – Le Grand-Saconnex\, Route François-Peyrot 30\, Le Grand-Saconnex\, 1218\, Schweiz
CATEGORIES:Derma,Dermatologie & Allergologie
ORGANIZER;CN="Schweizerische Gesellschaft f%C3%BCr Dermatologie und Venerologie (SGDV)":MAILTO:sgdv-ssdv@hin.ch
END:VEVENT
BEGIN:VEVENT
DTSTART;VALUE=DATE:20270904
DTEND;VALUE=DATE:20270909
DTSTAMP:20260422T042919
CREATED:20250902T090828Z
LAST-MODIFIED:20250902T090828Z
UID:448041-1820016000-1820447999@biermann-medizin.de
SUMMARY:39th European Congress of Pathology
DESCRIPTION:Themen: Autopsiepathologie / Brustpathologie / Herz-Kreislauf-Pathologie / Zytopathologie / Dermatopathologie / Pathologie der Verdauungskrankheiten / Digitale und computergestützte Pathologie/ Elektronenmikroskopie / Endokrine Pathologie / Gynäkologische Pathologie / Hämatopathologie / Kopf-Hals-Pathologie / Geschichte der Pathologie / Infektionspathologie / Molekularpathologie / Nephropathologie / Neuropathologie / Ophthalmologische Pathologie / Pädiatrische und perinatale Pathologie / Pathologie für Entwicklungsländer / Lungenpathologie / Weichteil- und Knochenpathologie / Thymus- und Mediastinalpathologie / Uropathologie
URL:https://biermann-medizin.de/veranstaltung/39th-european-congress-of-pathology/
LOCATION:Maastrichts Expositie en Congres Centrum MECC\, Forum 100\, Maastricht\, 6229 GV\, Netherlands
CATEGORIES:Pneumologie,Derma,Urologie,wichtige Veranstaltungen,Labormedizin,Kinder- und Jugendmedizin,Dermatologie & Allergologie,Diabetologie & Endokrinologie,Gastroenterologie,Gynäkologie,Hals-Nasen-Ohren-Heilkunde,Kardiologie,Nephrologie,Onkologie,Ophthalmologie,Orthopädie & Unfallchirurgie
ORGANIZER;CN="European Society of Pathology":MAILTO:admin@esp-pathology.org
END:VEVENT
END:VCALENDAR